From mboxrd@z Thu Jan 1 00:00:00 1970 Return-Path: Received: from mails.dpdk.org (mails.dpdk.org [217.70.189.124]) by inbox.dpdk.org (Postfix) with ESMTP id 6761348881 for ; Wed, 1 Oct 2025 14:49:24 +0200 (CEST) Received: from mails.dpdk.org (localhost [127.0.0.1]) by mails.dpdk.org (Postfix) with ESMTP id 305EF40B9D; Wed, 1 Oct 2025 14:49:24 +0200 (CEST) Received: from mail-pl1-f228.google.com (mail-pl1-f228.google.com [209.85.214.228]) by mails.dpdk.org (Postfix) with ESMTP id 985B240B9D for ; Wed, 1 Oct 2025 14:49:22 +0200 (CEST) Received: by mail-pl1-f228.google.com with SMTP id d9443c01a7336-279e2554b5fso8325545ad.1 for ; Wed, 01 Oct 2025 05:49:22 -0700 (PDT) DKIM-Signature: v=1; a=rsa-sha256; c=relaxed/relaxed; d=iol.unh.edu; s=unh-iol; t=1759322962; x=1759927762; darn=dpdk.org; h=references:in-reply-to:cc:to:from:subject:message-id:date:from:to :cc:subject:date:message-id:reply-to; bh=t6BWWY5Jl05fO0T2EqHwQqGuPmvophaU7rp+pbckB8o=; b=RT1hB7ifmwdikAr356/byGrpU9PIxhan0HeYqtBNjCJOgg0NUjj7MPsFgrSQVCEToo vYA0TPbmEiW/TQC1EW6o3r95zE0Gr/5Fu5W090CoTB2gPNorkpCRLTraHjOs9+Tyq31N W9S46uXNcRLOmTyU0cGn5G3sde4b4TV4jPjO8= X-Google-DKIM-Signature: v=1; a=rsa-sha256; c=relaxed/relaxed; d=1e100.net; s=20230601; t=1759322962; x=1759927762; h=references:in-reply-to:cc:to:from:subject:message-id:date :x-gm-message-state:from:to:cc:subject:date:message-id:reply-to; bh=t6BWWY5Jl05fO0T2EqHwQqGuPmvophaU7rp+pbckB8o=; b=DYLW9zOlQUu+LZX9LXE4PGeDewGftS0+4w5ZukMJgm1qHLo4VYiJjTyo+B6wPc6CQl rTMRdQHNt2Gn2tFuiCxl7R9aMzLaXGc4mrAdS1FEmq0pG/B+a1nMqaPejSGlo+vXTi38 9Z+oC4JZoalil+Co7R77OffwsE2RG978nbDptsMcCexLLzwX1vZq+odIUeI+JHipV0dr isbUVxBQQdrcroQv+dV3uXPVZQruvtYcRWgD025sjdumLu+eUqZK1U18gn2+fGXto1fT sFht7zjeswtM8ErK6a6/8ntB0qchA/nG22LrtM0APpcR2FMz017FiDnmXlRYX/wDmWfd 6NBQ== X-Gm-Message-State: AOJu0YyHAm1cbFKD7WPUaRaNhXQsYTy52lTNyOUweUjvq1OkZUYyJIFR rvMXXVHJzEgfS7TlSIKh+aYJ0vZvb+lh7fivCqsF6vYUP9DpMBaKjXNbs7y3TzTKa8sGOeBUZrP lGCt0E5k/wjhDaaI/c007UyhVi2F0cr18oze17TpLCtiFCMZ0XCXTe/2zkChU X-Gm-Gg: ASbGnctYK+Tw3eOxoadcul0cs5wnaCKhxP2x2l0inCl1ej5VyFr3K4MsTDVOgnzEnwR XhVxTRE6mehSYohmMC9IDmy1vA68AUAHT47+JOltcMztg11ftSpTvPj7tsgElL1ppuv2HxhbfHh te3YGLXMl5e7a8ecLEsLSj89RJXjRbEpXWSoMW7+DqQ1HNAhqqwVWrnnd3zS1EiqYhoYqOKi5vf lDLCQCzgHwxlFawH3J71Hv1OoBaWc1j/svkJwARnH4oPEmjtbmgszr2f+gNqV0cKA0lfhuixlpP 7ANxxH5brGhU4xXu+XIqwqCYbkyobLs8m5uHSiKb4LVGsvuLf+tFaYM= X-Google-Smtp-Source: AGHT+IFYyS5zlytQjYcaGwZAZXI05+8B8LO68d59GPEMtfVws1tCxO97zoA70j6k3QZzhvxdSZP+umVosC3E X-Received: by 2002:a17:903:1904:b0:26e:7ac9:9d3 with SMTP id d9443c01a7336-28d170e948amr99792505ad.18.1759322961725; Wed, 01 Oct 2025 05:49:21 -0700 (PDT) Received: from postal.iol.unh.edu (postal.iol.unh.edu. [2606:4100:3880:1234::84]) by smtp-relay.gmail.com with ESMTPS id d9443c01a7336-27ed6700305sm14644715ad.33.2025.10.01.05.49.21 (version=TLS1_2 cipher=ECDHE-ECDSA-AES128-GCM-SHA256 bits=128/128); Wed, 01 Oct 2025 05:49:21 -0700 (PDT) X-Relaying-Domain: iol.unh.edu Date: Wed, 01 Oct 2025 05:49:21 -0700 (PDT) Message-ID: <68dd2351.170a0220.2ed7d.7534SMTPIN_ADDED_MISSING@mx.google.com> Received: from [172.21.0.2] (unknown [172.18.0.240]) by postal.iol.unh.edu (Postfix) with ESMTP id B4C5B6051830; Wed, 1 Oct 2025 08:49:20 -0400 (EDT) Subject: |SUCCESS| pw157151-157155 [PATCH] [v3,5/5] usertools/mbuf: parse mbu From: dpdklab@iol.unh.edu To: Test Report Cc: dpdk-test-reports@iol.unh.edu In-Reply-To: <20250930233828.3999565-6-thomas@monjalon.net> References: <20250930233828.3999565-6-thomas@monjalon.net> Content-Type: text/plain X-BeenThere: test-report@dpdk.org X-Mailman-Version: 2.1.29 Precedence: list List-Id: automatic DPDK test reports List-Unsubscribe: , List-Archive: List-Post: List-Help: List-Subscribe: , Errors-To: test-report-bounces@dpdk.org Test-Label: iol-compile-amd64-testing Test-Status: SUCCESS http://dpdk.org/patch/157155 _Testing PASS_ Submitter: Thomas Monjalon Date: Tuesday, September 30 2025 23:25:06 DPDK git baseline: Repo:dpdk Branch: master CommitID:f3878b615e69a12087a6c5d212723478cfc79c31 157151-157155 --> testing pass Upstream job id: Generic-DPDK-Compile-Meson#430294 Test environment and result as below: +------------------------------+--------------------+-------------------------+-------------------+----------------------+ | Environment | dpdk_meson_compile | dpdk_llvm_clang_compile | dpdk_msvc_compile | dpdk_mingw64_compile | +==============================+====================+=========================+===================+======================+ | Ubuntu 20.04 | PASS | SKIPPED | SKIPPED | SKIPPED | +------------------------------+--------------------+-------------------------+-------------------+----------------------+ | FreeBSD 14.2 | PASS | SKIPPED | SKIPPED | SKIPPED | +------------------------------+--------------------+-------------------------+-------------------+----------------------+ | Red Hat Enterprise Linux 9.5 | PASS | SKIPPED | SKIPPED | SKIPPED | +------------------------------+--------------------+-------------------------+-------------------+----------------------+ | Windows Server 2022 | SKIPPED | PASS | PASS | PASS | +------------------------------+--------------------+-------------------------+-------------------+----------------------+ Ubuntu 20.04 Kernel: 4.19 Compiler: gcc gcc (Ubuntu 9.4.0-1ubuntu1~20.04.2) 9.4.0 FreeBSD 14.2 Kernel: 14.2-RELEASE Compiler: clang 18.1.6 Red Hat Enterprise Linux 9.5 Kernel: 5.15 Compiler: gcc gcc (GCC) 11.5.0 20240719 (Red Hat 11.5.0-2) Windows Server 2022 Kernel: 10.0.20348.2031 Compiler: clang 15.0.7, gcc 14.1.0 (MinGW), and MSVC VS 19.39.33521 To view detailed results, visit: https://lab.dpdk.org/results/dashboard/patchsets/34187/ UNH-IOL DPDK Community Lab To manage your email subscriptions, visit: https://lab.dpdk.org/results/dashboard/preferences/subscriptions/