From mboxrd@z Thu Jan 1 00:00:00 1970 Return-Path: Received: from mails.dpdk.org (mails.dpdk.org [217.70.189.124]) by inbox.dpdk.org (Postfix) with ESMTP id 629CB48881 for ; Wed, 1 Oct 2025 15:48:09 +0200 (CEST) Received: from mails.dpdk.org (localhost [127.0.0.1]) by mails.dpdk.org (Postfix) with ESMTP id 36AB54028F; Wed, 1 Oct 2025 15:48:09 +0200 (CEST) Received: from mail-io1-f98.google.com (mail-io1-f98.google.com [209.85.166.98]) by mails.dpdk.org (Postfix) with ESMTP id 250D04028F for ; Wed, 1 Oct 2025 15:48:08 +0200 (CEST) Received: by mail-io1-f98.google.com with SMTP id ca18e2360f4ac-91122373653so240924039f.1 for ; Wed, 01 Oct 2025 06:48:08 -0700 (PDT) DKIM-Signature: v=1; a=rsa-sha256; c=relaxed/relaxed; d=iol.unh.edu; s=unh-iol; t=1759326487; x=1759931287; darn=dpdk.org; h=references:in-reply-to:cc:to:from:subject:message-id:date:from:to :cc:subject:date:message-id:reply-to; bh=4n8Sz7XSVdR9ZPPOJVGuxyjm/qTwxxcHbER6VKTgLIU=; b=TT08qE5vA/ESblRgo91QxkT8TVHdcGCNFBUMgJNmYiuwheEVD2u94agOM3ctFrnTc8 k1TFa1WcQhQPot+a3oQK4WtTBjg4I3/z8o4V0NpJ74Tg+MKztFqUDOkluoK7aD6obTZo 6O+uG4n66tNNl/jMpSXh8OZ4IJeMjI1vOEbNQ= X-Google-DKIM-Signature: v=1; a=rsa-sha256; c=relaxed/relaxed; d=1e100.net; s=20230601; t=1759326487; x=1759931287; h=references:in-reply-to:cc:to:from:subject:message-id:date :x-gm-message-state:from:to:cc:subject:date:message-id:reply-to; bh=4n8Sz7XSVdR9ZPPOJVGuxyjm/qTwxxcHbER6VKTgLIU=; b=pdrm24IxDHIAou6cVUhCl2anmnIo231lz+I/9Qu8njUnO2vDtPUhQHPWlhzmXykorZ pJrIWeaM9UDJqe6IlFILlRPsNiMUDgmpJU7DcT65w7sIhfPm14cW2gd6mFfmUAY0I3+p BqKWh65rw3OHf8UgzwDSEn6fo3OVzph5M3k8qJK9UuJsplYLDuoLsY6pDHev5w4Qwq1h QaHdXo3Xv5jnmCjKRt94Ej8YXS+dLjxsH4BumUktlKjfAA0L6Vb5zjIZBRCS0iz+alLs +o25zQWkmtwC+tC6ENCKNGbcSTFdUqJngBwYx1PeWKyYqzD7/rvslRsKlp19BaxQML4E SkKw== X-Gm-Message-State: AOJu0Yw+XJKoCEbdZAfrFA5Lvp+128N6PgWDbLy1nde7bo6QqSuRDaaH PCgHVB9P3tRUy/8b/3jeS3le/yoVjpqWw1Kz4LoMy2JUfgBNRks+gGJMrOa8oORkYN9MwgmCH1K Gw0WEdXDm0j7b9dVHF5bxpyu158XcNlC+KTJXTpPHQOge X-Gm-Gg: ASbGnctQ7jbjLgz5Q2yleSaIWuMOtLw0Yh6hxDKK7Vbxpn/g14e78t/dzBIcJB+sUBW r5IjWV6OVv4d1GmZdKzyLVGepDBNEviwsxcCRI3vcDZuNVhZS7XVxuilseqdzm4TptXpFBPZPob y6a1uzs27OXxAyiSQ1JeSy0hdXoJPXw915L57m1dYOE65uBPfk3eUWeFAtcI/kbpYZtjt0riwVH qLZOU/Q1i63n7/BcGiiUhMXqgywakVDSBco+sV0/hwuLogeQjpVKhFjcfIyN6qXVfImGj+4dTUb j+w3juwmvKuUZC+hBhW5SshSWW7vAWPC9fc0sXiD47snsgzd7ezEtS0iKLuf42Pp6XDW35symzp 4zw== X-Google-Smtp-Source: AGHT+IF+oi3ng5xQXN6bzR9xDQyNMM1cp1RChUfBopBRJeloZjCFxrPY30owh7lJ4X7Xr6xjSMPkwkfCULep X-Received: by 2002:a05:6602:3f82:b0:92e:298e:eedd with SMTP id ca18e2360f4ac-937a70efceemr597846439f.3.1759326487252; Wed, 01 Oct 2025 06:48:07 -0700 (PDT) Received: from postal.iol.unh.edu (postal.iol.unh.edu. [132.177.123.84]) by smtp-relay.gmail.com with ESMTPS id ca18e2360f4ac-9040ecb3c38sm59160539f.10.2025.10.01.06.48.07 (version=TLS1_2 cipher=ECDHE-ECDSA-AES128-GCM-SHA256 bits=128/128); Wed, 01 Oct 2025 06:48:07 -0700 (PDT) X-Relaying-Domain: iol.unh.edu Date: Wed, 01 Oct 2025 06:48:07 -0700 (PDT) Message-ID: <68dd3117.5e0a0220.21d1d.4b82SMTPIN_ADDED_MISSING@mx.google.com> Received: from [172.21.0.2] (unknown [172.18.0.240]) by postal.iol.unh.edu (Postfix) with ESMTP id B1FAB6051830; Wed, 1 Oct 2025 09:48:06 -0400 (EDT) Subject: |SUCCESS| pw157172-157176 [PATCH] [v2,5/5] net/ice/base: update READ From: dpdklab@iol.unh.edu To: Test Report Cc: dpdk-test-reports@iol.unh.edu, Bruce Richardson In-Reply-To: <207bf21102cc183944ead4f989eaf9b26d0e7891.1759321681.git.anatoly.burakov@intel.com> References: <207bf21102cc183944ead4f989eaf9b26d0e7891.1759321681.git.anatoly.burakov@intel.com> Content-Type: text/plain X-BeenThere: test-report@dpdk.org X-Mailman-Version: 2.1.29 Precedence: list List-Id: automatic DPDK test reports List-Unsubscribe: , List-Archive: List-Post: List-Help: List-Subscribe: , Errors-To: test-report-bounces@dpdk.org Test-Label: iol-unit-amd64-testing Test-Status: SUCCESS http://dpdk.org/patch/157176 _Testing PASS_ Submitter: Anatoly Burakov Date: Wednesday, October 01 2025 12:29:08 DPDK git baseline: Repo:dpdk-next-net-intel Branch: master CommitID:9845e5848bbe337306fb6ae2a6b1ce5e6ab5b714 157172-157176 --> testing pass Upstream job id: Generic-VM-Unit-Test-DPDK#31524 Test environment and result as below: +-------------------------------+----------------+ | Environment | dpdk_unit_test | +===============================+================+ | Windows Server 2022 | PASS | +-------------------------------+----------------+ | CentOS Stream 9 | PASS | +-------------------------------+----------------+ | CentOS Stream 10 | PASS | +-------------------------------+----------------+ | Debian GNU/Linux 12 | PASS | +-------------------------------+----------------+ | Fedora Linux 40 | PASS | +-------------------------------+----------------+ | Fedora Linux 41 | PASS | +-------------------------------+----------------+ | Fedora Linux 42 | PASS | +-------------------------------+----------------+ | Red Hat Enterprise Linux 8.10 | PASS | +-------------------------------+----------------+ | Red Hat Enterprise Linux 9.5 | PASS | +-------------------------------+----------------+ | Ubuntu 22.04 | PASS | +-------------------------------+----------------+ | Ubuntu 20.04 | PASS | +-------------------------------+----------------+ | Ubuntu 24.04 | PASS | +-------------------------------+----------------+ Windows Server 2022 Kernel: 10.0.20348.2031 Compiler: clang 15.0.7, gcc 14.1.0 (MinGW), and MSVC VS 19.39.33521 CentOS Stream 9 Kernel: 5.15 Compiler: gcc gcc (GCC) 11.5.0 20240719 (Red Hat 11.5.0-11) CentOS Stream 10 Kernel: 5.15 Compiler: gcc gcc (GCC) 14.2.1 20250110 (Red Hat 14.2.1-8) Debian GNU/Linux 12 Kernel: 5.15 Compiler: gcc gcc (Debian 12.2.0-14+deb12u1) 12.2.0 Fedora Linux 40 Kernel: 5.15 Compiler: gcc gcc (GCC) 14.2.1 20240912 (Red Hat 14.2.1-3) Fedora Linux 41 Kernel: 5.15 Compiler: gcc gcc (GCC) 14.3.1 20250523 (Red Hat 14.3.1-1) Fedora Linux 42 Kernel: 5.15 Compiler: gcc gcc (GCC) 15.2.1 20250808 (Red Hat 15.2.1-1) Red Hat Enterprise Linux 8.10 Kernel: 5.15 Compiler: gcc gcc (GCC) 8.5.0 20210514 (Red Hat 8.5.0-22) Red Hat Enterprise Linux 9.5 Kernel: 5.15 Compiler: gcc gcc (GCC) 11.5.0 20240719 (Red Hat 11.5.0-2) Ubuntu 22.04 Kernel: 5.15 Compiler: gcc gcc (Ubuntu 11.4.0-1ubuntu1~22.04) 11.4.0 Ubuntu 20.04 Kernel: 5.15 Compiler: gcc gcc (Ubuntu 9.4.0-1ubuntu1~20.04.2) 9.4.0 Ubuntu 24.04 Kernel: 5.15 Compiler: gcc gcc (Ubuntu 13.3.0-6ubuntu2~24.04) 13.3.0 To view detailed results, visit: https://lab.dpdk.org/results/dashboard/patchsets/34193/ UNH-IOL DPDK Community Lab To manage your email subscriptions, visit: https://lab.dpdk.org/results/dashboard/preferences/subscriptions/