From mboxrd@z Thu Jan 1 00:00:00 1970 Return-Path: Received: from mails.dpdk.org (mails.dpdk.org [217.70.189.124]) by inbox.dpdk.org (Postfix) with ESMTP id 609F948881 for ; Wed, 1 Oct 2025 15:49:10 +0200 (CEST) Received: from mails.dpdk.org (localhost [127.0.0.1]) by mails.dpdk.org (Postfix) with ESMTP id 5A1AC4028F; Wed, 1 Oct 2025 15:49:10 +0200 (CEST) Received: from mail-il1-f225.google.com (mail-il1-f225.google.com [209.85.166.225]) by mails.dpdk.org (Postfix) with ESMTP id D7D9D4028F for ; Wed, 1 Oct 2025 15:49:08 +0200 (CEST) Received: by mail-il1-f225.google.com with SMTP id e9e14a558f8ab-425715aeccdso36833375ab.2 for ; Wed, 01 Oct 2025 06:49:08 -0700 (PDT) DKIM-Signature: v=1; a=rsa-sha256; c=relaxed/relaxed; d=iol.unh.edu; s=unh-iol; t=1759326548; x=1759931348; darn=dpdk.org; h=references:in-reply-to:cc:to:from:subject:message-id:date:from:to :cc:subject:date:message-id:reply-to; bh=m67Y200Iv6sneOStkH6Xm8ZlaBARJLGplo9UNqI129M=; b=AA28V3ma+7yWDXb3B6+VS7zjLU8msMM+RQK+jsj4p693szXRRvI1SbeDzL/UnLoNkU TDGo/Q2/rI8mvU45VuFP5nQB+dS3s39YXbdkEc9I2PKxWbVZE+MN61n2nNbuqFteFGJx CeeFIChRvyQ7O2HsyAFqAYK8XA/qdd3JvNh6Y= X-Google-DKIM-Signature: v=1; a=rsa-sha256; c=relaxed/relaxed; d=1e100.net; s=20230601; t=1759326548; x=1759931348; h=references:in-reply-to:cc:to:from:subject:message-id:date :x-gm-message-state:from:to:cc:subject:date:message-id:reply-to; bh=m67Y200Iv6sneOStkH6Xm8ZlaBARJLGplo9UNqI129M=; b=Zpgjw475IKaGdVjW/GgAdLkiP+rE1I2boXVZ6LWswaiQTCeTrcaAi1hBhv4Krc9gj0 oXlchJXFQZORDC5zuCm83c1/3qwA/BrEh5UE6k3qIKczKqPeuhOp0q0pOZ7jfZYitkrL gY7IwJwhocykOaN9ieWgylx3+8VRGBOL82xOx/ZT6RdzlikaSDFCdUfqoz3Pu8hRPyjW Wr/W0jcxMj1KaKT9qQwQrIUBfg3vn3uYNpyFJNNNDu3EXs+6lRyEUadBgyK9P0guWK/A iDZwA8yRfsFUCPw9iGvISK2RHUexFpE9FDz69R+xAOeEa+yxubb6w9itnNxpn9yvOOqh 7Dsw== X-Gm-Message-State: AOJu0YzIKacjTwHuah+KcVVTH1Tl79NP4cwhCi2b9o2CP1Am/U7FIZPM Q0zuTNtPj9ZMDQpnPsratRBWjNB+esMyHys44vlycSLGLJJg229B9gVBe1cBwX+ZZDIq3FRKcxz q9dt3EBV+rHf0VG7dCBaw4Q1tf7y+czD5UUx6bQbO5a1K X-Gm-Gg: ASbGncsE16VXenZj1fCi6KzysbmfHe0mjGj7lWI5xjwpxFimw486SMnjeHtoM9CFQy6 Qh9QNxDhWqCWJPJbHbkQHJyZ28Z8za2Kz6/qBD0ApDEmyFyvj5ClM2H59Mmza75fm6JSq099NTR Lt6AWt/nXSuAI4M4oKNJCQefPO4US3L9BuflNs2bgoA873r+VeNfEYQXgjZGNRkhoYgx8XGsuEu dZAvzI+aO7PgsGnQ5BGkLXKSlbJuX4kBnfyeIykBxET5CikIaDlFxtth05i8ba5qbzzrs2cc39q Ln4v7ElflhTUNSLmxCxvVLQ9AYbFwehoaCHMHSJKCcnxgboSuLeOKnNCLbg7E01OwSEDBZpWrj7 LcA== X-Google-Smtp-Source: AGHT+IHjlZYfhj676TaKZ8o25L+sG+MkU8I7i3JVI7/SZNVmREFvMN6DilePxhTKfICJh++jH7h8+sL9L6kS X-Received: by 2002:a05:6e02:4501:b0:42d:878b:6e40 with SMTP id e9e14a558f8ab-42d878b7102mr14360365ab.13.1759326548035; Wed, 01 Oct 2025 06:49:08 -0700 (PDT) Received: from postal.iol.unh.edu (postal.iol.unh.edu. [132.177.123.84]) by smtp-relay.gmail.com with ESMTPS id 8926c6da1cb9f-574b7ae82a5sm543848173.20.2025.10.01.06.49.07 (version=TLS1_2 cipher=ECDHE-ECDSA-AES128-GCM-SHA256 bits=128/128); Wed, 01 Oct 2025 06:49:08 -0700 (PDT) X-Relaying-Domain: iol.unh.edu Date: Wed, 01 Oct 2025 06:49:08 -0700 (PDT) Message-ID: <68dd3154.050a0220.1e5bba.0569SMTPIN_ADDED_MISSING@mx.google.com> Received: from [172.21.0.2] (unknown [172.18.0.240]) by postal.iol.unh.edu (Postfix) with ESMTP id 9B35F6050A61; Wed, 1 Oct 2025 09:49:07 -0400 (EDT) Subject: |SUCCESS| pw157172-157176 [PATCH] [v2,5/5] net/ice/base: update READ From: dpdklab@iol.unh.edu To: Test Report Cc: dpdk-test-reports@iol.unh.edu, Bruce Richardson In-Reply-To: <207bf21102cc183944ead4f989eaf9b26d0e7891.1759321681.git.anatoly.burakov@intel.com> References: <207bf21102cc183944ead4f989eaf9b26d0e7891.1759321681.git.anatoly.burakov@intel.com> Content-Type: text/plain X-BeenThere: test-report@dpdk.org X-Mailman-Version: 2.1.29 Precedence: list List-Id: automatic DPDK test reports List-Unsubscribe: , List-Archive: List-Post: List-Help: List-Subscribe: , Errors-To: test-report-bounces@dpdk.org Test-Label: iol-compile-amd64-testing Test-Status: SUCCESS http://dpdk.org/patch/157176 _Testing PASS_ Submitter: Anatoly Burakov Date: Wednesday, October 01 2025 12:29:08 DPDK git baseline: Repo:dpdk-next-net-intel Branch: master CommitID:9845e5848bbe337306fb6ae2a6b1ce5e6ab5b714 157172-157176 --> testing pass Upstream job id: Windows-Compile-DPDK-Native#31356 Test environment and result as below: +---------------------+-------------------------+--------------------+-------------------+----------------------+ | Environment | dpdk_llvm_clang_compile | dpdk_meson_compile | dpdk_msvc_compile | dpdk_mingw64_compile | +=====================+=========================+====================+===================+======================+ | Windows Server 2022 | PASS | SKIPPED | PASS | PASS | +---------------------+-------------------------+--------------------+-------------------+----------------------+ | Ubuntu 20.04 | SKIPPED | PASS | SKIPPED | SKIPPED | +---------------------+-------------------------+--------------------+-------------------+----------------------+ | FreeBSD 14.2 | SKIPPED | PASS | SKIPPED | SKIPPED | +---------------------+-------------------------+--------------------+-------------------+----------------------+ Windows Server 2022 Kernel: 10.0.20348.2031 Compiler: clang 15.0.7, gcc 14.1.0 (MinGW), and MSVC VS 19.39.33521 Ubuntu 20.04 Kernel: 4.19 Compiler: gcc gcc (Ubuntu 9.4.0-1ubuntu1~20.04.2) 9.4.0 FreeBSD 14.2 Kernel: 14.2-RELEASE Compiler: clang 18.1.6 To view detailed results, visit: https://lab.dpdk.org/results/dashboard/patchsets/34193/ UNH-IOL DPDK Community Lab To manage your email subscriptions, visit: https://lab.dpdk.org/results/dashboard/preferences/subscriptions/