From mboxrd@z Thu Jan 1 00:00:00 1970 Return-Path: Received: from mails.dpdk.org (mails.dpdk.org [217.70.189.124]) by inbox.dpdk.org (Postfix) with ESMTP id 3779B48881 for ; Wed, 1 Oct 2025 15:56:33 +0200 (CEST) Received: from mails.dpdk.org (localhost [127.0.0.1]) by mails.dpdk.org (Postfix) with ESMTP id 18EDD4028F; Wed, 1 Oct 2025 15:56:33 +0200 (CEST) Received: from mail-pl1-f225.google.com (mail-pl1-f225.google.com [209.85.214.225]) by mails.dpdk.org (Postfix) with ESMTP id E620A4028F for ; Wed, 1 Oct 2025 15:56:31 +0200 (CEST) Received: by mail-pl1-f225.google.com with SMTP id d9443c01a7336-26d0fbe238bso55612985ad.3 for ; Wed, 01 Oct 2025 06:56:31 -0700 (PDT) DKIM-Signature: v=1; a=rsa-sha256; c=relaxed/relaxed; d=iol.unh.edu; s=unh-iol; t=1759326991; x=1759931791; darn=dpdk.org; h=references:in-reply-to:cc:to:from:subject:message-id:date:from:to :cc:subject:date:message-id:reply-to; bh=GtqcAi7lq5dHMDrr8BQQ4k7QLDA1PqeROFfE3ocyRPs=; b=izqC+SOjRdSUIF9NUlDq8McM2A5tsgHnHpjJeSPjSjOj9SuJXYWOKi+kmInnw4sw3b Gy2yMw9MkZLjZW9WDPtkc+OmU36t5OUT74FlVV4o4gfx+sD6B7J+RBBWW+h35Wj2Q0wr R49dmDrdH6hHM8a7IKFAi5Vls+AcmpZAHAzoQ= X-Google-DKIM-Signature: v=1; a=rsa-sha256; c=relaxed/relaxed; d=1e100.net; s=20230601; t=1759326991; x=1759931791; h=references:in-reply-to:cc:to:from:subject:message-id:date :x-gm-message-state:from:to:cc:subject:date:message-id:reply-to; bh=GtqcAi7lq5dHMDrr8BQQ4k7QLDA1PqeROFfE3ocyRPs=; b=Jstu7QCnTGK2/4hyxfNJ+H7uv7Gcg0DL2srjb5KW5JRv8Zt7Qk0qWCmwmVMGcf/02W Ow7kzZOBaUF1m4JSNFXIz+Xd6Lxrzc6FOjFU3Jtn1WcRowqO+QzIrqD9bPYGzz6nN2iy JgLyvNSzbR0GbJatxMf3iKbLiO9vJ8kbMjTRlP5niQYSGief3DjoXK0Vk3kVnr2jY9Ip aY/kqPMSa/yx/NVQz3CH9LOkoP81rVxW0nQIyWPxpU27uK4dMTXaq4rL0loscnGDBhPF CplHv1LtUyJhGcg2CxkCs/W44VXgpewgl85hY3zvs0P0IKoXNhY+Ods1o311GSHGYoB1 JrEg== X-Gm-Message-State: AOJu0YxbC5x5WoxTC46nEnV89isX9r4vdQonPVQTAOMXxsEZCgf/dyPC zPQtpVO/bhw48fUK/nlyCTcB14GeEEbexbHPSotz6fI6AzX8DrvAea0sepAvMHWO89n17+jutp+ I6iZ7ucMbTpXW4MWh1bmYnVDrcT7CslSzK3WgC/mXSLn3j44nxe22HdAf5GYZ X-Gm-Gg: ASbGncsbec9M+0+31R3ZrSpneu35xC28Vf8lDehPT+I0QaJ4EG0ULG5mJk9F+WK9ItP vUKhC5HPFRcnhlJhz6WuZLqmRJx7OUoxO1YGBIATpesEuvBfqx9Yb1JGY5lj0qU6ga2fIIq1Y9d levCFlz9Cec113WVOaqbrJcjlNLtCMJ+y5wZwqDPNKS1yN8mvaWF5ydIVG6+eM02M/4JA5AHruh OneLAYc92pQAHZE0DHykH6hxy1XAimdsuD+vD5SgRYNUgkEiPuJeGWVaI/5K6XSYycQSDaXmKHe YWW7CC3Q2r0fMfrnH86/y1m8ePJb8f+wmT0vwbyTiWVE/f+dorlQpdc= X-Google-Smtp-Source: AGHT+IFkNXsE3kJcGJPFjTCnz1sICoNL/+nFL66gNxjRO1tz6u3W/CQUulrUtU5U/naDhRayBL9fJbK06psc X-Received: by 2002:a17:902:fc86:b0:24b:1625:5fa5 with SMTP id d9443c01a7336-28e7f26f35cmr43467545ad.11.1759326991008; Wed, 01 Oct 2025 06:56:31 -0700 (PDT) Received: from postal.iol.unh.edu (postal.iol.unh.edu. [2606:4100:3880:1234::84]) by smtp-relay.gmail.com with ESMTPS id d9443c01a7336-27ed6853505sm14265965ad.71.2025.10.01.06.56.30 (version=TLS1_2 cipher=ECDHE-ECDSA-AES128-GCM-SHA256 bits=128/128); Wed, 01 Oct 2025 06:56:31 -0700 (PDT) X-Relaying-Domain: iol.unh.edu Date: Wed, 01 Oct 2025 06:56:31 -0700 (PDT) Message-ID: <68dd330f.170a0220.2ad359.41e7SMTPIN_ADDED_MISSING@mx.google.com> Received: from [172.21.0.3] (unknown [172.18.0.240]) by postal.iol.unh.edu (Postfix) with ESMTP id 4608F604D420; Wed, 1 Oct 2025 09:56:30 -0400 (EDT) Subject: |SUCCESS| pw157172-157176 [PATCH] [v2,5/5] net/ice/base: update READ From: dpdklab@iol.unh.edu To: Test Report Cc: dpdk-test-reports@iol.unh.edu, Bruce Richardson In-Reply-To: <207bf21102cc183944ead4f989eaf9b26d0e7891.1759321681.git.anatoly.burakov@intel.com> References: <207bf21102cc183944ead4f989eaf9b26d0e7891.1759321681.git.anatoly.burakov@intel.com> Content-Type: text/plain X-BeenThere: test-report@dpdk.org X-Mailman-Version: 2.1.29 Precedence: list List-Id: automatic DPDK test reports List-Unsubscribe: , List-Archive: List-Post: List-Help: List-Subscribe: , Errors-To: test-report-bounces@dpdk.org Test-Label: iol-unit-amd64-testing Test-Status: SUCCESS http://dpdk.org/patch/157176 _Testing PASS_ Submitter: Anatoly Burakov Date: Wednesday, October 01 2025 12:29:08 DPDK git baseline: Repo:dpdk-next-net-intel Branch: master CommitID:9845e5848bbe337306fb6ae2a6b1ce5e6ab5b714 157172-157176 --> testing pass Upstream job id: Generic-VM-Unit-Test-DPDK#31525 Test environment and result as below: +-------------------------------+----------------+ | Environment | dpdk_unit_test | +===============================+================+ | Windows Server 2022 | PASS | +-------------------------------+----------------+ | CentOS Stream 9 | PASS | +-------------------------------+----------------+ | CentOS Stream 10 | PASS | +-------------------------------+----------------+ | Debian GNU/Linux 12 | PASS | +-------------------------------+----------------+ | Fedora Linux 40 | PASS | +-------------------------------+----------------+ | Fedora Linux 41 | PASS | +-------------------------------+----------------+ | Fedora Linux 42 | PASS | +-------------------------------+----------------+ | Red Hat Enterprise Linux 8.10 | PASS | +-------------------------------+----------------+ | Red Hat Enterprise Linux 9.5 | PASS | +-------------------------------+----------------+ | Ubuntu 22.04 | PASS | +-------------------------------+----------------+ | Ubuntu 20.04 | PASS | +-------------------------------+----------------+ | Ubuntu 24.04 | PASS | +-------------------------------+----------------+ Windows Server 2022 Kernel: 10.0.20348.2031 Compiler: clang 15.0.7, gcc 14.1.0 (MinGW), and MSVC VS 19.39.33521 CentOS Stream 9 Kernel: 5.15 Compiler: gcc gcc (GCC) 11.5.0 20240719 (Red Hat 11.5.0-11) CentOS Stream 10 Kernel: 5.15 Compiler: gcc gcc (GCC) 14.2.1 20250110 (Red Hat 14.2.1-8) Debian GNU/Linux 12 Kernel: 5.15 Compiler: gcc gcc (Debian 12.2.0-14+deb12u1) 12.2.0 Fedora Linux 40 Kernel: 5.15 Compiler: gcc gcc (GCC) 14.2.1 20240912 (Red Hat 14.2.1-3) Fedora Linux 41 Kernel: 5.15 Compiler: gcc gcc (GCC) 14.3.1 20250523 (Red Hat 14.3.1-1) Fedora Linux 42 Kernel: 5.15 Compiler: gcc gcc (GCC) 15.2.1 20250808 (Red Hat 15.2.1-1) Red Hat Enterprise Linux 8.10 Kernel: 5.15 Compiler: gcc gcc (GCC) 8.5.0 20210514 (Red Hat 8.5.0-22) Red Hat Enterprise Linux 9.5 Kernel: 5.15 Compiler: gcc gcc (GCC) 11.5.0 20240719 (Red Hat 11.5.0-2) Ubuntu 22.04 Kernel: 5.15 Compiler: gcc gcc (Ubuntu 11.4.0-1ubuntu1~22.04) 11.4.0 Ubuntu 20.04 Kernel: 5.15 Compiler: gcc gcc (Ubuntu 9.4.0-1ubuntu1~20.04.2) 9.4.0 Ubuntu 24.04 Kernel: 5.15 Compiler: gcc gcc (Ubuntu 13.3.0-6ubuntu2~24.04) 13.3.0 To view detailed results, visit: https://lab.dpdk.org/results/dashboard/patchsets/34193/ UNH-IOL DPDK Community Lab To manage your email subscriptions, visit: https://lab.dpdk.org/results/dashboard/preferences/subscriptions/