From mboxrd@z Thu Jan 1 00:00:00 1970 Return-Path: Received: from mails.dpdk.org (mails.dpdk.org [217.70.189.124]) by inbox.dpdk.org (Postfix) with ESMTP id 7E35148882 for ; Wed, 1 Oct 2025 16:09:58 +0200 (CEST) Received: from mails.dpdk.org (localhost [127.0.0.1]) by mails.dpdk.org (Postfix) with ESMTP id 527D04028F; Wed, 1 Oct 2025 16:09:58 +0200 (CEST) Received: from mail-oi1-f227.google.com (mail-oi1-f227.google.com [209.85.167.227]) by mails.dpdk.org (Postfix) with ESMTP id 909DE400D5 for ; Wed, 1 Oct 2025 16:09:56 +0200 (CEST) Received: by mail-oi1-f227.google.com with SMTP id 5614622812f47-43f5dbebf02so761790b6e.3 for ; Wed, 01 Oct 2025 07:09:56 -0700 (PDT) DKIM-Signature: v=1; a=rsa-sha256; c=relaxed/relaxed; d=iol.unh.edu; s=unh-iol; t=1759327796; x=1759932596; darn=dpdk.org; h=references:in-reply-to:cc:to:from:subject:message-id:date:from:to :cc:subject:date:message-id:reply-to; bh=skV6scE077/r1HftjjNJJT+YWWEAggAnTv7YbIPj+IY=; b=btTeBvISliqGejXsoqj+8euzWNhW6dcEhwKCwaktHbjHTy7Aep0XNgrH3SBUnf/XyC xyH+6ECTUddonADKH8jXjasy9RADVW/+/lXgrV8f2M6UUpj6yIcosEnUszZK6SEAgObM J2xdm4/wkjnE6dKbhXkAaJLqiFL4ZleIFNijA= X-Google-DKIM-Signature: v=1; a=rsa-sha256; c=relaxed/relaxed; d=1e100.net; s=20230601; t=1759327796; x=1759932596; h=references:in-reply-to:cc:to:from:subject:message-id:date :x-gm-message-state:from:to:cc:subject:date:message-id:reply-to; bh=skV6scE077/r1HftjjNJJT+YWWEAggAnTv7YbIPj+IY=; b=KsQNwULoSVn5oWfevfTn19iUFFRYg0vkHtP/K6JJVp+z984kmlte92+Cv1fOzlVsSS s60Thd2hn0feoV4wH+e5TYGdU/G9ZAqPNGihSXBw6Punnl9d4FTeso62n4w/7p1pMh9X QNfqSljz8StAZ6ytMmJl95flGhPsPT9ZjAMxm91GaKqgRLFtH0Fi7NHuIoz8O0fEA3gj /+qZPi4awZYlSgM5jIBotD+E67OWdgyZNYTzGp91krAUm++f3Lj1RaulphU8xCF9sRHG Ph6G00obfpxkBes1jsXSK4CsczmDl8to6CZ3u4C9tTqKcZjHe3PFNFsbpg1aYSMzEx3/ qpjA== X-Gm-Message-State: AOJu0YwL/z/udHSbwrhvYEs+94IF4fAvZTicN4y9Kz/+DV3Q6RiUWIA1 jSlf2a/67LK12M2X0fpFjejvCWt1M+mIqXyHjWBXWG9P9e3ZxiXE4sWdMgEDNEf1QhZaA85qxgD +RQqqP/Z/2GTDy4iPkYn9IflKRC/9gdMRbquqt6sxVHGPammwJr4hsSO9XFD5 X-Gm-Gg: ASbGnctFFepafKG56ASvf6nTmOMmVG6VHkY4qQPJ8gCItmAZGHm+j1WXb8Sq5yMmHhD n59X0buNw2dg74QDRybxUAwjIYNTwtMOAPpDoWTgpbPUo+Er+nj73exEf/jt/FNcC5o8G2EUSgN QG3z0/4whcVEzqHidTk2OS15hd0XRqnNku3BrtKXWTwKCMAaWUj6kiX1g6CUlJ+ds3Lq4B9up/j u87jPLRGFzM3QUki5jqdek1x5VJ3OV7+93XMSwea+gncybivP20/7Ghqz5pTEK/cMZljk0fwvFk R1IzrvFn3EvGOv1ca8Xq4N1BjAE+i55W6GBo4doIbfIW+hUZNjlGTUs= X-Google-Smtp-Source: AGHT+IEu7sx1zq7DjQjL9R8ybX/eMgwVxOUrs0+v1sMAmT7KKmMmRZhR8oDvRxbdETBNYOCxjKrJ6dreopA/ X-Received: by 2002:a05:6808:150a:b0:43d:3be9:b261 with SMTP id 5614622812f47-43fa40f7f5amr2103649b6e.13.1759327795769; Wed, 01 Oct 2025 07:09:55 -0700 (PDT) Received: from postal.iol.unh.edu (postal.iol.unh.edu. [2606:4100:3880:1234::84]) by smtp-relay.gmail.com with ESMTPS id 006d021491bc7-63b202edb9asm627212eaf.7.2025.10.01.07.09.55 (version=TLS1_2 cipher=ECDHE-ECDSA-AES128-GCM-SHA256 bits=128/128); Wed, 01 Oct 2025 07:09:55 -0700 (PDT) X-Relaying-Domain: iol.unh.edu Date: Wed, 01 Oct 2025 07:09:55 -0700 (PDT) Message-ID: <68dd3633.4a0a0220.737c4.5a84SMTPIN_ADDED_MISSING@mx.google.com> Received: from [172.21.0.4] (unknown [172.18.0.240]) by postal.iol.unh.edu (Postfix) with ESMTP id 4D94B604D420; Wed, 1 Oct 2025 10:09:55 -0400 (EDT) Subject: |SUCCESS| pw157143 [PATCH] net/ice: fix initialization with 8 ports From: dpdklab@iol.unh.edu To: Test Report Cc: dpdk-test-reports@iol.unh.edu, Bruce Richardson In-Reply-To: <20250930142850.1782615-1-bruce.richardson@intel.com> References: <20250930142850.1782615-1-bruce.richardson@intel.com> Content-Type: text/plain X-BeenThere: test-report@dpdk.org X-Mailman-Version: 2.1.29 Precedence: list List-Id: automatic DPDK test reports List-Unsubscribe: , List-Archive: List-Post: List-Help: List-Subscribe: , Errors-To: test-report-bounces@dpdk.org Test-Label: iol-unit-arm64-testing Test-Status: SUCCESS http://dpdk.org/patch/157143 _Testing PASS_ Submitter: Bruce Richardson Date: Tuesday, September 30 2025 14:28:50 DPDK git baseline: Repo:dpdk-next-net-intel Branch: master CommitID:9845e5848bbe337306fb6ae2a6b1ce5e6ab5b714 157143 --> testing pass Upstream job id: Generic-Unit-Test-DPDK#376709 Test environment and result as below: +------------------------------+----------------+--------------+------------------------------+---------------------------+ | Environment | dpdk_unit_test | lpm_autotest | cryptodev_sw_snow3g_autotest | cryptodev_sw_zuc_autotest | +==============================+================+==============+==============================+===========================+ | CentOS Stream 9 | PASS | SKIPPED | SKIPPED | SKIPPED | +------------------------------+----------------+--------------+------------------------------+---------------------------+ | CentOS Stream 10 | PASS | SKIPPED | SKIPPED | SKIPPED | +------------------------------+----------------+--------------+------------------------------+---------------------------+ | Debian GNU/Linux 12 | PASS | SKIPPED | SKIPPED | SKIPPED | +------------------------------+----------------+--------------+------------------------------+---------------------------+ | Fedora Linux 40 | PASS | SKIPPED | SKIPPED | SKIPPED | +------------------------------+----------------+--------------+------------------------------+---------------------------+ | Ubuntu 22.04 | PASS | SKIPPED | SKIPPED | SKIPPED | +------------------------------+----------------+--------------+------------------------------+---------------------------+ | Fedora Linux 42 | PASS | SKIPPED | SKIPPED | SKIPPED | +------------------------------+----------------+--------------+------------------------------+---------------------------+ | Fedora Linux 41 | PASS | SKIPPED | SKIPPED | SKIPPED | +------------------------------+----------------+--------------+------------------------------+---------------------------+ | Red Hat Enterprise Linux 9.5 | PASS | SKIPPED | SKIPPED | SKIPPED | +------------------------------+----------------+--------------+------------------------------+---------------------------+ | Ubuntu 24.04 | PASS | SKIPPED | SKIPPED | SKIPPED | +------------------------------+----------------+--------------+------------------------------+---------------------------+ | Ubuntu 20.04 | PASS | PASS | SKIPPED | SKIPPED | +------------------------------+----------------+--------------+------------------------------+---------------------------+ | Debian 12 (arm) | SKIPPED | SKIPPED | PASS | PASS | +------------------------------+----------------+--------------+------------------------------+---------------------------+ CentOS Stream 9 Kernel: 5.4 Compiler: gcc gcc (GCC) 11.5.0 20240719 (Red Hat 11.5.0-11) CentOS Stream 10 Kernel: 5.4 Compiler: gcc gcc (GCC) 14.2.1 20250110 (Red Hat 14.2.1-8) Debian GNU/Linux 12 Kernel: 5.4 Compiler: gcc gcc (Debian 12.2.0-14+deb12u1) 12.2.0 Fedora Linux 40 Kernel: 5.4 Compiler: gcc gcc (GCC) 14.2.1 20240912 (Red Hat 14.2.1-3) Ubuntu 22.04 Kernel: 5.15 Compiler: gcc gcc (Ubuntu 11.4.0-1ubuntu1~22.04.2) 11.4.0 Fedora Linux 42 Kernel: 5.4 Compiler: gcc gcc (GCC) 15.2.1 20250808 (Red Hat 15.2.1-1) Fedora Linux 41 Kernel: 5.4 Compiler: gcc gcc (GCC) 14.3.1 20250523 (Red Hat 14.3.1-1) Red Hat Enterprise Linux 9.5 Kernel: 5.4 Compiler: gcc gcc (GCC) 11.5.0 20240719 (Red Hat 11.5.0-2) Ubuntu 24.04 Kernel: 5.4 Compiler: gcc gcc (Ubuntu 13.3.0-6ubuntu2~24.04) 13.3.0 Ubuntu 20.04 Kernel: 5.4 Compiler: gcc gcc (Ubuntu 9.4.0-1ubuntu1~20.04.2) 9.4.0 Debian 12 (arm) Kernel: Depends on container host Compiler: gcc (Debian 12.2.0-14) 12.2.0 To view detailed results, visit: https://lab.dpdk.org/results/dashboard/patchsets/34184/ UNH-IOL DPDK Community Lab To manage your email subscriptions, visit: https://lab.dpdk.org/results/dashboard/preferences/subscriptions/