From mboxrd@z Thu Jan 1 00:00:00 1970 Return-Path: Received: from mails.dpdk.org (mails.dpdk.org [217.70.189.124]) by inbox.dpdk.org (Postfix) with ESMTP id 303C948882 for ; Wed, 1 Oct 2025 16:39:17 +0200 (CEST) Received: from mails.dpdk.org (localhost [127.0.0.1]) by mails.dpdk.org (Postfix) with ESMTP id 06C30400D5; Wed, 1 Oct 2025 16:39:17 +0200 (CEST) Received: from mail-pf1-f228.google.com (mail-pf1-f228.google.com [209.85.210.228]) by mails.dpdk.org (Postfix) with ESMTP id DBE41400D5 for ; Wed, 1 Oct 2025 16:39:15 +0200 (CEST) Received: by mail-pf1-f228.google.com with SMTP id d2e1a72fcca58-7811fa91774so4547505b3a.0 for ; Wed, 01 Oct 2025 07:39:15 -0700 (PDT) DKIM-Signature: v=1; a=rsa-sha256; c=relaxed/relaxed; d=iol.unh.edu; s=unh-iol; t=1759329555; x=1759934355; darn=dpdk.org; h=references:in-reply-to:cc:to:from:subject:message-id:date:from:to :cc:subject:date:message-id:reply-to; bh=PGxZQRKk8UTqrYekLWJc3xECLl+Mie2NLr53msvivZ0=; b=fNeSXP6T3rM7a+eGPcNcSgeZXCTrcnpc/Ahs5wTMHdAlJ/jNdUYhY1BOEK0kelSptl twyAo7O7Sv4hahoIxQE+qo11awZ8WohA3zUBotvv8+KT114DGmMgf+2y6ETnsnQaCbJl b6/1y5/Eu/B6qTrdsM5DkQwbX4Zs96QJBo9wY= X-Google-DKIM-Signature: v=1; a=rsa-sha256; c=relaxed/relaxed; d=1e100.net; s=20230601; t=1759329555; x=1759934355; h=references:in-reply-to:cc:to:from:subject:message-id:date :x-gm-message-state:from:to:cc:subject:date:message-id:reply-to; bh=PGxZQRKk8UTqrYekLWJc3xECLl+Mie2NLr53msvivZ0=; b=WShG7hCnc3dFDRejcGfjcLcUonEcxWr6JnyMyxrADJEv/aW7GVW1OE+dxKRMVbvGW9 ng3vZfkRPGw97K+n5AR88tVnASlNhHENAOV/XZf+mFIkO2h28FBb5CgMgD1kd3PX1bMw NuB1fluYnGIg/QABmnWJJyrye5266b8807UCvJRoZ9Ezo3ToJ1zI7j/26hd07uIhVhYS 7/8I7XY7qVv7aWf4b2D0/z6Z8vCOvMSQdb0QoyGHumGQKvfJfmPGPPTAKfHgy1+c7xzo 8Pn+Kg5dKz+yizN+KDJckIZi4GAtc7JjyDVsbWXTjEZLbTIX6enavzhP64DV+jdbicLl 0JMw== X-Gm-Message-State: AOJu0YzXCGHFZtt5ikCAHLOFq1hoMGwKGi/kYyfDyuGPCwv3MYqGoFDq Kv8w7T0S2yvXOoR2xRZUBW3YJpYrjVDS1XMQxYObB4j+/HJblpPPPBwmeoFeqg/pgYAYRKw2g33 zNPCTkmVqqebWqQr3GSwwmlt6pcaUQbCPDCWkVmvxz1S8 X-Gm-Gg: ASbGncswek/cMSPlX214zC8YOVoCypO336qTqEBHcgGEM7Sz7BXHv3bAk9h+oEAmrYU B23pbz6bXS/tAMKk9+Bu3ihKskwtbZ+Qx6OFZp/nou8ch0boJZez0WawM6+ZDZEFrh9zzbNOUMk EXrmMlm2lPiZzGOruGZFTtBAY/Uljx5jFk9/7tnMY4ZHOS+F3O+UKXPD9TXOzPtaswh7/R0+fgh ctzcGQmv2LwMl31LP1vY+9bTCpyLN42Yyk8/hqa8XiTEaO7hX6wFyk7OmSctsSxzJqSoB1K8Y7H i9bHIjhO+UU+IMi4xxV+/GIDwe3LvxHq9M9vgxb+7wFrSXbbmQeb6ENVmsaGsPCSAeFoJRUxXu9 IMA== X-Google-Smtp-Source: AGHT+IFU7XOQd4jBfgUQ/GTUiwF3EA+yuBc8maa8olCduFVdDzxaufM1etptviNHQl332/r1gNnb3IWzE6iQ X-Received: by 2002:a05:6a21:228a:b0:303:8207:eb56 with SMTP id adf61e73a8af0-321d90cda06mr5112465637.5.1759329554904; Wed, 01 Oct 2025 07:39:14 -0700 (PDT) Received: from postal.iol.unh.edu (postal.iol.unh.edu. [132.177.123.84]) by smtp-relay.gmail.com with ESMTPS id 41be03b00d2f7-b5a7acdda19sm488675a12.9.2025.10.01.07.39.14 (version=TLS1_2 cipher=ECDHE-ECDSA-AES128-GCM-SHA256 bits=128/128); Wed, 01 Oct 2025 07:39:14 -0700 (PDT) X-Relaying-Domain: iol.unh.edu Date: Wed, 01 Oct 2025 07:39:14 -0700 (PDT) Message-ID: <68dd3d12.650a0220.229742.da48SMTPIN_ADDED_MISSING@mx.google.com> Received: from [172.21.0.4] (unknown [172.18.0.240]) by postal.iol.unh.edu (Postfix) with ESMTP id 274AA6050A61; Wed, 1 Oct 2025 10:39:14 -0400 (EDT) Subject: |SUCCESS| pw157151-157155 [PATCH] [v3,5/5] usertools/mbuf: parse mbu From: dpdklab@iol.unh.edu To: Test Report Cc: dpdk-test-reports@iol.unh.edu In-Reply-To: <20250930233828.3999565-6-thomas@monjalon.net> References: <20250930233828.3999565-6-thomas@monjalon.net> Content-Type: text/plain X-BeenThere: test-report@dpdk.org X-Mailman-Version: 2.1.29 Precedence: list List-Id: automatic DPDK test reports List-Unsubscribe: , List-Archive: List-Post: List-Help: List-Subscribe: , Errors-To: test-report-bounces@dpdk.org Test-Label: iol-compile-amd64-testing Test-Status: SUCCESS http://dpdk.org/patch/157155 _Testing PASS_ Submitter: Thomas Monjalon Date: Tuesday, September 30 2025 23:25:06 DPDK git baseline: Repo:dpdk Branch: master CommitID:f3878b615e69a12087a6c5d212723478cfc79c31 157151-157155 --> testing pass Upstream job id: Generic-DPDK-Compile-Meson#430308 Test environment and result as below: +------------------------------+--------------------+-------------------------+-------------------+----------------------+-------------------+ | Environment | dpdk_meson_compile | dpdk_llvm_clang_compile | dpdk_msvc_compile | dpdk_mingw64_compile | dpdk_compile_spdk | +==============================+====================+=========================+===================+======================+===================+ | Ubuntu 20.04 | PASS | SKIPPED | SKIPPED | SKIPPED | SKIPPED | +------------------------------+--------------------+-------------------------+-------------------+----------------------+-------------------+ | FreeBSD 14.2 | PASS | SKIPPED | SKIPPED | SKIPPED | SKIPPED | +------------------------------+--------------------+-------------------------+-------------------+----------------------+-------------------+ | Red Hat Enterprise Linux 9.5 | PASS | SKIPPED | SKIPPED | SKIPPED | SKIPPED | +------------------------------+--------------------+-------------------------+-------------------+----------------------+-------------------+ | Alpine Linux 3.22.0 | PASS | SKIPPED | SKIPPED | SKIPPED | SKIPPED | +------------------------------+--------------------+-------------------------+-------------------+----------------------+-------------------+ | Ubuntu 22.04 | PASS | SKIPPED | SKIPPED | SKIPPED | PASS | +------------------------------+--------------------+-------------------------+-------------------+----------------------+-------------------+ | Windows Server 2022 | SKIPPED | PASS | PASS | PASS | SKIPPED | +------------------------------+--------------------+-------------------------+-------------------+----------------------+-------------------+ Ubuntu 20.04 Kernel: 4.19 Compiler: gcc gcc (Ubuntu 9.4.0-1ubuntu1~20.04.2) 9.4.0 FreeBSD 14.2 Kernel: 14.2-RELEASE Compiler: clang 18.1.6 Red Hat Enterprise Linux 9.5 Kernel: 5.15 Compiler: gcc gcc (GCC) 11.5.0 20240719 (Red Hat 11.5.0-2) Alpine Linux 3.22.0 Kernel: 5.15 Compiler: gcc gcc (Alpine 14.2.0) 14.2.0 Ubuntu 22.04 Kernel: 5.15 Compiler: gcc gcc (Ubuntu 11.4.0-1ubuntu1~22.04) 11.4.0 Windows Server 2022 Kernel: 10.0.20348.2031 Compiler: clang 15.0.7, gcc 14.1.0 (MinGW), and MSVC VS 19.39.33521 To view detailed results, visit: https://lab.dpdk.org/results/dashboard/patchsets/34187/ UNH-IOL DPDK Community Lab To manage your email subscriptions, visit: https://lab.dpdk.org/results/dashboard/preferences/subscriptions/