From mboxrd@z Thu Jan 1 00:00:00 1970 Return-Path: Received: from mails.dpdk.org (mails.dpdk.org [217.70.189.124]) by inbox.dpdk.org (Postfix) with ESMTP id 3D88448883 for ; Wed, 1 Oct 2025 18:04:17 +0200 (CEST) Received: from mails.dpdk.org (localhost [127.0.0.1]) by mails.dpdk.org (Postfix) with ESMTP id 1C48C400D5; Wed, 1 Oct 2025 18:04:17 +0200 (CEST) Received: from mail-yw1-f225.google.com (mail-yw1-f225.google.com [209.85.128.225]) by mails.dpdk.org (Postfix) with ESMTP id 281E1400D5 for ; Wed, 1 Oct 2025 18:04:16 +0200 (CEST) Received: by mail-yw1-f225.google.com with SMTP id 00721157ae682-71d5fe46572so19229457b3.1 for ; Wed, 01 Oct 2025 09:04:16 -0700 (PDT) DKIM-Signature: v=1; a=rsa-sha256; c=relaxed/relaxed; d=iol.unh.edu; s=unh-iol; t=1759334655; x=1759939455; darn=dpdk.org; h=cc:to:from:subject:message-id:date:from:to:cc:subject:date :message-id:reply-to; bh=EdINu+ogK+s1sqQJa2t6JEk29aIjkgVKfoUVg+NgCsM=; b=IUKFLJvHdX4jcntxYL6FZqbzWgNsuH7xlcPJhS7eQoD5PM5Twwu9WhXnVlIolzSrQe cZ3uM6Bq5l5klJbxawqu1i5n6BvjskUptRsCEeOhX3L4uFaLWAibF+1RfGBLRzqEkEBj 44fVNIzMkqplRMgJ4T+JTCsqM6a1pQh58KjYs= X-Google-DKIM-Signature: v=1; a=rsa-sha256; c=relaxed/relaxed; d=1e100.net; s=20230601; t=1759334655; x=1759939455; h=cc:to:from:subject:message-id:date:x-gm-message-state:from:to:cc :subject:date:message-id:reply-to; bh=EdINu+ogK+s1sqQJa2t6JEk29aIjkgVKfoUVg+NgCsM=; b=exXsHlyaRXQ6PlNkUSo7iqtaTMy4Tzs+cYn5ZJeO0Jq9F437y94rZj8Hl3ghbsAfXO Y/j+Ueimelxdj6aEVkJpZk5nRerS1VnHc7ChhBQi2r6SoXWlRDAoVPL/X15gOdopWDQR KG9SUJ5R0Ky/YFxnlx6gD55xVvVSbowFDkkrzQ00oaCXzMkVk970zpqYT4ynZ84uZtj/ jkTnQfk67lhi3wj3QSjOQRcDiEmdBjFMQos+PMXU6XKAkhx+QmmwRlrrXLduAWFCrypJ l5VBklGgMdKwrLWUqPgmr7ibz759a7dPgLICPdB7adi4wcJRB5sqO0KVZKhYF3aQa0PE hOtQ== X-Gm-Message-State: AOJu0YyR7FaahPPd279cFV7vHsPNykIJMw2zZQukdze1rxmNMcImWJs7 22zycW2BDyaRe9jotiMID/c6Ud2J/PwA0Dqz1wdw2RsCSNeo/5/eF/mICS5PuGVSTX/1MOtyKt5 74OgS56OtJMOEb/S0vf6qYvByLDH5mPr3isVtVYLEZ9GvrcBb5sOoz/tF6jLR X-Gm-Gg: ASbGncun/MJXH9JUyAgRuDv2eHXh/zG5X3NMc8i8QGErUawemw6/l23EEBIEEW1hLJg nElTdE/TV8XD1jka99iGRIRk3Jt/+DVo7DuX3+xPn4EepucyN5kzjiwwJ2OiN95qmQFpvUzZraf RBf/6/OPeD2A97F8+MZXI3a6w1vfLrlHaXpK7/XZq7PP+k8BYrTcUADGlgFexgBp8R7aQpsBXek 4FbJP2aivIKmBAy06NfPW2lAol3hZVHvtv9WBF3WIcOGZSoEzC4xXc/omre2NHzvSkuqwMBgCx2 lkhaqY8uMS+9aRQyOELtQukDH3mPXoMOeHbfX1BrMbeu+dN64/fQIBU= X-Google-Smtp-Source: AGHT+IFD9ADucxKRFGIWq1IRrAY0b36mzmoA+cWvXHyAQ01G7YNvtUVfywe+3mHTdGQXSTO9uQvy747KhZMe X-Received: by 2002:a05:690c:3747:b0:73b:2207:2a57 with SMTP id 00721157ae682-77f81abe024mr1747527b3.8.1759334654890; Wed, 01 Oct 2025 09:04:14 -0700 (PDT) Received: from postal.iol.unh.edu (postal.iol.unh.edu. [2606:4100:3880:1234::84]) by smtp-relay.gmail.com with ESMTPS id 00721157ae682-77f81c0ae44sm22857b3.6.2025.10.01.09.04.14 (version=TLS1_2 cipher=ECDHE-ECDSA-AES128-GCM-SHA256 bits=128/128); Wed, 01 Oct 2025 09:04:14 -0700 (PDT) X-Relaying-Domain: iol.unh.edu Date: Wed, 01 Oct 2025 09:04:14 -0700 (PDT) Message-ID: <68dd50fe.050a0220.b6a1f.024eSMTPIN_ADDED_MISSING@mx.google.com> Received: from [172.21.0.3] (unknown [172.18.0.240]) by postal.iol.unh.edu (Postfix) with ESMTP id 83798604D420; Wed, 1 Oct 2025 12:04:13 -0400 (EDT) Subject: |SUCCESS| [GIT MASTER] f3878b615e69a12087a6c5d212723478cfc79c31 From: dpdklab@iol.unh.edu To: Test Report Cc: dpdk-test-reports@iol.unh.edu, Jerin Jacob Content-Type: text/plain X-BeenThere: test-report@dpdk.org X-Mailman-Version: 2.1.29 Precedence: list List-Id: automatic DPDK test reports List-Unsubscribe: , List-Archive: List-Post: List-Help: List-Subscribe: , Errors-To: test-report-bounces@dpdk.org _Testing PASS_ Branch: dpdk-next-eventdev f3878b615e69a12087a6c5d212723478cfc79c31 --> testing pass Upstream job id: Generic-Unit-Test-DPDK#376739 Test environment and result as below: +------------------------------+--------------+---------------------------+------------------------------+----------------+ | Environment | lpm_autotest | cryptodev_sw_zuc_autotest | cryptodev_sw_snow3g_autotest | dpdk_unit_test | +==============================+==============+===========================+==============================+================+ | Ubuntu 20.04 | PASS | SKIPPED | SKIPPED | PASS | +------------------------------+--------------+---------------------------+------------------------------+----------------+ | Debian 12 (arm) | SKIPPED | PASS | PASS | SKIPPED | +------------------------------+--------------+---------------------------+------------------------------+----------------+ | CentOS Stream 9 | SKIPPED | SKIPPED | SKIPPED | PASS | +------------------------------+--------------+---------------------------+------------------------------+----------------+ | Ubuntu 22.04 | SKIPPED | SKIPPED | SKIPPED | PASS | +------------------------------+--------------+---------------------------+------------------------------+----------------+ | CentOS Stream 10 | SKIPPED | SKIPPED | SKIPPED | PASS | +------------------------------+--------------+---------------------------+------------------------------+----------------+ | Debian GNU/Linux 12 | SKIPPED | SKIPPED | SKIPPED | PASS | +------------------------------+--------------+---------------------------+------------------------------+----------------+ | Fedora Linux 40 | SKIPPED | SKIPPED | SKIPPED | PASS | +------------------------------+--------------+---------------------------+------------------------------+----------------+ | Fedora Linux 41 | SKIPPED | SKIPPED | SKIPPED | PASS | +------------------------------+--------------+---------------------------+------------------------------+----------------+ | Fedora Linux 42 | SKIPPED | SKIPPED | SKIPPED | PASS | +------------------------------+--------------+---------------------------+------------------------------+----------------+ | Red Hat Enterprise Linux 9.5 | SKIPPED | SKIPPED | SKIPPED | PASS | +------------------------------+--------------+---------------------------+------------------------------+----------------+ | Ubuntu 24.04 | SKIPPED | SKIPPED | SKIPPED | PASS | +------------------------------+--------------+---------------------------+------------------------------+----------------+ Ubuntu 20.04 Kernel: 5.4 Compiler: gcc gcc (Ubuntu 9.4.0-1ubuntu1~20.04.2) 9.4.0 Debian 12 (arm) Kernel: Depends on container host Compiler: gcc (Debian 12.2.0-14) 12.2.0 CentOS Stream 9 Kernel: 5.4 Compiler: gcc gcc (GCC) 11.5.0 20240719 (Red Hat 11.5.0-11) Ubuntu 22.04 Kernel: 5.15 Compiler: gcc gcc (Ubuntu 11.4.0-1ubuntu1~22.04.2) 11.4.0 CentOS Stream 10 Kernel: 5.4 Compiler: gcc gcc (GCC) 14.2.1 20250110 (Red Hat 14.2.1-8) Debian GNU/Linux 12 Kernel: 5.4 Compiler: gcc gcc (Debian 12.2.0-14+deb12u1) 12.2.0 Fedora Linux 40 Kernel: 5.4 Compiler: gcc gcc (GCC) 14.2.1 20240912 (Red Hat 14.2.1-3) Fedora Linux 41 Kernel: 5.4 Compiler: clang gcc (GCC) 14.3.1 20250523 (Red Hat 14.3.1-1) Fedora Linux 42 Kernel: 5.4 Compiler: gcc gcc (GCC) 15.2.1 20250808 (Red Hat 15.2.1-1) Red Hat Enterprise Linux 9.5 Kernel: 5.4 Compiler: gcc gcc (GCC) 11.5.0 20240719 (Red Hat 11.5.0-2) Ubuntu 24.04 Kernel: 5.4 Compiler: gcc gcc (Ubuntu 13.3.0-6ubuntu2~24.04) 13.3.0 To view detailed results, visit: https://lab.dpdk.org/results/dashboard/tarballs/35062/ UNH-IOL DPDK Community Lab To manage your email subscriptions, visit: https://lab.dpdk.org/results/dashboard/preferences/subscriptions/