From mboxrd@z Thu Jan 1 00:00:00 1970 Return-Path: Received: from mails.dpdk.org (mails.dpdk.org [217.70.189.124]) by inbox.dpdk.org (Postfix) with ESMTP id D24B548883 for ; Wed, 1 Oct 2025 18:29:55 +0200 (CEST) Received: from mails.dpdk.org (localhost [127.0.0.1]) by mails.dpdk.org (Postfix) with ESMTP id AA7DF400D5; Wed, 1 Oct 2025 18:29:55 +0200 (CEST) Received: from mail-il1-f228.google.com (mail-il1-f228.google.com [209.85.166.228]) by mails.dpdk.org (Postfix) with ESMTP id 0106B400D5 for ; Wed, 1 Oct 2025 18:29:54 +0200 (CEST) Received: by mail-il1-f228.google.com with SMTP id e9e14a558f8ab-42571b8abbaso432645ab.0 for ; Wed, 01 Oct 2025 09:29:53 -0700 (PDT) DKIM-Signature: v=1; a=rsa-sha256; c=relaxed/relaxed; d=iol.unh.edu; s=unh-iol; t=1759336193; x=1759940993; darn=dpdk.org; h=references:in-reply-to:cc:to:from:subject:message-id:date:from:to :cc:subject:date:message-id:reply-to; bh=lm4+NORsuSV5h1OZe7uFtdXxIbzDGt5La+ctyyECve0=; b=eSE+Xp0/joCsK/9xVK/E6uI/4UluBE5WUMHZjyIVgui2pt6+D51nOPgwSdzEX+r+Fp LzoAnirXprSi+QLsab8/rqheERBo7W/PwifZkhCBSbTkX+eEPpFyt2pZB4J8ABvtoR+s YM1G2xLKa/wsfrDvmGleGKAviVOs+Nohp7VQc= X-Google-DKIM-Signature: v=1; a=rsa-sha256; c=relaxed/relaxed; d=1e100.net; s=20230601; t=1759336193; x=1759940993; h=references:in-reply-to:cc:to:from:subject:message-id:date :x-gm-message-state:from:to:cc:subject:date:message-id:reply-to; bh=lm4+NORsuSV5h1OZe7uFtdXxIbzDGt5La+ctyyECve0=; b=GwC9rrLVLS3UDu4siG5BEoCS+GxEre2L0B/iIgXTs4BEQqYnsbkjbwyMeHdzwGNwOf +obIEKKS5AkXDJO2a6BDI6DqABuF6LEaXNsWG6fE0aDAjiig1Ocjy5CuTI1iZm/wDLio ppn8AVQJ5K8buaBzr7p/zBr1LVaMAO2ResrAInE5ChTpsbekIBy78YIYqnH2FR1p/umz N4MIPzgxfj5IfXaoySxuox7LFhoI3O8B2r6RAaXNtIbgPVLnxYpUPn4zRorEYgG3sxZi UWnYo4CwHu91978Gvoq4gcVusZMW65nWluLWU5RvQ/yA81GyACJOt4d7LNUPEB2saKJy YBSQ== X-Gm-Message-State: AOJu0YwnxMHIc6U5KqBgAfi2gYpS28YrQicCzRrxXoRLdrHQqM5XOrcG wxqH5EVyQRCcfMmALdI5IoJo1tiLoHR9+Is03+8GXsj7MMDQYwNhzCr/gSpnaLaI0qHxfVfyaAp duP9Qg0EAdxFZRNTuxSt9N/FzbZlTyZqSW1hnzUraZEau X-Gm-Gg: ASbGncvBOHsiCU8qkZ4afEMBph/uGv94TG/89ea/xjSDS97qeXahm4ymzgJ8z85rYbB mo3JAdwxkLEso9NoW3fd8DE7RUTcOarpyWrfT85gIeX/bbjv7kY6CFmj+DBoroRGFD41qTc9U1i NH7WD1SGGvnX+wvhG8kTN2MHdfcG/Y0td9SsgVslR/EaRjv9m79IYqeygYF62DK/HtCLSryvbSu B2tyWlmLlj22U8maXnKWCdNWfFzA6Qw0PEap2mkHrj5vNF2+qu6RNom0tBhxlhcsr91K6UBOjem 5AbzRgENzDcAych4HYHqphK2SRApAy0XfrjR6MrvSVO7SQnj1qOAjfVf54BZRv01ydRVu3VDoZx jkQ== X-Google-Smtp-Source: AGHT+IEs0dHKWjI3cbEamy7tsXCgvAS+8tgyyTkk6BbkENrhDlsVtsKcIatw9qh2/u3OOh1EytDnjT3UozuC X-Received: by 2002:a05:6e02:b23:b0:426:c783:a400 with SMTP id e9e14a558f8ab-42d815e2be2mr67267525ab.10.1759336193192; Wed, 01 Oct 2025 09:29:53 -0700 (PDT) Received: from postal.iol.unh.edu (postal.iol.unh.edu. [132.177.123.84]) by smtp-relay.gmail.com with ESMTPS id e9e14a558f8ab-42d8b2935d8sm76795ab.34.2025.10.01.09.29.53 (version=TLS1_2 cipher=ECDHE-ECDSA-AES128-GCM-SHA256 bits=128/128); Wed, 01 Oct 2025 09:29:53 -0700 (PDT) X-Relaying-Domain: iol.unh.edu Date: Wed, 01 Oct 2025 09:29:53 -0700 (PDT) Message-ID: <68dd5701.050a0220.ddd2e.0763SMTPIN_ADDED_MISSING@mx.google.com> Received: from [172.21.0.2] (unknown [172.18.0.240]) by postal.iol.unh.edu (Postfix) with ESMTP id B40D36051830; Wed, 1 Oct 2025 12:29:52 -0400 (EDT) Subject: |SUCCESS| pw157177-157195 [PATCH] [v1,20/20] net/ntnic: rename nt lo From: dpdklab@iol.unh.edu To: Test Report Cc: dpdk-test-reports@iol.unh.edu, Stephen Hemminger In-Reply-To: <20251001151018.250671-21-sil-plv@napatech.com> References: <20251001151018.250671-21-sil-plv@napatech.com> Content-Type: text/plain X-BeenThere: test-report@dpdk.org X-Mailman-Version: 2.1.29 Precedence: list List-Id: automatic DPDK test reports List-Unsubscribe: , List-Archive: List-Post: List-Help: List-Subscribe: , Errors-To: test-report-bounces@dpdk.org Test-Label: iol-unit-amd64-testing Test-Status: SUCCESS http://dpdk.org/patch/157195 _Testing PASS_ Submitter: Serhii Iliushyk Date: Wednesday, October 01 2025 15:10:02 DPDK git baseline: Repo:dpdk-next-net Branch: master CommitID:c04bbd131b2c14b3049bf86d3ef367b34e6fdf1e 157177-157195 --> testing pass Upstream job id: Generic-VM-Unit-Test-DPDK#31526 Test environment and result as below: +-------------------------------+----------------+ | Environment | dpdk_unit_test | +===============================+================+ | Windows Server 2022 | PASS | +-------------------------------+----------------+ | CentOS Stream 9 | PASS | +-------------------------------+----------------+ | CentOS Stream 10 | PASS | +-------------------------------+----------------+ | Fedora Linux 40 | PASS | +-------------------------------+----------------+ | Debian GNU/Linux 12 | PASS | +-------------------------------+----------------+ | Fedora Linux 41 | PASS | +-------------------------------+----------------+ | Fedora Linux 42 | PASS | +-------------------------------+----------------+ | Red Hat Enterprise Linux 8.10 | PASS | +-------------------------------+----------------+ | Red Hat Enterprise Linux 9.5 | PASS | +-------------------------------+----------------+ | Ubuntu 22.04 | PASS | +-------------------------------+----------------+ | Ubuntu 24.04 | PASS | +-------------------------------+----------------+ | Ubuntu 20.04 | PASS | +-------------------------------+----------------+ Windows Server 2022 Kernel: 10.0.20348.2031 Compiler: clang 15.0.7, gcc 14.1.0 (MinGW), and MSVC VS 19.39.33521 CentOS Stream 9 Kernel: 5.15 Compiler: gcc gcc (GCC) 11.5.0 20240719 (Red Hat 11.5.0-11) CentOS Stream 10 Kernel: 5.15 Compiler: gcc gcc (GCC) 14.2.1 20250110 (Red Hat 14.2.1-8) Fedora Linux 40 Kernel: 5.15 Compiler: gcc gcc (GCC) 14.2.1 20240912 (Red Hat 14.2.1-3) Debian GNU/Linux 12 Kernel: 5.15 Compiler: gcc gcc (Debian 12.2.0-14+deb12u1) 12.2.0 Fedora Linux 41 Kernel: 5.15 Compiler: clang gcc (GCC) 14.3.1 20250523 (Red Hat 14.3.1-1) Fedora Linux 42 Kernel: 5.15 Compiler: gcc gcc (GCC) 15.2.1 20250808 (Red Hat 15.2.1-1) Red Hat Enterprise Linux 8.10 Kernel: 5.15 Compiler: gcc gcc (GCC) 8.5.0 20210514 (Red Hat 8.5.0-22) Red Hat Enterprise Linux 9.5 Kernel: 5.15 Compiler: gcc gcc (GCC) 11.5.0 20240719 (Red Hat 11.5.0-2) Ubuntu 22.04 Kernel: 5.15 Compiler: gcc gcc (Ubuntu 11.4.0-1ubuntu1~22.04) 11.4.0 Ubuntu 24.04 Kernel: 5.15 Compiler: gcc gcc (Ubuntu 13.3.0-6ubuntu2~24.04) 13.3.0 Ubuntu 20.04 Kernel: 5.15 Compiler: gcc gcc (Ubuntu 9.4.0-1ubuntu1~20.04.2) 9.4.0 To view detailed results, visit: https://lab.dpdk.org/results/dashboard/patchsets/34194/ UNH-IOL DPDK Community Lab To manage your email subscriptions, visit: https://lab.dpdk.org/results/dashboard/preferences/subscriptions/