From: dpdklab@iol.unh.edu
To: Test Report <test-report@dpdk.org>
Cc: dpdk-test-reports@iol.unh.edu,
Stephen Hemminger <stephen@networkplumber.org>
Subject: |SUCCESS| pw157177-157195 [PATCH] [v1,20/20] net/ntnic: rename nt lo
Date: Wed, 01 Oct 2025 09:31:32 -0700 (PDT) [thread overview]
Message-ID: <68dd5764.170a0220.3441c4.07fbSMTPIN_ADDED_MISSING@mx.google.com> (raw)
In-Reply-To: <20251001151018.250671-21-sil-plv@napatech.com>
Test-Label: iol-compile-amd64-testing
Test-Status: SUCCESS
http://dpdk.org/patch/157195
_Testing PASS_
Submitter: Serhii Iliushyk <sil-plv@napatech.com>
Date: Wednesday, October 01 2025 15:10:02
DPDK git baseline: Repo:dpdk-next-net
Branch: master
CommitID:c04bbd131b2c14b3049bf86d3ef367b34e6fdf1e
157177-157195 --> testing pass
Upstream job id: Windows-Compile-DPDK-Native#31358
Test environment and result as below:
+---------------------+--------------------+-------------------------+-------------------+----------------------+
| Environment | dpdk_meson_compile | dpdk_llvm_clang_compile | dpdk_msvc_compile | dpdk_mingw64_compile |
+=====================+====================+=========================+===================+======================+
| Ubuntu 20.04 | PASS | SKIPPED | SKIPPED | SKIPPED |
+---------------------+--------------------+-------------------------+-------------------+----------------------+
| FreeBSD 14.2 | PASS | SKIPPED | SKIPPED | SKIPPED |
+---------------------+--------------------+-------------------------+-------------------+----------------------+
| Windows Server 2022 | SKIPPED | PASS | PASS | PASS |
+---------------------+--------------------+-------------------------+-------------------+----------------------+
Ubuntu 20.04
Kernel: 4.19
Compiler: gcc gcc (Ubuntu 9.4.0-1ubuntu1~20.04.2) 9.4.0
FreeBSD 14.2
Kernel: 14.2-RELEASE
Compiler: clang 18.1.6
Windows Server 2022
Kernel: 10.0.20348.2031
Compiler: clang 15.0.7, gcc 14.1.0 (MinGW), and MSVC VS 19.39.33521
To view detailed results, visit:
https://lab.dpdk.org/results/dashboard/patchsets/34194/
UNH-IOL DPDK Community Lab
To manage your email subscriptions, visit:
https://lab.dpdk.org/results/dashboard/preferences/subscriptions/
next prev parent reply other threads:[~2025-10-01 16:31 UTC|newest]
Thread overview: 18+ messages / expand[flat|nested] mbox.gz Atom feed top
[not found] <20251001151018.250671-21-sil-plv@napatech.com>
2025-10-01 14:52 ` |SUCCESS| pw157177-157195 [PATCH v1 20/20] net/ntnic: rename nt log types qemudev
2025-10-01 14:57 ` qemudev
2025-10-01 15:13 ` |SUCCESS| pw157195 " checkpatch
2025-10-01 15:53 ` |SUCCESS| pw157177-157195 [PATCH] [v1,20/20] net/ntnic: rename nt lo dpdklab
2025-10-01 15:59 ` |PENDING| " dpdklab
2025-10-01 16:00 ` |SUCCESS| " dpdklab
2025-10-01 16:06 ` |PENDING| " dpdklab
2025-10-01 16:12 ` |SUCCESS| " dpdklab
2025-10-01 16:16 ` dpdklab
2025-10-01 16:29 ` dpdklab
2025-10-01 16:31 ` dpdklab [this message]
2025-10-01 16:35 ` dpdklab
2025-10-01 16:46 ` dpdklab
2025-10-01 16:49 ` dpdklab
2025-10-01 16:54 ` dpdklab
2025-10-01 17:08 ` dpdklab
2025-10-01 17:24 ` dpdklab
2025-10-02 15:01 ` dpdklab
Reply instructions:
You may reply publicly to this message via plain-text email
using any one of the following methods:
* Save the following mbox file, import it into your mail client,
and reply-to-all from there: mbox
Avoid top-posting and favor interleaved quoting:
https://en.wikipedia.org/wiki/Posting_style#Interleaved_style
* Reply using the --to, --cc, and --in-reply-to
switches of git-send-email(1):
git send-email \
--in-reply-to=68dd5764.170a0220.3441c4.07fbSMTPIN_ADDED_MISSING@mx.google.com \
--to=dpdklab@iol.unh.edu \
--cc=dpdk-test-reports@iol.unh.edu \
--cc=stephen@networkplumber.org \
--cc=test-report@dpdk.org \
/path/to/YOUR_REPLY
https://kernel.org/pub/software/scm/git/docs/git-send-email.html
* If your mail client supports setting the In-Reply-To header
via mailto: links, try the mailto: link
Be sure your reply has a Subject: header at the top and a blank line
before the message body.
This is a public inbox, see mirroring instructions
for how to clone and mirror all data and code used for this inbox;
as well as URLs for NNTP newsgroup(s).