From mboxrd@z Thu Jan 1 00:00:00 1970 Return-Path: Received: from mails.dpdk.org (mails.dpdk.org [217.70.189.124]) by inbox.dpdk.org (Postfix) with ESMTP id E3C7448883 for ; Wed, 1 Oct 2025 18:31:33 +0200 (CEST) Received: from mails.dpdk.org (localhost [127.0.0.1]) by mails.dpdk.org (Postfix) with ESMTP id DA53D400D5; Wed, 1 Oct 2025 18:31:33 +0200 (CEST) Received: from mail-pg1-f225.google.com (mail-pg1-f225.google.com [209.85.215.225]) by mails.dpdk.org (Postfix) with ESMTP id 2DBEB400D5 for ; Wed, 1 Oct 2025 18:31:33 +0200 (CEST) Received: by mail-pg1-f225.google.com with SMTP id 41be03b00d2f7-b57de3f63c8so8686a12.3 for ; Wed, 01 Oct 2025 09:31:33 -0700 (PDT) DKIM-Signature: v=1; a=rsa-sha256; c=relaxed/relaxed; d=iol.unh.edu; s=unh-iol; t=1759336292; x=1759941092; darn=dpdk.org; h=references:in-reply-to:cc:to:from:subject:message-id:date:from:to :cc:subject:date:message-id:reply-to; bh=cZR+xuM7FPLtTQuIridUYvL9FgiJz5emqkMXjEXVluQ=; b=YXF/NN91T7UDIlsXYB/Lbe+F1EnLYnVTKe7bHAhZLzMpC6TGRPitXvp3g0dTGV38IH Qc7+1gqanRXTztO5l5OJYJ4qKli+y/JC0qNAg0i2B4to0Ovq+mfLUOsJaHpso2LeDMsz rw7nZ8TwKjOSP5/WI/6aSwUlab+MA4hHIHw1s= X-Google-DKIM-Signature: v=1; a=rsa-sha256; c=relaxed/relaxed; d=1e100.net; s=20230601; t=1759336292; x=1759941092; h=references:in-reply-to:cc:to:from:subject:message-id:date :x-gm-message-state:from:to:cc:subject:date:message-id:reply-to; bh=cZR+xuM7FPLtTQuIridUYvL9FgiJz5emqkMXjEXVluQ=; b=KUWZqi8RjP2lOH/Jrqj/nFrmVkCTKI8VRBGVP5k1nM8OqvnwTlOi2yrP+UhInkSwkr f+0a4HEvgGgtSo0HaIawpjZVvpqH/DeCuO3Zot/evqHy4Gw9vRGM80+pwvrOpoAjcitN gcsg2irq4lYzH18FjfRj8gANwNfvgfeMbkE5JZkHMlKxpBiAoFEJiXtDBeP0oSuXij5O QhsbPI98ivzGgOPWfLC5kDso/6M31k5weP21lrjT3xV7tKKntVwwRDQ+3uju0rABoOSY UVruqgr6yOi+YVO9UTecW2+BE26KtTXcFdyqoA1hleoC07ORppDzJh4qZTvhAxk4QwCo yUIQ== X-Gm-Message-State: AOJu0YyO0o172oPKFmWAVdgMjk3KO8buLC6M89czujluazNY7jFo4cOs 1GN8JTYDgjTWWmdSMTa4Ew1Mhyi0W5oS9Vr9mNgPAKojG4WSseF0KvcRrKa8PQycPkL2VdtyqNO flI3J/wiWZjI6UzNL8uOcUePCrg7XvejdRljTk0n1jAjd X-Gm-Gg: ASbGncsnRIEjyv6+U66EZypK2sU4ZPnRqvqTtvtWDeIqlFknVKZ7BPKgoPUXN4zizFZ q+1A4SktR1xMWa01HEgjHQD2iOoUWxnYYk/fog3FWGw6YunI6N0U6mZV/31VL6RSJPZS0sIcqpB LSak/GTx+y7ueNtqklaul+zLxFcluUnjZUgimKIfRSVh/CQvQdGzW+D2+M2PxnKOjT55C/QxWd+ VdZeeuhO1DEPNiSnPGrk7uB8z30CgxIUvDRthlvdMWCzziXogUY8GU3oo5t7v4fq2sF+o6p7/q6 fNH18dW+40b+bwj+hTex+l/h5TtTRJtlVh+4eaR3OzytEKv5usqhyU2wZqeUANeF6u/oPQV7BiF 01g== X-Google-Smtp-Source: AGHT+IHqdlOlefVqTJyRCafSMu3Idcb4EZT8CxMPMJUwFVWAxlraEXNTdylH+JdKbKvBIlC/P7u9Hnskig+C X-Received: by 2002:a17:903:1c5:b0:268:1034:ac8b with SMTP id d9443c01a7336-28e7f2a450emr60211745ad.26.1759336292284; Wed, 01 Oct 2025 09:31:32 -0700 (PDT) Received: from postal.iol.unh.edu (postal.iol.unh.edu. [132.177.123.84]) by smtp-relay.gmail.com with ESMTPS id d9443c01a7336-28e8d118f86sm75335ad.27.2025.10.01.09.31.32 (version=TLS1_2 cipher=ECDHE-ECDSA-AES128-GCM-SHA256 bits=128/128); Wed, 01 Oct 2025 09:31:32 -0700 (PDT) X-Relaying-Domain: iol.unh.edu Date: Wed, 01 Oct 2025 09:31:32 -0700 (PDT) Message-ID: <68dd5764.170a0220.3441c4.07fbSMTPIN_ADDED_MISSING@mx.google.com> Received: from [172.21.0.2] (unknown [172.18.0.240]) by postal.iol.unh.edu (Postfix) with ESMTP id 2546C6051830; Wed, 1 Oct 2025 12:31:31 -0400 (EDT) Subject: |SUCCESS| pw157177-157195 [PATCH] [v1,20/20] net/ntnic: rename nt lo From: dpdklab@iol.unh.edu To: Test Report Cc: dpdk-test-reports@iol.unh.edu, Stephen Hemminger In-Reply-To: <20251001151018.250671-21-sil-plv@napatech.com> References: <20251001151018.250671-21-sil-plv@napatech.com> Content-Type: text/plain X-BeenThere: test-report@dpdk.org X-Mailman-Version: 2.1.29 Precedence: list List-Id: automatic DPDK test reports List-Unsubscribe: , List-Archive: List-Post: List-Help: List-Subscribe: , Errors-To: test-report-bounces@dpdk.org Test-Label: iol-compile-amd64-testing Test-Status: SUCCESS http://dpdk.org/patch/157195 _Testing PASS_ Submitter: Serhii Iliushyk Date: Wednesday, October 01 2025 15:10:02 DPDK git baseline: Repo:dpdk-next-net Branch: master CommitID:c04bbd131b2c14b3049bf86d3ef367b34e6fdf1e 157177-157195 --> testing pass Upstream job id: Windows-Compile-DPDK-Native#31358 Test environment and result as below: +---------------------+--------------------+-------------------------+-------------------+----------------------+ | Environment | dpdk_meson_compile | dpdk_llvm_clang_compile | dpdk_msvc_compile | dpdk_mingw64_compile | +=====================+====================+=========================+===================+======================+ | Ubuntu 20.04 | PASS | SKIPPED | SKIPPED | SKIPPED | +---------------------+--------------------+-------------------------+-------------------+----------------------+ | FreeBSD 14.2 | PASS | SKIPPED | SKIPPED | SKIPPED | +---------------------+--------------------+-------------------------+-------------------+----------------------+ | Windows Server 2022 | SKIPPED | PASS | PASS | PASS | +---------------------+--------------------+-------------------------+-------------------+----------------------+ Ubuntu 20.04 Kernel: 4.19 Compiler: gcc gcc (Ubuntu 9.4.0-1ubuntu1~20.04.2) 9.4.0 FreeBSD 14.2 Kernel: 14.2-RELEASE Compiler: clang 18.1.6 Windows Server 2022 Kernel: 10.0.20348.2031 Compiler: clang 15.0.7, gcc 14.1.0 (MinGW), and MSVC VS 19.39.33521 To view detailed results, visit: https://lab.dpdk.org/results/dashboard/patchsets/34194/ UNH-IOL DPDK Community Lab To manage your email subscriptions, visit: https://lab.dpdk.org/results/dashboard/preferences/subscriptions/