From mboxrd@z Thu Jan 1 00:00:00 1970 Return-Path: Received: from mails.dpdk.org (mails.dpdk.org [217.70.189.124]) by inbox.dpdk.org (Postfix) with ESMTP id CB36948883 for ; Wed, 1 Oct 2025 18:39:03 +0200 (CEST) Received: from mails.dpdk.org (localhost [127.0.0.1]) by mails.dpdk.org (Postfix) with ESMTP id 9A9F2400D5; Wed, 1 Oct 2025 18:39:03 +0200 (CEST) Received: from mail-il1-f227.google.com (mail-il1-f227.google.com [209.85.166.227]) by mails.dpdk.org (Postfix) with ESMTP id 7B71D400D5 for ; Wed, 1 Oct 2025 18:39:02 +0200 (CEST) Received: by mail-il1-f227.google.com with SMTP id e9e14a558f8ab-428f0147279so395475ab.1 for ; Wed, 01 Oct 2025 09:39:02 -0700 (PDT) DKIM-Signature: v=1; a=rsa-sha256; c=relaxed/relaxed; d=iol.unh.edu; s=unh-iol; t=1759336742; x=1759941542; darn=dpdk.org; h=references:in-reply-to:cc:to:from:subject:message-id:date:from:to :cc:subject:date:message-id:reply-to; bh=5X5o0DyMAvfkKZk9mqrre6GFKQdQDLN9T73s81lVo5k=; b=fSbV8esyyBLk+lGJ1Rd5CQh9bd0+qs56n2JhvrNgTQiDN6eCwjKsNBPWohILBTvMCm FIiZTbUxznejx2vU/CwQ/UNBicwY5tzGv+88AjFDJInra5V9aNKArKapJNWBi4H/kQzO gpDEC3m2Gya6jkFcRN+vWMhcZridaquZY/7dc= X-Google-DKIM-Signature: v=1; a=rsa-sha256; c=relaxed/relaxed; d=1e100.net; s=20230601; t=1759336742; x=1759941542; h=references:in-reply-to:cc:to:from:subject:message-id:date :x-gm-message-state:from:to:cc:subject:date:message-id:reply-to; bh=5X5o0DyMAvfkKZk9mqrre6GFKQdQDLN9T73s81lVo5k=; b=sp1Wr73Xnhyc6laoz6XMiaKd77DdyVwyo83d/dabyDfG+ODkB1kht+8G9zMfHSNOk0 CuQexT5MFknpaN/vcGQ/AjhtWB0czoBmoehD6G6YiClhnbHwQNiPSt/ZN3p92cgmqCH1 GzJupd6kQxQbrPCLXDV4JFrtMJ6d1RGQIUHicelyJjGwx9+NajyPvFFJLRwlVjANDUF1 oe7Vt/uF1utJR7hSbKgHqmBW43FAyy+CKmgf50NXrcaNa9sV3dfUX6WnA/xQAn+iWuKs Bl7j0EbM+CX12PZIoLNhdXeJpj7kQGe/sYx4+/FK7Mkj4ff5YCDiSUc1I5x2d/bwQLhl R7tw== X-Gm-Message-State: AOJu0Yzksbcjut6H/Jzlr+v00qVZ9AzhqrB9Cij6zcF4RnJY+PmrliMp 7vLO/mDKHFceYzreICYrtpSrYTGe2Zn+BtDANZjYj1ZnPxk2Zsp0I15HaKRA4RCqeI4Mm+X5ahq 4KaGVnGOU6URysWqYGVWmruI5KdNbVOfVGA02VIBM3ZOH X-Gm-Gg: ASbGncuNLu4Xt4M82Ctb09Ec8AJ7HwdUOTXHosQJ+G7koYifSMutyXV9cgA9SK4L4oA 3TNkXutGCiD/l6w2yk818SpD+AjAyFNu5KDsXL006FGOzg4K5bDH8/4m/PXDDReoTHzEWPcfjI4 Xnnc2TJgc2nlpi8Q2ixJeMq1JdmyXXn+TnRQhXhdaJdrtvvhrZTqCxcks1TRI1M9Uymk1+2WHTH S5hBvArcPZOnsc+jJZULl5bMgqpNZFKkJWdfbEfBRpn+l1UydDnfn4iEhjjFeqKJQSUooqzkFWb ERsPU0Yb3NsaEo5FcuyOnC3KESKpExiPBXru8qhhuaY/+fYczzYbFNzgNvZ0Na8bFRH8k9WrRej EwA== X-Google-Smtp-Source: AGHT+IFeQdvhXDNhzsyo8edSJ6vM2EuTFJvuJzdwNDaLeVQcK7BIoPWru0ozHXr/a9zYA9CMxRH5xVe+hO6q X-Received: by 2002:a05:6e02:1686:b0:424:30f:8e7c with SMTP id e9e14a558f8ab-42d81612b95mr64803265ab.10.1759336741733; Wed, 01 Oct 2025 09:39:01 -0700 (PDT) Received: from postal.iol.unh.edu (postal.iol.unh.edu. [132.177.123.84]) by smtp-relay.gmail.com with ESMTPS id e9e14a558f8ab-42d8b29f8f7sm89595ab.41.2025.10.01.09.39.01 (version=TLS1_2 cipher=ECDHE-ECDSA-AES128-GCM-SHA256 bits=128/128); Wed, 01 Oct 2025 09:39:01 -0700 (PDT) X-Relaying-Domain: iol.unh.edu Date: Wed, 01 Oct 2025 09:39:01 -0700 (PDT) Message-ID: <68dd5925.920a0220.fb3a8.0958SMTPIN_ADDED_MISSING@mx.google.com> Received: from [172.21.0.3] (unknown [172.18.0.240]) by postal.iol.unh.edu (Postfix) with ESMTP id 3E7956051830; Wed, 1 Oct 2025 12:39:01 -0400 (EDT) Subject: |SUCCESS| pw157151-157155 [PATCH] [v3,5/5] usertools/mbuf: parse mbu From: dpdklab@iol.unh.edu To: Test Report Cc: dpdk-test-reports@iol.unh.edu In-Reply-To: <20250930233828.3999565-6-thomas@monjalon.net> References: <20250930233828.3999565-6-thomas@monjalon.net> Content-Type: text/plain X-BeenThere: test-report@dpdk.org X-Mailman-Version: 2.1.29 Precedence: list List-Id: automatic DPDK test reports List-Unsubscribe: , List-Archive: List-Post: List-Help: List-Subscribe: , Errors-To: test-report-bounces@dpdk.org Test-Label: iol-compile-amd64-testing Test-Status: SUCCESS http://dpdk.org/patch/157155 _Testing PASS_ Submitter: Thomas Monjalon Date: Tuesday, September 30 2025 23:25:06 DPDK git baseline: Repo:dpdk Branch: master CommitID:f3878b615e69a12087a6c5d212723478cfc79c31 157151-157155 --> testing pass Upstream job id: Generic-DPDK-Compile-Meson#430315 Test environment and result as below: +------------------------------+--------------------+-------------------------+-------------------+----------------------+-------------------+ | Environment | dpdk_meson_compile | dpdk_llvm_clang_compile | dpdk_msvc_compile | dpdk_mingw64_compile | dpdk_compile_spdk | +==============================+====================+=========================+===================+======================+===================+ | Ubuntu 20.04 | PASS | SKIPPED | SKIPPED | SKIPPED | SKIPPED | +------------------------------+--------------------+-------------------------+-------------------+----------------------+-------------------+ | FreeBSD 14.2 | PASS | SKIPPED | SKIPPED | SKIPPED | SKIPPED | +------------------------------+--------------------+-------------------------+-------------------+----------------------+-------------------+ | Red Hat Enterprise Linux 9.5 | PASS | SKIPPED | SKIPPED | SKIPPED | SKIPPED | +------------------------------+--------------------+-------------------------+-------------------+----------------------+-------------------+ | Alpine Linux 3.22.0 | PASS | SKIPPED | SKIPPED | SKIPPED | SKIPPED | +------------------------------+--------------------+-------------------------+-------------------+----------------------+-------------------+ | Ubuntu 22.04 | PASS | SKIPPED | SKIPPED | SKIPPED | PASS | +------------------------------+--------------------+-------------------------+-------------------+----------------------+-------------------+ | CentOS Stream 9 | PASS | SKIPPED | SKIPPED | SKIPPED | PASS | +------------------------------+--------------------+-------------------------+-------------------+----------------------+-------------------+ | Windows Server 2022 | SKIPPED | PASS | PASS | PASS | SKIPPED | +------------------------------+--------------------+-------------------------+-------------------+----------------------+-------------------+ Ubuntu 20.04 Kernel: 4.19 Compiler: gcc gcc (Ubuntu 9.4.0-1ubuntu1~20.04.2) 9.4.0 FreeBSD 14.2 Kernel: 14.2-RELEASE Compiler: clang 18.1.6 Red Hat Enterprise Linux 9.5 Kernel: 5.15 Compiler: gcc gcc (GCC) 11.5.0 20240719 (Red Hat 11.5.0-2) Alpine Linux 3.22.0 Kernel: 5.15 Compiler: gcc gcc (Alpine 14.2.0) 14.2.0 Ubuntu 22.04 Kernel: 5.15 Compiler: gcc gcc (Ubuntu 11.4.0-1ubuntu1~22.04) 11.4.0 CentOS Stream 9 Kernel: 5.15 Compiler: gcc gcc (GCC) 11.5.0 20240719 (Red Hat 11.5.0-11) Windows Server 2022 Kernel: 10.0.20348.2031 Compiler: clang 15.0.7, gcc 14.1.0 (MinGW), and MSVC VS 19.39.33521 To view detailed results, visit: https://lab.dpdk.org/results/dashboard/patchsets/34187/ UNH-IOL DPDK Community Lab To manage your email subscriptions, visit: https://lab.dpdk.org/results/dashboard/preferences/subscriptions/