From mboxrd@z Thu Jan 1 00:00:00 1970 Return-Path: Received: from mails.dpdk.org (mails.dpdk.org [217.70.189.124]) by inbox.dpdk.org (Postfix) with ESMTP id 7E55148883 for ; Wed, 1 Oct 2025 18:54:30 +0200 (CEST) Received: from mails.dpdk.org (localhost [127.0.0.1]) by mails.dpdk.org (Postfix) with ESMTP id 45DEE400D5; Wed, 1 Oct 2025 18:54:30 +0200 (CEST) Received: from mail-yw1-f228.google.com (mail-yw1-f228.google.com [209.85.128.228]) by mails.dpdk.org (Postfix) with ESMTP id 969F7400D5 for ; Wed, 1 Oct 2025 18:54:29 +0200 (CEST) Received: by mail-yw1-f228.google.com with SMTP id 00721157ae682-71d60501806so1256147b3.2 for ; Wed, 01 Oct 2025 09:54:29 -0700 (PDT) DKIM-Signature: v=1; a=rsa-sha256; c=relaxed/relaxed; d=iol.unh.edu; s=unh-iol; t=1759337669; x=1759942469; darn=dpdk.org; h=references:in-reply-to:cc:to:from:subject:message-id:date:from:to :cc:subject:date:message-id:reply-to; bh=7fqPPZaJ1vthEE+R3YYGO7Ka8dNIzjPax3S72NRIK/0=; b=TAgCHDYzN5hJnYc5SAiOP6MS1KqfspxlcJy+BPMOB4EzhEKjHfKrB6wZa9cxLgA5Gb Dop/6+QZYOVIIhSmTy5AeFvuN/pf0cxIjVs4afvQ17+LX6bTi7GV/xZXcRMibH2zUNu4 7924EZtkwqcoku4XKkiKHixl2U2GBogorHFmM= X-Google-DKIM-Signature: v=1; a=rsa-sha256; c=relaxed/relaxed; d=1e100.net; s=20230601; t=1759337669; x=1759942469; h=references:in-reply-to:cc:to:from:subject:message-id:date :x-gm-message-state:from:to:cc:subject:date:message-id:reply-to; bh=7fqPPZaJ1vthEE+R3YYGO7Ka8dNIzjPax3S72NRIK/0=; b=hudIS8t/m7dpkCvj2KcZ7HRmZ+kmuIOvE0ZvN0T5RGzyHUUWOEb0g/0zvfmynUftG8 Fz90AJx4fYhtFc1gxI/uyaegz2zn5SKRRnccbYPQaFrm+l4srCcMk5tvr9zam22RvqDr vN60fzv1dIFGJ+sUkAO3Kem7W0+JMgxESKBTvwYXY0q1Sknu1dTIIFXsw5tE8Xp+FzQn vS6b1YlK6h2DF8jUgHdAhqP9xb8Uoe+P1d0nCcNzzsMyX5sgt76VyMHfR6aBUimKH7a/ 48GbWam+cuFB7HYKJK7+HRJJsNlciL7Cnl478elxpT+PjbLiKIDOgcg8+fdGA7qgXYam wzSQ== X-Gm-Message-State: AOJu0Yx8r3jp0KC8yaHrsoGZTHRql3z97MIQeCAe290hi1Gbn6rvLtPo g5CnrQXF3A27QtbnrNj5F3+ySfxY9exNWULj1YJAeH8EX7I6D2OtuCUVe7jjHssrghJS5JlH1S+ qweHXenOKYgryiommmiAww6kzdSiKuDCTpb3nEbk/hVCX X-Gm-Gg: ASbGncsHOzmNTlzXpJ/nWELeRsIDNEWsczNuUfbnUhrVxcy5fA7gsAvh0GB/rb5o+Gp 0qfmBWgXe+6lEZ7tZhAmI1GeDWk6/cGp6pfNKDg804+5SY7rPCegw1Fg9RIoQICIOU4T5ftAkNV vNLBzSk3dIks0azd3g8NiPQ0bCAGLx8ZviwXwFxe+1br2cqEsCCWw4de54VL6RC47CJzP+3Rdao 1rdT6tyr35oqvlAXGwu8KABADHHDZyf2AnHRZ8PrTlS4TPU7SvjS5KXCLZ9MWI/A4lBUkoo6JPO AP0bbRIK+bCh2H4tA5H5zFFA0h9UqxqN57MY+TZQkJfwKifyvlJsOD79Ed8taeKlTnEkcEpQo+8 B8w== X-Google-Smtp-Source: AGHT+IErAW/fQspEq9iiDuIE5fvMVbf3nyHBeQLpWPjhplttCk17ZywFBk+kq+UZQmJE9aqu4DWcS5UMpJRO X-Received: by 2002:a05:690c:5512:10b0:75f:725f:a345 with SMTP id 00721157ae682-77f6f343816mr49414517b3.34.1759337668712; Wed, 01 Oct 2025 09:54:28 -0700 (PDT) Received: from postal.iol.unh.edu (postal.iol.unh.edu. [132.177.123.84]) by smtp-relay.gmail.com with ESMTPS id 00721157ae682-77f81c35a5esm87957b3.15.2025.10.01.09.54.28 (version=TLS1_2 cipher=ECDHE-ECDSA-AES128-GCM-SHA256 bits=128/128); Wed, 01 Oct 2025 09:54:28 -0700 (PDT) X-Relaying-Domain: iol.unh.edu Date: Wed, 01 Oct 2025 09:54:28 -0700 (PDT) Message-ID: <68dd5cc4.050a0220.1c841a.08a3SMTPIN_ADDED_MISSING@mx.google.com> Received: from [172.21.0.3] (unknown [172.18.0.240]) by postal.iol.unh.edu (Postfix) with ESMTP id 6A3636051830; Wed, 1 Oct 2025 12:54:28 -0400 (EDT) Subject: |SUCCESS| pw157177-157195 [PATCH] [v1,20/20] net/ntnic: rename nt lo From: dpdklab@iol.unh.edu To: Test Report Cc: dpdk-test-reports@iol.unh.edu, Stephen Hemminger In-Reply-To: <20251001151018.250671-21-sil-plv@napatech.com> References: <20251001151018.250671-21-sil-plv@napatech.com> Content-Type: text/plain X-BeenThere: test-report@dpdk.org X-Mailman-Version: 2.1.29 Precedence: list List-Id: automatic DPDK test reports List-Unsubscribe: , List-Archive: List-Post: List-Help: List-Subscribe: , Errors-To: test-report-bounces@dpdk.org Test-Label: iol-unit-amd64-testing Test-Status: SUCCESS http://dpdk.org/patch/157195 _Testing PASS_ Submitter: Serhii Iliushyk Date: Wednesday, October 01 2025 15:10:02 DPDK git baseline: Repo:dpdk-next-net Branch: master CommitID:c04bbd131b2c14b3049bf86d3ef367b34e6fdf1e 157177-157195 --> testing pass Upstream job id: Generic-VM-Unit-Test-DPDK#31527 Test environment and result as below: +-------------------------------+----------------+ | Environment | dpdk_unit_test | +===============================+================+ | Windows Server 2022 | PASS | +-------------------------------+----------------+ | CentOS Stream 9 | PASS | +-------------------------------+----------------+ | CentOS Stream 10 | PASS | +-------------------------------+----------------+ | Fedora Linux 40 | PASS | +-------------------------------+----------------+ | Debian GNU/Linux 12 | PASS | +-------------------------------+----------------+ | Fedora Linux 41 | PASS | +-------------------------------+----------------+ | Fedora Linux 42 | PASS | +-------------------------------+----------------+ | Red Hat Enterprise Linux 8.10 | PASS | +-------------------------------+----------------+ | Red Hat Enterprise Linux 9.5 | PASS | +-------------------------------+----------------+ | Ubuntu 22.04 | PASS | +-------------------------------+----------------+ | Ubuntu 24.04 | PASS | +-------------------------------+----------------+ | Ubuntu 20.04 | PASS | +-------------------------------+----------------+ Windows Server 2022 Kernel: 10.0.20348.2031 Compiler: clang 15.0.7, gcc 14.1.0 (MinGW), and MSVC VS 19.39.33521 CentOS Stream 9 Kernel: 5.15 Compiler: gcc gcc (GCC) 11.5.0 20240719 (Red Hat 11.5.0-11) CentOS Stream 10 Kernel: 5.15 Compiler: gcc gcc (GCC) 14.2.1 20250110 (Red Hat 14.2.1-8) Fedora Linux 40 Kernel: 5.15 Compiler: gcc gcc (GCC) 14.2.1 20240912 (Red Hat 14.2.1-3) Debian GNU/Linux 12 Kernel: 5.15 Compiler: gcc gcc (Debian 12.2.0-14+deb12u1) 12.2.0 Fedora Linux 41 Kernel: 5.15 Compiler: clang gcc (GCC) 14.3.1 20250523 (Red Hat 14.3.1-1) Fedora Linux 42 Kernel: 5.15 Compiler: gcc gcc (GCC) 15.2.1 20250808 (Red Hat 15.2.1-1) Red Hat Enterprise Linux 8.10 Kernel: 5.15 Compiler: gcc gcc (GCC) 8.5.0 20210514 (Red Hat 8.5.0-22) Red Hat Enterprise Linux 9.5 Kernel: 5.15 Compiler: gcc gcc (GCC) 11.5.0 20240719 (Red Hat 11.5.0-2) Ubuntu 22.04 Kernel: 5.15 Compiler: gcc gcc (Ubuntu 11.4.0-1ubuntu1~22.04) 11.4.0 Ubuntu 24.04 Kernel: 5.15 Compiler: gcc gcc (Ubuntu 13.3.0-6ubuntu2~24.04) 13.3.0 Ubuntu 20.04 Kernel: 5.15 Compiler: gcc gcc (Ubuntu 9.4.0-1ubuntu1~20.04.2) 9.4.0 To view detailed results, visit: https://lab.dpdk.org/results/dashboard/patchsets/34194/ UNH-IOL DPDK Community Lab To manage your email subscriptions, visit: https://lab.dpdk.org/results/dashboard/preferences/subscriptions/