From mboxrd@z Thu Jan 1 00:00:00 1970 Return-Path: Received: from mails.dpdk.org (mails.dpdk.org [217.70.189.124]) by inbox.dpdk.org (Postfix) with ESMTP id 7DC9848883 for ; Wed, 1 Oct 2025 19:06:12 +0200 (CEST) Received: from mails.dpdk.org (localhost [127.0.0.1]) by mails.dpdk.org (Postfix) with ESMTP id 62B7C400D5; Wed, 1 Oct 2025 19:06:12 +0200 (CEST) Received: from mail-pf1-f227.google.com (mail-pf1-f227.google.com [209.85.210.227]) by mails.dpdk.org (Postfix) with ESMTP id 752B3400D5 for ; Wed, 1 Oct 2025 19:06:11 +0200 (CEST) Received: by mail-pf1-f227.google.com with SMTP id d2e1a72fcca58-77f68fae1a8so218785b3a.1 for ; Wed, 01 Oct 2025 10:06:11 -0700 (PDT) DKIM-Signature: v=1; a=rsa-sha256; c=relaxed/relaxed; d=iol.unh.edu; s=unh-iol; t=1759338370; x=1759943170; darn=dpdk.org; h=references:in-reply-to:cc:to:from:subject:message-id:date:from:to :cc:subject:date:message-id:reply-to; bh=Tc3CQuOKwBDCF4tMc/KVkgG4XxRYJwBxIDApWOTZQJ4=; b=GMGN9pUFCsPB8MsZsjG1E+u6h0QTHp7hMQiE9YUGCUC8qJkxbd12Vhk8j5Zr6KvLi3 fVrmqAsfeCfQQIdf39omcGgChnGBumnrm3Q5DUgO4rwxk9b062ykSL4Ln0mEXBdt9nXO UDnfqsenVCupBwuYvNGI+IWuyg0YpvLm0kDwc= X-Google-DKIM-Signature: v=1; a=rsa-sha256; c=relaxed/relaxed; d=1e100.net; s=20230601; t=1759338370; x=1759943170; h=references:in-reply-to:cc:to:from:subject:message-id:date :x-gm-message-state:from:to:cc:subject:date:message-id:reply-to; bh=Tc3CQuOKwBDCF4tMc/KVkgG4XxRYJwBxIDApWOTZQJ4=; b=MfFnR5uvPzPwqw4BavuU0fplWD885LXQgzXnh+PQrkSloeCqxjZgUqKeTgFDD4jlNp lvleai3jHLlXHHkGV0ydW4jtgIG842EQdPyL9OIS3uADv31YJaqjVeWqACflCfRDbMTV nxofgyVCnj4CPxQ4qIBLrkMTXqrXnvh0vAH6E7OX+BJW5FNJM0v/NbtOo2QtHOp7LlSW W74PlrzOC29TQz/kkcNTwLPG9f5Q5cwTK18bFaOlSqqlaEGzNfc48zwQu8qdsO6diaRN zZ94IgI7aPJkbPvSaJDCo9Y8BPw+WuHc+rfGNagC2jgadncSxXrx6dy+BsAL7eI1EY+J iCkQ== X-Gm-Message-State: AOJu0YwsCFfm6PFTVD2ELPP91Q0itUCB3rzw0h4WDnaKw4DAhM/TWKh9 yM4RwkzDTtPqdKLykLZTdC3aOKF+vYp6wBC2Jc3JtcteixwOqvGr7Vr5+YO4h/Tbn6bFj+VI4A2 4k7s6fDYXKfCxVtw9fomNrfASk4vNTym7J17i7ByisUq79CedOQjwgopS2duI X-Gm-Gg: ASbGncuXx0CNU3Of46Yd4ZmIlnRVYY/+o7JsbHPrIUZoVew3ggpSqWb+VOJPV8TvuiO ahBEiPttjVdjR2Tnrz8T83ofcPsAZEZxBZ6cY18cn4Tac7CD2GT/FpwqFm/BsS5NEm1WVMfn+yQ k//AlVCXliY8MlqvRwT1gpbd/CwYKRE68tbWmdLAYFrojyl3cgluE4gDVlkYxDXMjqXbZc4kLfs ndN22xUZBkkI4bbSCpKaUD+fVV0USm0hTeOrWtlJkHq9fpIO3m9IpRVgfgv3LVhCdtMqObXgFRC P7CjQsQvpsqqH4wm6KazBvAsrcpsXUPtqFO9t/KOtYwyfu5q2Ag6V2c= X-Google-Smtp-Source: AGHT+IE9Cccdz7j4KORXCSqtOi9svSuRhahny37ijD4egi2/pBlawfVdrMhvrS38Csrx8RRdD72fNW0MRE6w X-Received: by 2002:a17:902:f542:b0:26e:49e3:55f1 with SMTP id d9443c01a7336-28e7f27cc96mr60260345ad.18.1759338370528; Wed, 01 Oct 2025 10:06:10 -0700 (PDT) Received: from postal.iol.unh.edu (postal.iol.unh.edu. [2606:4100:3880:1234::84]) by smtp-relay.gmail.com with ESMTPS id d9443c01a7336-28e8d107a94sm119815ad.13.2025.10.01.10.06.10 (version=TLS1_2 cipher=ECDHE-ECDSA-AES128-GCM-SHA256 bits=128/128); Wed, 01 Oct 2025 10:06:10 -0700 (PDT) X-Relaying-Domain: iol.unh.edu Date: Wed, 01 Oct 2025 10:06:10 -0700 (PDT) Message-ID: <68dd5f82.170a0220.7993b.0bf9SMTPIN_ADDED_MISSING@mx.google.com> Received: from [172.21.0.2] (unknown [172.18.0.240]) by postal.iol.unh.edu (Postfix) with ESMTP id 023126051830; Wed, 1 Oct 2025 13:06:10 -0400 (EDT) Subject: |SUCCESS| pw157197-157198 [PATCH] [v5,2/2] crypto/ipsec-mb: use cons From: dpdklab@iol.unh.edu To: Test Report Cc: dpdk-test-reports@iol.unh.edu In-Reply-To: <20251001153242.55987-2-kai.ji@intel.com> References: <20251001153242.55987-2-kai.ji@intel.com> Content-Type: text/plain X-BeenThere: test-report@dpdk.org X-Mailman-Version: 2.1.29 Precedence: list List-Id: automatic DPDK test reports List-Unsubscribe: , List-Archive: List-Post: List-Help: List-Subscribe: , Errors-To: test-report-bounces@dpdk.org Test-Label: iol-compile-amd64-testing Test-Status: SUCCESS http://dpdk.org/patch/157198 _Testing PASS_ Submitter: Kai Ji Date: Wednesday, October 01 2025 15:32:42 DPDK git baseline: Repo:dpdk Branch: master CommitID:2ffda8c2e357662354ee6ddcca769258c33642a9 157197-157198 --> testing pass Upstream job id: Windows-Compile-DPDK-Native#31359 Test environment and result as below: +---------------------+--------------------+-------------------+-------------------------+ | Environment | dpdk_meson_compile | dpdk_msvc_compile | dpdk_llvm_clang_compile | +=====================+====================+===================+=========================+ | Ubuntu 20.04 | PASS | SKIPPED | SKIPPED | +---------------------+--------------------+-------------------+-------------------------+ | FreeBSD 14.2 | PASS | SKIPPED | SKIPPED | +---------------------+--------------------+-------------------+-------------------------+ | Windows Server 2022 | SKIPPED | PASS | PASS | +---------------------+--------------------+-------------------+-------------------------+ Ubuntu 20.04 Kernel: 4.19 Compiler: gcc gcc (Ubuntu 9.4.0-1ubuntu1~20.04.2) 9.4.0 FreeBSD 14.2 Kernel: 14.2-RELEASE Compiler: clang 18.1.6 Windows Server 2022 Kernel: 10.0.20348.2031 Compiler: clang 15.0.7, gcc 14.1.0 (MinGW), and MSVC VS 19.39.33521 To view detailed results, visit: https://lab.dpdk.org/results/dashboard/patchsets/34195/ UNH-IOL DPDK Community Lab To manage your email subscriptions, visit: https://lab.dpdk.org/results/dashboard/preferences/subscriptions/