From mboxrd@z Thu Jan 1 00:00:00 1970 Return-Path: Received: from mails.dpdk.org (mails.dpdk.org [217.70.189.124]) by inbox.dpdk.org (Postfix) with ESMTP id 8BBDB48883 for ; Wed, 1 Oct 2025 19:27:12 +0200 (CEST) Received: from mails.dpdk.org (localhost [127.0.0.1]) by mails.dpdk.org (Postfix) with ESMTP id 86A90400D5; Wed, 1 Oct 2025 19:27:12 +0200 (CEST) Received: from mail-il1-f227.google.com (mail-il1-f227.google.com [209.85.166.227]) by mails.dpdk.org (Postfix) with ESMTP id 7CB88400D5 for ; Wed, 1 Oct 2025 19:27:11 +0200 (CEST) Received: by mail-il1-f227.google.com with SMTP id e9e14a558f8ab-4259247208aso589385ab.3 for ; Wed, 01 Oct 2025 10:27:11 -0700 (PDT) DKIM-Signature: v=1; a=rsa-sha256; c=relaxed/relaxed; d=iol.unh.edu; s=unh-iol; t=1759339631; x=1759944431; darn=dpdk.org; h=references:in-reply-to:cc:to:from:subject:message-id:date:from:to :cc:subject:date:message-id:reply-to; bh=7dvRisW3M8ooBRwodnV3PD3ZEWvenvnbFaoeuueI5ZQ=; b=Rb9QoyZvnMbkGOF5bMXc2crQ/IUOBtEB1lf/JjbIWPvKkCY2g2dYpKMj6Qy9Y1d3J5 O9z138bGB9i50h8T5CePsfC7WHFr7TJJEdpKrcsCrbcTXef4NEyTpHcZHuq35GKeBxdY nEJCcG5Yju88h80ny5VJ00YpXX0sgcr5X5GgY= X-Google-DKIM-Signature: v=1; a=rsa-sha256; c=relaxed/relaxed; d=1e100.net; s=20230601; t=1759339631; x=1759944431; h=references:in-reply-to:cc:to:from:subject:message-id:date :x-gm-message-state:from:to:cc:subject:date:message-id:reply-to; bh=7dvRisW3M8ooBRwodnV3PD3ZEWvenvnbFaoeuueI5ZQ=; b=C8qBmYanJVsKd50L9G3L6087qWlquFg3qWn/UDpGXJg6v4hLZdIsMJDWbgqmxAAPyv y2tgtLhrZBM94YwheEBcgS9EwshofDxZ13bNlzyaJ0Yi6rM132lvoeshD76KijvdAhhR YfbK9IMrhS8ifn9+grfqPTOvz5RaTnCbB+/sFJqXCbN3Awrjcf7UNre/UOvmfeRULsM/ D//HqMDQIq/sWiBqvGf9kozepAnWrnnWhWLfLVvEwntYIIClwIXSSKw+YBb1qHbMN7G/ e5RfmJr9izoV9Il4FKJFfRTxJjFUj/yRc1Jb39951PsrgtOpIoVZhylyK/hwLfmkfJwd 5TUw== X-Gm-Message-State: AOJu0YypbjFjTxuxJGpYVPquHB7U6M0MOY45oPMSkg4ysOPJaAbGs54o jvgZwvVNHHp4uBbYJUoJel6ogmCVXMs5uUB+ZzEPAgRvivmG3dtlmYqMpncNuIlhtmy1vvEGIZN 9F4OrtCFM/K593gtQxiGj4AIzMubWkJyAqDlkBpaWQKVY X-Gm-Gg: ASbGncs1BnOFxWA4eYUutCIQ/CxxpaCaQWwUF4QGt85yMgFcbNt+ysIvs7sFzWZ03F9 FR6G5jlyMt5DBjoI2dFe01cJffsV6qEssx5+nw9+B2GGrWncKAfdQ8DEUoKKFaqIqna4XFv6uUU dXsVqnQgQkye+TnHv7bes+E+7qLTtNiu9ne1WWumuXxM3gV2pb9l5XNSSoWiXosbROlcE9VAp0r gRZ8CN42gasuC+h/illsw2Y/FLybACjzqQsblJVt08opCNly/hz8dPIftaPGXxHhhRx4817Qdg5 27FQgg719TIeQOBbSUyoyDwxCCTfG3BCmXeUNx1AGcX47VJILeP2/GHyhd1LK9biJhCUy0yZd7w 7VQ== X-Google-Smtp-Source: AGHT+IGbMg8ttuNpwgpP71QcCjMoL3lhJQPQxuKeo4fh0wi2v0D4eFgzvTa7qBPcXN71rIBrg4aoUrBC0tJq X-Received: by 2002:a05:6e02:2287:b0:413:9e81:7a99 with SMTP id e9e14a558f8ab-42d816011b9mr58771225ab.1.1759339630787; Wed, 01 Oct 2025 10:27:10 -0700 (PDT) Received: from postal.iol.unh.edu (postal.iol.unh.edu. [132.177.123.84]) by smtp-relay.gmail.com with ESMTPS id 8926c6da1cb9f-57b5ed690c6sm1340173.35.2025.10.01.10.27.10 (version=TLS1_2 cipher=ECDHE-ECDSA-AES128-GCM-SHA256 bits=128/128); Wed, 01 Oct 2025 10:27:10 -0700 (PDT) X-Relaying-Domain: iol.unh.edu Date: Wed, 01 Oct 2025 10:27:10 -0700 (PDT) Message-ID: <68dd646e.050a0220.269570.01dcSMTPIN_ADDED_MISSING@mx.google.com> Received: from [172.21.0.2] (unknown [172.18.0.240]) by postal.iol.unh.edu (Postfix) with ESMTP id 55B5F6050A61; Wed, 1 Oct 2025 13:27:10 -0400 (EDT) Subject: |SUCCESS| pw157197-157198 [PATCH] [v5,2/2] crypto/ipsec-mb: use cons From: dpdklab@iol.unh.edu To: Test Report Cc: dpdk-test-reports@iol.unh.edu In-Reply-To: <20251001153242.55987-2-kai.ji@intel.com> References: <20251001153242.55987-2-kai.ji@intel.com> Content-Type: text/plain X-BeenThere: test-report@dpdk.org X-Mailman-Version: 2.1.29 Precedence: list List-Id: automatic DPDK test reports List-Unsubscribe: , List-Archive: List-Post: List-Help: List-Subscribe: , Errors-To: test-report-bounces@dpdk.org Test-Label: iol-compile-amd64-testing Test-Status: SUCCESS http://dpdk.org/patch/157198 _Testing PASS_ Submitter: Kai Ji Date: Wednesday, October 01 2025 15:32:42 DPDK git baseline: Repo:dpdk Branch: master CommitID:2ffda8c2e357662354ee6ddcca769258c33642a9 157197-157198 --> testing pass Upstream job id: Windows-Compile-DPDK-Native#31360 Test environment and result as below: +---------------------+--------------------+-------------------+-------------------------+----------------------+ | Environment | dpdk_meson_compile | dpdk_msvc_compile | dpdk_llvm_clang_compile | dpdk_mingw64_compile | +=====================+====================+===================+=========================+======================+ | Ubuntu 20.04 | PASS | SKIPPED | SKIPPED | SKIPPED | +---------------------+--------------------+-------------------+-------------------------+----------------------+ | FreeBSD 14.2 | PASS | SKIPPED | SKIPPED | SKIPPED | +---------------------+--------------------+-------------------+-------------------------+----------------------+ | Windows Server 2022 | SKIPPED | PASS | PASS | PASS | +---------------------+--------------------+-------------------+-------------------------+----------------------+ Ubuntu 20.04 Kernel: 4.19 Compiler: gcc gcc (Ubuntu 9.4.0-1ubuntu1~20.04.2) 9.4.0 FreeBSD 14.2 Kernel: 14.2-RELEASE Compiler: clang 18.1.6 Windows Server 2022 Kernel: 10.0.20348.2031 Compiler: clang 15.0.7, gcc 14.1.0 (MinGW), and MSVC VS 19.39.33521 To view detailed results, visit: https://lab.dpdk.org/results/dashboard/patchsets/34195/ UNH-IOL DPDK Community Lab To manage your email subscriptions, visit: https://lab.dpdk.org/results/dashboard/preferences/subscriptions/