From mboxrd@z Thu Jan 1 00:00:00 1970 Return-Path: Received: from mails.dpdk.org (mails.dpdk.org [217.70.189.124]) by inbox.dpdk.org (Postfix) with ESMTP id E1E6548883 for ; Wed, 1 Oct 2025 19:30:13 +0200 (CEST) Received: from mails.dpdk.org (localhost [127.0.0.1]) by mails.dpdk.org (Postfix) with ESMTP id CC814400D5; Wed, 1 Oct 2025 19:30:13 +0200 (CEST) Received: from mail-io1-f98.google.com (mail-io1-f98.google.com [209.85.166.98]) by mails.dpdk.org (Postfix) with ESMTP id 9C93C400D5 for ; Wed, 1 Oct 2025 19:30:11 +0200 (CEST) Received: by mail-io1-f98.google.com with SMTP id ca18e2360f4ac-91e578e2a61so2950839f.2 for ; Wed, 01 Oct 2025 10:30:11 -0700 (PDT) DKIM-Signature: v=1; a=rsa-sha256; c=relaxed/relaxed; d=iol.unh.edu; s=unh-iol; t=1759339811; x=1759944611; darn=dpdk.org; h=references:in-reply-to:cc:to:from:subject:message-id:date:from:to :cc:subject:date:message-id:reply-to; bh=juUSF9C4mDYXm9qnizm1P+IpsnGC5M5XS+vaShc5NJg=; b=B6Z0gcP+FtygBWDYQmgrVTkVR7S8S+VMGSNg8L+ddSvOPxeh+Knr2dO1KZbGCuR1ot ysQ6NlWJElGDGvzoaGIgERLQ7Tv2Zp+V4bPmFIVFJG6TxcAxegrLJRyrEvCzMccOaewY ahcMShvt0eSMYMDlIaLx9Tw9vB9LGnfVVHNGc= X-Google-DKIM-Signature: v=1; a=rsa-sha256; c=relaxed/relaxed; d=1e100.net; s=20230601; t=1759339811; x=1759944611; h=references:in-reply-to:cc:to:from:subject:message-id:date :x-gm-message-state:from:to:cc:subject:date:message-id:reply-to; bh=juUSF9C4mDYXm9qnizm1P+IpsnGC5M5XS+vaShc5NJg=; b=XShGyMOtyPnMtitRQrJ2RHICI8Qvxl5icEnQVyscFryLv/znyb7jB4eg4m7cf9lhsa pNWzQhsT9lMkI+iGmzTwkisVSGDNuK0xZ29kymhYJMPrPHuImcixGlKLhK8vxugh8H/Y 9f7rpxNN932t9wApVfLDV/h1ojyaXsI0f3odvemTUkP3E61YNhq4/xcwUNtS4MlnnX/w r95F2crVVl8J4rWJ+NEz5mN5ZShUT+hRGhqXZin/dL+qdJwxWccsCk2INGXR1A+9oG9p vF/fBtR5l2oZ9RmyFrB99q3KUt4CqFky5ieZMXVxp34/CryBDCIFC9Jn2jzyptIqvfxn Esmg== X-Gm-Message-State: AOJu0YxphuBZx/ecr0TkRKhutDffkCrhEGAQu3WW0tu7GurtJmj1q2gW wkC7YbiwSUZHnaWUCnFKLk1nWweI035sSirCVNZiLut0eKcBDqaCNeyDh1mMr7u+J6G78/c86p0 K5ZIBIWN9fTjYmNz+NXE9eE05KojlKKaSikN50MvHA3hB X-Gm-Gg: ASbGncu/Eai0ylnpMb2kQj6ng7UCWngT+8/t9rsWzTIH8bjkPx5szoNxqdTT6RvgLe8 0Rwvud1fc5T6kYf1uSCTOTLn89WNEbxoLocVd7LJs7zL7f6B60ZcXabmYvNniIVLRvZsF0PQSZZ N+paIGSxx/9QaCZNAH5wNyCdRy03283weFUDS4L4ZbJuoVz2Jq9qwM7DcgWMZZDgfRnXxD+2kXA p2r+Y6IpENxMZ8pHPZ6UQ+aEciz5thRUoL+8a3tsbXGghq4uzx6GNDjeyVrekrY5lqvoTl3Xyl0 41olNVbefFBq/SZYJHmj9OQRSOZ60yUcXPMP/C5Ia34aJh+s0D/Y0EhRrG9clNIFNo6pGHPYb/z ldw== X-Google-Smtp-Source: AGHT+IG/gF3vtzcvFKmQ/uZhLRrUO+zI1KRVs7VmPKXnZiw/XHderUodBuaeltb2hajRwMkhDeDXO/eu8Urr X-Received: by 2002:a05:6e02:2309:b0:427:1841:666d with SMTP id e9e14a558f8ab-42d8168d2b6mr58708875ab.30.1759339810723; Wed, 01 Oct 2025 10:30:10 -0700 (PDT) Received: from postal.iol.unh.edu (postal.iol.unh.edu. [132.177.123.84]) by smtp-relay.gmail.com with ESMTPS id e9e14a558f8ab-42d8b279825sm175975ab.26.2025.10.01.10.30.10 (version=TLS1_2 cipher=ECDHE-ECDSA-AES128-GCM-SHA256 bits=128/128); Wed, 01 Oct 2025 10:30:10 -0700 (PDT) X-Relaying-Domain: iol.unh.edu Date: Wed, 01 Oct 2025 10:30:10 -0700 (PDT) Message-ID: <68dd6522.050a0220.33c1ee.1339SMTPIN_ADDED_MISSING@mx.google.com> Received: from [172.21.0.2] (unknown [172.18.0.240]) by postal.iol.unh.edu (Postfix) with ESMTP id 40BA06050A61; Wed, 1 Oct 2025 13:30:10 -0400 (EDT) Subject: |SUCCESS| pw157197-157198 [PATCH] [v5,2/2] crypto/ipsec-mb: use cons From: dpdklab@iol.unh.edu To: Test Report Cc: dpdk-test-reports@iol.unh.edu In-Reply-To: <20251001153242.55987-2-kai.ji@intel.com> References: <20251001153242.55987-2-kai.ji@intel.com> Content-Type: text/plain X-BeenThere: test-report@dpdk.org X-Mailman-Version: 2.1.29 Precedence: list List-Id: automatic DPDK test reports List-Unsubscribe: , List-Archive: List-Post: List-Help: List-Subscribe: , Errors-To: test-report-bounces@dpdk.org Test-Label: iol-unit-amd64-testing Test-Status: SUCCESS http://dpdk.org/patch/157198 _Testing PASS_ Submitter: Kai Ji Date: Wednesday, October 01 2025 15:32:42 DPDK git baseline: Repo:dpdk Branch: master CommitID:2ffda8c2e357662354ee6ddcca769258c33642a9 157197-157198 --> testing pass Upstream job id: Generic-VM-Unit-Test-DPDK#31529 Test environment and result as below: +-------------------------------+----------------+ | Environment | dpdk_unit_test | +===============================+================+ | CentOS Stream 9 | PASS | +-------------------------------+----------------+ | CentOS Stream 10 | PASS | +-------------------------------+----------------+ | Debian GNU/Linux 12 | PASS | +-------------------------------+----------------+ | Fedora Linux 40 | PASS | +-------------------------------+----------------+ | Fedora Linux 41 | PASS | +-------------------------------+----------------+ | Fedora Linux 42 | PASS | +-------------------------------+----------------+ | Red Hat Enterprise Linux 8.10 | PASS | +-------------------------------+----------------+ | Red Hat Enterprise Linux 9.5 | PASS | +-------------------------------+----------------+ | Ubuntu 22.04 | PASS | +-------------------------------+----------------+ | Ubuntu 20.04 | PASS | +-------------------------------+----------------+ | Ubuntu 24.04 | PASS | +-------------------------------+----------------+ | Windows Server 2022 | PASS | +-------------------------------+----------------+ CentOS Stream 9 Kernel: 5.15 Compiler: gcc gcc (GCC) 11.5.0 20240719 (Red Hat 11.5.0-11) CentOS Stream 10 Kernel: 5.15 Compiler: gcc gcc (GCC) 14.2.1 20250110 (Red Hat 14.2.1-8) Debian GNU/Linux 12 Kernel: 5.15 Compiler: gcc gcc (Debian 12.2.0-14+deb12u1) 12.2.0 Fedora Linux 40 Kernel: 5.15 Compiler: gcc gcc (GCC) 14.2.1 20240912 (Red Hat 14.2.1-3) Fedora Linux 41 Kernel: 5.15 Compiler: gcc gcc (GCC) 14.3.1 20250523 (Red Hat 14.3.1-1) Fedora Linux 42 Kernel: 5.15 Compiler: gcc gcc (GCC) 15.2.1 20250808 (Red Hat 15.2.1-1) Red Hat Enterprise Linux 8.10 Kernel: 5.15 Compiler: gcc gcc (GCC) 8.5.0 20210514 (Red Hat 8.5.0-22) Red Hat Enterprise Linux 9.5 Kernel: 5.15 Compiler: gcc gcc (GCC) 11.5.0 20240719 (Red Hat 11.5.0-2) Ubuntu 22.04 Kernel: 5.15 Compiler: gcc gcc (Ubuntu 11.4.0-1ubuntu1~22.04) 11.4.0 Ubuntu 20.04 Kernel: 5.15 Compiler: gcc gcc (Ubuntu 9.4.0-1ubuntu1~20.04.2) 9.4.0 Ubuntu 24.04 Kernel: 5.15 Compiler: gcc gcc (Ubuntu 13.3.0-6ubuntu2~24.04) 13.3.0 Windows Server 2022 Kernel: 10.0.20348.2031 Compiler: clang 15.0.7, gcc 14.1.0 (MinGW), and MSVC VS 19.39.33521 To view detailed results, visit: https://lab.dpdk.org/results/dashboard/patchsets/34195/ UNH-IOL DPDK Community Lab To manage your email subscriptions, visit: https://lab.dpdk.org/results/dashboard/preferences/subscriptions/