From mboxrd@z Thu Jan 1 00:00:00 1970 Return-Path: Received: from mails.dpdk.org (mails.dpdk.org [217.70.189.124]) by inbox.dpdk.org (Postfix) with ESMTP id 519F148883 for ; Wed, 1 Oct 2025 19:45:56 +0200 (CEST) Received: from mails.dpdk.org (localhost [127.0.0.1]) by mails.dpdk.org (Postfix) with ESMTP id 31694400D5; Wed, 1 Oct 2025 19:45:56 +0200 (CEST) Received: from mail-pj1-f100.google.com (mail-pj1-f100.google.com [209.85.216.100]) by mails.dpdk.org (Postfix) with ESMTP id 308B1400D5 for ; Wed, 1 Oct 2025 19:45:54 +0200 (CEST) Received: by mail-pj1-f100.google.com with SMTP id 98e67ed59e1d1-3322e6360bbso195197a91.0 for ; Wed, 01 Oct 2025 10:45:54 -0700 (PDT) DKIM-Signature: v=1; a=rsa-sha256; c=relaxed/relaxed; d=iol.unh.edu; s=unh-iol; t=1759340753; x=1759945553; darn=dpdk.org; h=references:in-reply-to:cc:to:from:subject:message-id:date:from:to :cc:subject:date:message-id:reply-to; bh=RXKpOHGtSgHR1j9mLPFWnbUkqdhr9zNh2PQj2QhXd0g=; b=B6xMFl+fdXAo7bNLmN0cLMrOjlQOOvJi6DusCP3gr5ROHV1SV+alMbfIGHLAy4hU+s jWkhCoTthh6CPQU0h2WD54vZ1x/psQ8jYuVB636cO+/wzkx9IFunCm8I9tWUOpSerUay FwRz0fPsBXJT1iAQ6rtiDVwhMGZSbnDtPzfCE= X-Google-DKIM-Signature: v=1; a=rsa-sha256; c=relaxed/relaxed; d=1e100.net; s=20230601; t=1759340753; x=1759945553; h=references:in-reply-to:cc:to:from:subject:message-id:date :x-gm-message-state:from:to:cc:subject:date:message-id:reply-to; bh=RXKpOHGtSgHR1j9mLPFWnbUkqdhr9zNh2PQj2QhXd0g=; b=OVWl6p8w5bUlAeX7fUzWoayU/62mxoJKtZsKV8tq/F2fonRv4bK/ecggZPRa01Sll/ qR4H0HexF54zWg1WMur3NGhrlYUzxElEsc79+doqfGdh33V4QDLb2IzGtwuDUZuEJm5o YXsOsFvZZ2cEMapYzIF3u1i2xjsOT44oSVy7FKePVIbVLJCE4fRpd2/6lZtkLmYv+vRZ 7PPgrJMrVZamuqzyZXCWUuXV/5R9dRaNBEjMbr6mKx9V95z3PEzuBICUDHfMlRI3bfVx rcGOVI0ujzNFWLe+1neN5q5bEPcLTtkqkUXuTUVTHDcOIlKYCe4JtD5lKt2MIJjQGRk4 imOg== X-Gm-Message-State: AOJu0Yy9jqwRN2AOsoQ/frUEmDMMXHQ/TInkf37mHQ+PDeft3UFg3mGu G097Es+YVjKx/rUNOC9efaQYJCJdaHT1dlNHhAM2C4NmW6YIUg6DgYc7xmTiZeOjNW2jbLaIYlO gRVQKMmP27ONCnRHIZOdi0Lno6fiNarjFKrRRm4+OZl8T X-Gm-Gg: ASbGncu5Date+STvTIZnLYjtFV2d7Ij5LI7kQMio0aojNXuCOwi1Vam5xWYYNNT/fX4 Qngb0c2IFht23A6TQAjRJOq38xVLFAMt5d1KJe8Qyn4OGwtm43nIKsKkLN0fzWxSRWmn6+1aUal hhU7qzzbookn7+ZHwsvtRJzDoIp7NVBweuEX/LHnhiqROIZNxD4+JBF66fSPmujqmCdImAX0C4Q 7TaESW6TOhvbq6siqc4XNypZrEdJ57J3QUHFAmntICzi2gny04uU2RUvAwhunINz9Wz4FURzS/8 dwyCyZ+xd4q82th4uEffNzyWODPfVmFHLDJfwYe6vSQUom3K5dkOviSBY1fkUMseeDjer/UQZpA SDQ== X-Google-Smtp-Source: AGHT+IFHA6XmHqZboh3Fq/AbclgjNI52W8ygFAtVo98fQMMkEVYtoOUD9N/nNi3dJU5VJIGoeWFzJyoiPxh4 X-Received: by 2002:a17:90b:3a81:b0:32e:87f6:f5a6 with SMTP id 98e67ed59e1d1-339a6d796bbmr5306408a91.0.1759340753227; Wed, 01 Oct 2025 10:45:53 -0700 (PDT) Received: from postal.iol.unh.edu (postal.iol.unh.edu. [132.177.123.84]) by smtp-relay.gmail.com with ESMTPS id 41be03b00d2f7-b60999927afsm9189a12.3.2025.10.01.10.45.53 (version=TLS1_2 cipher=ECDHE-ECDSA-AES128-GCM-SHA256 bits=128/128); Wed, 01 Oct 2025 10:45:53 -0700 (PDT) X-Relaying-Domain: iol.unh.edu Date: Wed, 01 Oct 2025 10:45:53 -0700 (PDT) Message-ID: <68dd68d1.630a0220.11ec51.08b0SMTPIN_ADDED_MISSING@mx.google.com> Received: from [172.21.0.2] (unknown [172.18.0.240]) by postal.iol.unh.edu (Postfix) with ESMTP id 17CAE604D420; Wed, 1 Oct 2025 13:45:52 -0400 (EDT) Subject: |SUCCESS| pw157147-157150 [PATCH] [v5,4/4] net/cpfl: add cpchnl get From: dpdklab@iol.unh.edu To: Test Report Cc: dpdk-test-reports@iol.unh.edu, Bruce Richardson In-Reply-To: <20250930182718.2997819-5-praveen.shetty@intel.com> References: <20250930182718.2997819-5-praveen.shetty@intel.com> Content-Type: text/plain X-BeenThere: test-report@dpdk.org X-Mailman-Version: 2.1.29 Precedence: list List-Id: automatic DPDK test reports List-Unsubscribe: , List-Archive: List-Post: List-Help: List-Subscribe: , Errors-To: test-report-bounces@dpdk.org Test-Label: iol-compile-arm64-testing Test-Status: SUCCESS http://dpdk.org/patch/157150 _Testing PASS_ Submitter: Shetty, Praveen Date: Tuesday, September 30 2025 18:27:18 DPDK git baseline: Repo:dpdk-next-net-intel Branch: master CommitID:9845e5848bbe337306fb6ae2a6b1ce5e6ab5b714 157147-157150 --> testing pass Upstream job id: Generic-DPDK-Compile-Meson#430236 Test environment and result as below: +------------------------------+--------------------+ | Environment | dpdk_meson_compile | +==============================+====================+ | CentOS Stream 10 | PASS | +------------------------------+--------------------+ | Red Hat Enterprise Linux 9.5 | PASS | +------------------------------+--------------------+ | Ubuntu 20.04 | PASS | +------------------------------+--------------------+ | Debian GNU/Linux 12 | PASS | +------------------------------+--------------------+ | Fedora Linux 42 | PASS | +------------------------------+--------------------+ | Ubuntu 22.04 | PASS | +------------------------------+--------------------+ | Ubuntu 24.04 | PASS | +------------------------------+--------------------+ | CentOS Stream 9 | PASS | +------------------------------+--------------------+ CentOS Stream 10 Kernel: 5.4 Compiler: gcc gcc (GCC) 14.2.1 20250110 (Red Hat 14.2.1-8) Red Hat Enterprise Linux 9.5 Kernel: 5.4 Compiler: gcc gcc (GCC) 11.5.0 20240719 (Red Hat 11.5.0-2) Ubuntu 20.04 Kernel: 5.4 Compiler: gcc gcc (Ubuntu 9.4.0-1ubuntu1~20.04.2) 9.4.0 Debian GNU/Linux 12 Kernel: 5.4 Compiler: gcc gcc (Debian 12.2.0-14+deb12u1) 12.2.0 Fedora Linux 42 Kernel: 5.4 Compiler: gcc gcc (GCC) 15.2.1 20250808 (Red Hat 15.2.1-1) Ubuntu 22.04 Kernel: 5.4 Compiler: gcc gcc (Ubuntu 11.4.0-1ubuntu1~22.04) 11.4.0 Ubuntu 24.04 Kernel: 5.4 Compiler: gcc gcc (Ubuntu 13.3.0-6ubuntu2~24.04) 13.3.0 CentOS Stream 9 Kernel: 5.4 Compiler: gcc gcc (GCC) 11.5.0 20240719 (Red Hat 11.5.0-11) To view detailed results, visit: https://lab.dpdk.org/results/dashboard/patchsets/34186/ UNH-IOL DPDK Community Lab To manage your email subscriptions, visit: https://lab.dpdk.org/results/dashboard/preferences/subscriptions/