From mboxrd@z Thu Jan 1 00:00:00 1970 Return-Path: Received: from mails.dpdk.org (mails.dpdk.org [217.70.189.124]) by inbox.dpdk.org (Postfix) with ESMTP id E1AD748884 for ; Wed, 1 Oct 2025 20:22:19 +0200 (CEST) Received: from mails.dpdk.org (localhost [127.0.0.1]) by mails.dpdk.org (Postfix) with ESMTP id DD253400D5; Wed, 1 Oct 2025 20:22:19 +0200 (CEST) Received: from mail-pg1-f227.google.com (mail-pg1-f227.google.com [209.85.215.227]) by mails.dpdk.org (Postfix) with ESMTP id 3A60D400D5 for ; Wed, 1 Oct 2025 20:22:19 +0200 (CEST) Received: by mail-pg1-f227.google.com with SMTP id 41be03b00d2f7-b609a32a9b6so57202a12.2 for ; Wed, 01 Oct 2025 11:22:19 -0700 (PDT) DKIM-Signature: v=1; a=rsa-sha256; c=relaxed/relaxed; d=iol.unh.edu; s=unh-iol; t=1759342938; x=1759947738; darn=dpdk.org; h=references:in-reply-to:cc:to:from:subject:message-id:date:from:to :cc:subject:date:message-id:reply-to; bh=MD6N3RH0EOOz9voskltLa7mcrhjRSi/uyzLu/r6BGCo=; b=I9KTh+6UGVmMUt5sMmdOQw9gicYTOloJCkhNzbPahqPs/a5t9h3VciL37lnsBgaUNW UlOXkiXxU4S7fMF6EZWaT9WoaESyT+JlrYzxIyXsQHu4tcUEXqtuLgga5pNuZZovxJ4L pdvbfbWUiCt3373JDSh6mLProNSE/sV2nMeJU= X-Google-DKIM-Signature: v=1; a=rsa-sha256; c=relaxed/relaxed; d=1e100.net; s=20230601; t=1759342938; x=1759947738; h=references:in-reply-to:cc:to:from:subject:message-id:date :x-gm-message-state:from:to:cc:subject:date:message-id:reply-to; bh=MD6N3RH0EOOz9voskltLa7mcrhjRSi/uyzLu/r6BGCo=; b=psKoB0PKBPbVo69vgtE1y3A5vpRMHYpUlvBR1RJZ1v0ryVd8XhzcH571Fyi3pKeBd4 a2xWZp+Xci+9p4EcjiSnpra8G5ZepjHgNR0IxqpPhEHnzsk91PfNJBuhNS8SdYmeKsOB lMwGT9iC/aO5p30uMu6eyPKagtu6Hf/7Eu9uIG+T9tR/GXpeWU/1e3Wfdz+dPFqtTRlP LMtWChljcunOFSNTiB30wDhMOJQsJXID3lB71dEnhSbBqfvauhZtdVUF5EbS+9fHYCa1 zf9zUe5d5bvQhbljWOWcFCKXugBInIHRstVloO5TQrHgF+Ubl9OrurTpWNO1oQNyGZlx iLUw== X-Gm-Message-State: AOJu0Ywmxyy7H+qjodVMTvepP4MfgED8VCee6pffmMW3dgtC60aXZJFd FN8eb3rhGbsWq/TGyykYMqRDlm24FBos5nPG2RCmt1rDpqiwNmymPPetIsM+ZflUw6F4YX+RXWw vvW2yJR3iqqW6sSWzBGtb7Es9DDqz6GSumLqij9y1OyUV X-Gm-Gg: ASbGncuDQ5vHZk+BzDTg5oAY4EuhrwszlqcP8rLlFeg7OWcd01Jnfgf3ulJ0KGU3EtR rkyozJvHzQf/Qh/qKtWXSc3lz01uIG8er/QWmCqYN+n6wu/aUfBn1HUK2lnZdL50aGiYwXFI6BF H+WacoXJJGnYZ/EmXAzlc6MLar98fnxp6iK6SVxN8zB75umaaH4mqqmSJVfyJ/ZiulJkYgeNEP6 m3AdYMzpau0B2xc8nIho4mpF890691y8a0V7QBaeO5i47L6hxHLIFnJfMNWJ7Qj55JxUBBDSG6w Bq5lpUcOFK9lQrEHiaLHvt05oz5tpgyxj65O0NOfmfJX1Ucm2a0fjHkcMYlNeAqs/dc4Iv4zSvV RSA== X-Google-Smtp-Source: AGHT+IGs7sfPEhCxzE33Kmsz4MBbUbJBm5Vr604qQm0JHxN1KebyNEt8zTVLwD/6veLXXEASUROP5fcnnbza X-Received: by 2002:a17:903:4b48:b0:275:2aac:fef8 with SMTP id d9443c01a7336-28e7f33067fmr52239205ad.38.1759342938322; Wed, 01 Oct 2025 11:22:18 -0700 (PDT) Received: from postal.iol.unh.edu (postal.iol.unh.edu. [132.177.123.84]) by smtp-relay.gmail.com with ESMTPS id d9443c01a7336-28e8d108429sm217435ad.15.2025.10.01.11.22.18 (version=TLS1_2 cipher=ECDHE-ECDSA-AES128-GCM-SHA256 bits=128/128); Wed, 01 Oct 2025 11:22:18 -0700 (PDT) X-Relaying-Domain: iol.unh.edu Date: Wed, 01 Oct 2025 11:22:18 -0700 (PDT) Message-ID: <68dd715a.170a0220.272a5b.1781SMTPIN_ADDED_MISSING@mx.google.com> Received: from [172.21.0.4] (unknown [172.18.0.240]) by postal.iol.unh.edu (Postfix) with ESMTP id C2E866051830; Wed, 1 Oct 2025 14:22:17 -0400 (EDT) Subject: |SUCCESS| pw157151-157155 [PATCH] [v3,5/5] usertools/mbuf: parse mbu From: dpdklab@iol.unh.edu To: Test Report Cc: dpdk-test-reports@iol.unh.edu In-Reply-To: <20250930233828.3999565-6-thomas@monjalon.net> References: <20250930233828.3999565-6-thomas@monjalon.net> Content-Type: text/plain X-BeenThere: test-report@dpdk.org X-Mailman-Version: 2.1.29 Precedence: list List-Id: automatic DPDK test reports List-Unsubscribe: , List-Archive: List-Post: List-Help: List-Subscribe: , Errors-To: test-report-bounces@dpdk.org Test-Label: iol-compile-amd64-testing Test-Status: SUCCESS http://dpdk.org/patch/157155 _Testing PASS_ Submitter: Thomas Monjalon Date: Tuesday, September 30 2025 23:25:06 DPDK git baseline: Repo:dpdk Branch: master CommitID:f3878b615e69a12087a6c5d212723478cfc79c31 157151-157155 --> testing pass Upstream job id: Generic-DPDK-Compile-Meson#430320 Test environment and result as below: +------------------------------+--------------------+-------------------------+-------------------+----------------------+-------------------+------------------+ | Environment | dpdk_meson_compile | dpdk_llvm_clang_compile | dpdk_msvc_compile | dpdk_mingw64_compile | dpdk_compile_spdk | dpdk_compile_ovs | +==============================+====================+=========================+===================+======================+===================+==================+ | Ubuntu 20.04 | PASS | SKIPPED | SKIPPED | SKIPPED | SKIPPED | SKIPPED | +------------------------------+--------------------+-------------------------+-------------------+----------------------+-------------------+------------------+ | FreeBSD 14.2 | PASS | SKIPPED | SKIPPED | SKIPPED | SKIPPED | SKIPPED | +------------------------------+--------------------+-------------------------+-------------------+----------------------+-------------------+------------------+ | Red Hat Enterprise Linux 9.5 | PASS | SKIPPED | SKIPPED | SKIPPED | SKIPPED | SKIPPED | +------------------------------+--------------------+-------------------------+-------------------+----------------------+-------------------+------------------+ | Alpine Linux 3.22.0 | PASS | SKIPPED | SKIPPED | SKIPPED | SKIPPED | SKIPPED | +------------------------------+--------------------+-------------------------+-------------------+----------------------+-------------------+------------------+ | Ubuntu 22.04 | PASS | SKIPPED | SKIPPED | SKIPPED | PASS | SKIPPED | +------------------------------+--------------------+-------------------------+-------------------+----------------------+-------------------+------------------+ | CentOS Stream 9 | PASS | SKIPPED | SKIPPED | SKIPPED | PASS | SKIPPED | +------------------------------+--------------------+-------------------------+-------------------+----------------------+-------------------+------------------+ | Ubuntu 24.04 | PASS | SKIPPED | SKIPPED | SKIPPED | PASS | PASS | +------------------------------+--------------------+-------------------------+-------------------+----------------------+-------------------+------------------+ | Windows Server 2022 | SKIPPED | PASS | PASS | PASS | SKIPPED | SKIPPED | +------------------------------+--------------------+-------------------------+-------------------+----------------------+-------------------+------------------+ Ubuntu 20.04 Kernel: 4.19 Compiler: gcc gcc (Ubuntu 9.4.0-1ubuntu1~20.04.2) 9.4.0 FreeBSD 14.2 Kernel: 14.2-RELEASE Compiler: clang 18.1.6 Red Hat Enterprise Linux 9.5 Kernel: 5.15 Compiler: gcc gcc (GCC) 11.5.0 20240719 (Red Hat 11.5.0-2) Alpine Linux 3.22.0 Kernel: 5.15 Compiler: gcc gcc (Alpine 14.2.0) 14.2.0 Ubuntu 22.04 Kernel: 5.15 Compiler: gcc gcc (Ubuntu 11.4.0-1ubuntu1~22.04) 11.4.0 CentOS Stream 9 Kernel: 5.15 Compiler: gcc gcc (GCC) 11.5.0 20240719 (Red Hat 11.5.0-11) Ubuntu 24.04 Kernel: 5.15 Compiler: gcc gcc (Ubuntu 13.3.0-6ubuntu2~24.04) 13.3.0 Windows Server 2022 Kernel: 10.0.20348.2031 Compiler: clang 15.0.7, gcc 14.1.0 (MinGW), and MSVC VS 19.39.33521 To view detailed results, visit: https://lab.dpdk.org/results/dashboard/patchsets/34187/ UNH-IOL DPDK Community Lab To manage your email subscriptions, visit: https://lab.dpdk.org/results/dashboard/preferences/subscriptions/