From mboxrd@z Thu Jan 1 00:00:00 1970 Return-Path: Received: from mails.dpdk.org (mails.dpdk.org [217.70.189.124]) by inbox.dpdk.org (Postfix) with ESMTP id 99A5E48884 for ; Wed, 1 Oct 2025 20:29:26 +0200 (CEST) Received: from mails.dpdk.org (localhost [127.0.0.1]) by mails.dpdk.org (Postfix) with ESMTP id 79FE440BA0; Wed, 1 Oct 2025 20:29:26 +0200 (CEST) Received: from mail-vk1-f225.google.com (mail-vk1-f225.google.com [209.85.221.225]) by mails.dpdk.org (Postfix) with ESMTP id 13581400D5 for ; Wed, 1 Oct 2025 20:29:25 +0200 (CEST) Received: by mail-vk1-f225.google.com with SMTP id 71dfb90a1353d-54c0a10990fso61281e0c.2 for ; Wed, 01 Oct 2025 11:29:25 -0700 (PDT) DKIM-Signature: v=1; a=rsa-sha256; c=relaxed/relaxed; d=iol.unh.edu; s=unh-iol; t=1759343364; x=1759948164; darn=dpdk.org; h=cc:to:from:subject:message-id:date:from:to:cc:subject:date :message-id:reply-to; bh=GpWWRVEEg9/6oILzdRNKzSaBLZ8a0A3oZWQWqvrn8Xs=; b=cnib1WWxBcxUH/X2aPnhNczvUfFgYYpWTYDOegVzguZq3Ba4vdGdLmDy/LKLIJnnMA UlnaEpItesRc4q/QcfVUdudEL2QEmSxGQeHk3R4n00W5KYSpVAwCMhUT08vJlBdyhNTE VxEdJnrPZO0yDr+92hI9X5+TCGCtfUhMLqOTI= X-Google-DKIM-Signature: v=1; a=rsa-sha256; c=relaxed/relaxed; d=1e100.net; s=20230601; t=1759343364; x=1759948164; h=cc:to:from:subject:message-id:date:x-gm-message-state:from:to:cc :subject:date:message-id:reply-to; bh=GpWWRVEEg9/6oILzdRNKzSaBLZ8a0A3oZWQWqvrn8Xs=; b=fDeQy0gOQi3W7C7Zh7BmHs0m2zAxleQMtTY9zeLHFmSB8ZgoN1cZEYlo7VDdrBWCeJ PKmcRlB8Q/ELsJQwUYagcKYT73GTr89KjO2CW27yHiOqBweG4HdSlfZZqqOT0SyiGA8Q 5qxUh1rY6oX/1hy7G67Ke8eVJ8CyyMqw+VmjAvXVv/7eMZGFwqppGviq5o6AJ/ciaMAy IX9eKgmEWRzwdllrkPXqJ80//OwO+CxpAJ/TWGlvtZ/4y1II8h/hbg/0O8/fRHqJd1sR 4F4R979N7LqdmwioAXoMkAu+ArvD3BE8Vdq1LMd0DldvxpnHOL2qVnWyc0wdignMdd1B eetw== X-Gm-Message-State: AOJu0Yy/PVLOt6w7rgG91m1c5qflELJN1HsAYjOgv1sv5tL/rrKAcNNv jnbB7Y2rk9y89K/CvP1RL/MSgamOFhiBiVJPGOb/iYzOJTfxxSw0BSyazyZt8FJY8ARijmUegNU X/Z0wzijXBExYum/7OXFUxFayhLl7T7WaF2HW6VeLS2h0qya2qPO1 X-Gm-Gg: ASbGnctXOJ4oitOmaf4Ir91EcYCz2lVNqdsTCocAHMRu4Td2nOOd1CrWkHWrmUaWsC2 wKWQSsqTaDNX10FK9mSnDeyn8i0R7jWOyY6LlobvJTH2jBNINtG+Awd7E4uoGH5Y3Uk4DIOqZUl v6kGIh0+kn2hvqi3l3ZYnOfS4YRRJ/gpt3d4bEod7iH0aST3tNhlDyWtgzwZqeOQVO9E2Ut+Vqg vHvAOnlp3xoG1DjFproOJW5AdQ0/FJ3FGd7uvnwy+Qyz62k9UYcFweWKSKvVrVLfJUKjZk0vati s1YwHkTpxaBeCcLGLaWreeaBzKU2XeSGV5KbLf5YjNgrvvFxfYB2InU= X-Google-Smtp-Source: AGHT+IGNG/WkIQjGTo7qy66LazDC5URaRB4/kwYm9ib/PM4m6D7bWYTkUjk7lTOY7Gfq2yFD8ZGyrHE+GbiN X-Received: by 2002:a05:6122:554:b0:53c:6d68:1cdc with SMTP id 71dfb90a1353d-5522d3f2bffmr2032449e0c.14.1759343364343; Wed, 01 Oct 2025 11:29:24 -0700 (PDT) Received: from postal.iol.unh.edu (postal.iol.unh.edu. [2606:4100:3880:1234::84]) by smtp-relay.gmail.com with ESMTPS id 71dfb90a1353d-5523cf13fc9sm13882e0c.2.2025.10.01.11.29.24 (version=TLS1_2 cipher=ECDHE-ECDSA-AES128-GCM-SHA256 bits=128/128); Wed, 01 Oct 2025 11:29:24 -0700 (PDT) X-Relaying-Domain: iol.unh.edu Date: Wed, 01 Oct 2025 11:29:24 -0700 (PDT) Message-ID: <68dd7304.050a0220.b63a6.0eb0SMTPIN_ADDED_MISSING@mx.google.com> Received: from [172.21.0.2] (unknown [172.18.0.240]) by postal.iol.unh.edu (Postfix) with ESMTP id 001646051830; Wed, 1 Oct 2025 14:29:23 -0400 (EDT) Subject: |SUCCESS| [GIT MASTER] 3b43ce3f4a54468e7ef65760c2fd7b4d6ee6d9fc From: dpdklab@iol.unh.edu To: Test Report Cc: dpdk-test-reports@iol.unh.edu, Xueming Li , Christian Ehrhardt , Kevin Traynor , Luca Boccassi Content-Type: text/plain X-BeenThere: test-report@dpdk.org X-Mailman-Version: 2.1.29 Precedence: list List-Id: automatic DPDK test reports List-Unsubscribe: , List-Archive: List-Post: List-Help: List-Subscribe: , Errors-To: test-report-bounces@dpdk.org _Testing PASS_ Branch: tags/v22.11 3b43ce3f4a54468e7ef65760c2fd7b4d6ee6d9fc --> testing pass Upstream job id: Generic-DPDK-Compile-Meson#430318 Test environment and result as below: +---------------------+--------------------+-------------------------+----------------------+ | Environment | dpdk_meson_compile | dpdk_llvm_clang_compile | dpdk_mingw64_compile | +=====================+====================+=========================+======================+ | Ubuntu 20.04 | PASS | SKIPPED | SKIPPED | +---------------------+--------------------+-------------------------+----------------------+ | FreeBSD 14.2 | PASS | SKIPPED | SKIPPED | +---------------------+--------------------+-------------------------+----------------------+ | openSUSE Leap 15.6 | PASS | SKIPPED | SKIPPED | +---------------------+--------------------+-------------------------+----------------------+ | Windows Server 2022 | SKIPPED | PASS | PASS | +---------------------+--------------------+-------------------------+----------------------+ Ubuntu 20.04 Kernel: 4.19 Compiler: gcc gcc (Ubuntu 9.4.0-1ubuntu1~20.04.2) 9.4.0 FreeBSD 14.2 Kernel: 14.2-RELEASE Compiler: clang 18.1.6 openSUSE Leap 15.6 Kernel: 5.15 Compiler: gcc gcc (SUSE Linux) 7.5.0 Windows Server 2022 Kernel: 10.0.20348.2031 Compiler: clang 15.0.7, gcc 14.1.0 (MinGW), and MSVC VS 19.39.33521 To view detailed results, visit: https://lab.dpdk.org/results/dashboard/tarballs/35067/ UNH-IOL DPDK Community Lab To manage your email subscriptions, visit: https://lab.dpdk.org/results/dashboard/preferences/subscriptions/