From mboxrd@z Thu Jan 1 00:00:00 1970 Return-Path: Received: from mails.dpdk.org (mails.dpdk.org [217.70.189.124]) by inbox.dpdk.org (Postfix) with ESMTP id 896C948884 for ; Wed, 1 Oct 2025 21:15:04 +0200 (CEST) Received: from mails.dpdk.org (localhost [127.0.0.1]) by mails.dpdk.org (Postfix) with ESMTP id 69B05400D5; Wed, 1 Oct 2025 21:15:04 +0200 (CEST) Received: from mail-pf1-f226.google.com (mail-pf1-f226.google.com [209.85.210.226]) by mails.dpdk.org (Postfix) with ESMTP id C1EB1400D5 for ; Wed, 1 Oct 2025 21:15:02 +0200 (CEST) Received: by mail-pf1-f226.google.com with SMTP id d2e1a72fcca58-789fb76b466so300317b3a.0 for ; Wed, 01 Oct 2025 12:15:02 -0700 (PDT) DKIM-Signature: v=1; a=rsa-sha256; c=relaxed/relaxed; d=iol.unh.edu; s=unh-iol; t=1759346102; x=1759950902; darn=dpdk.org; h=references:in-reply-to:cc:to:from:subject:message-id:date:from:to :cc:subject:date:message-id:reply-to; bh=muXLfbfASD0Hv8AlW2khB3zdEmYArVO24BMT4pHPV2g=; b=cjp6d87QR4Txba6HAjm+zzy9Duy+mB+QIzya43SeEBReldJ0etK6oXQOBwUiLhGYwX VMjzJ5QFj22FV4OQMVTBpuL6dLGKhGUzq22ru1JKq0JXZbVdbyh7k88wftZ0xczmXo9Z 0oJOZYJLoNAAzNRlGSXdBba8X5uwPmHU2Yqn8= X-Google-DKIM-Signature: v=1; a=rsa-sha256; c=relaxed/relaxed; d=1e100.net; s=20230601; t=1759346102; x=1759950902; h=references:in-reply-to:cc:to:from:subject:message-id:date :x-gm-message-state:from:to:cc:subject:date:message-id:reply-to; bh=muXLfbfASD0Hv8AlW2khB3zdEmYArVO24BMT4pHPV2g=; b=NB4Pn48T6zyTzrFopo+0lACH7Z9CMSIOTXgcFvlGMN8QVlEnupcO6HYz6d2kw+Hvs/ 5m1frmhcYcEnth3C2txxPnx/Mjy+zfibW4Q0AXQXUEnfxoLJCSuJdQFuVqO0wmBxIfu5 0akgC6Rb9bqUV/3rbl6Y+2tB8DtzjWhEQfa+mYn7IP5lYs2JC69juCQE9wtTjgMyPIyl tZYOjvAniRBuD1xkUggCVjlcA0NISYmcMhG8rHc9TFKLsBKQ4+ql8fwGJPAdkhqkBuha agjGwpx4RY22EfpE9N4tpBCXILsgL4gey0Wn7atuF+6kV0h2m+ycHKy88yKLlNeKrQRx e3Ag== X-Gm-Message-State: AOJu0YzDD1SehUVH9j+x99+MTJ5XwwOexsbVoWNHRqaWrjq/SWf2yyUT 5Gml5UYs6nVi48gxRqSEz97eBYlrQL27lhok44HdTYQHZBvMvklwMkwXE3M47melF7zljB7A//F MAqQ87x0ZiDOhFfevvLzQMIfwrd3e8Zk2Yc4Q0HCGQ1+oCPcTMnJZxjN6Wk3w X-Gm-Gg: ASbGncurkDxnWXxNIHr5z6UKOctzjPdISjc5vxkN55JrWCJ+yd2xvXDf7uqzpy3duaQ +7v2Cvb27z/ofxWxPuwtL5b7d32J7J+Nt9Lo7QMM4Xw8Y+QB1kKbFQSdE9okOYcvPkKihFlGTpf pfZVPyBgfI64rRWj8av9noVW140cRlQ8VXTQrsB2W0YkGM2k/0abUvTqGVWvqJJefX1F6QGJ9g/ 9JMu8mNRY6Zjhqx34yQ8bkizSUguVYjuOVMC7vohKe3ei5LIIPkcbxC2PMWbh9y26An1Lbff3Ko owVCiPgQeKTpNqGHjLY4QfdSp16pnsj+gR3ku0LebA4VmySGV6ncpu8= X-Google-Smtp-Source: AGHT+IEP2VdONGIAV6j4NgeTzV7mIV4rkXRbkdB2ZaOE2Eb0OVgP2mCGFBuqfNXv9WYGiqSdF1qyl4XMmGuK X-Received: by 2002:a05:6a21:9203:b0:250:f80d:b334 with SMTP id adf61e73a8af0-321c6d6a005mr6335998637.0.1759346101858; Wed, 01 Oct 2025 12:15:01 -0700 (PDT) Received: from postal.iol.unh.edu (postal.iol.unh.edu. [2606:4100:3880:1234::84]) by smtp-relay.gmail.com with ESMTPS id 41be03b00d2f7-b6099b6ff07sm16369a12.10.2025.10.01.12.15.01 (version=TLS1_2 cipher=ECDHE-ECDSA-AES128-GCM-SHA256 bits=128/128); Wed, 01 Oct 2025 12:15:01 -0700 (PDT) X-Relaying-Domain: iol.unh.edu Date: Wed, 01 Oct 2025 12:15:01 -0700 (PDT) Message-ID: <68dd7db5.050a0220.3bf08e.1268SMTPIN_ADDED_MISSING@mx.google.com> Received: from [172.21.0.2] (unknown [172.18.0.240]) by postal.iol.unh.edu (Postfix) with ESMTP id B365A6051830; Wed, 1 Oct 2025 15:15:00 -0400 (EDT) Subject: |SUCCESS| pw157199-157201 [PATCH] [v3,3/3] app/test: add ML crypto t From: dpdklab@iol.unh.edu To: Test Report Cc: dpdk-test-reports@iol.unh.edu In-Reply-To: <20251001175658.2303-4-gmuthukrishn@marvell.com> References: <20251001175658.2303-4-gmuthukrishn@marvell.com> Content-Type: text/plain X-BeenThere: test-report@dpdk.org X-Mailman-Version: 2.1.29 Precedence: list List-Id: automatic DPDK test reports List-Unsubscribe: , List-Archive: List-Post: List-Help: List-Subscribe: , Errors-To: test-report-bounces@dpdk.org Test-Label: iol-unit-amd64-testing Test-Status: SUCCESS http://dpdk.org/patch/157201 _Testing PASS_ Submitter: Gowrishankar Muthukrishnan Date: Wednesday, October 01 2025 17:56:53 DPDK git baseline: Repo:dpdk Branch: master CommitID:2ffda8c2e357662354ee6ddcca769258c33642a9 157199-157201 --> testing pass Upstream job id: Generic-VM-Unit-Test-DPDK#31530 Test environment and result as below: +-------------------------------+----------------+ | Environment | dpdk_unit_test | +===============================+================+ | CentOS Stream 9 | PASS | +-------------------------------+----------------+ | Windows Server 2022 | PASS | +-------------------------------+----------------+ | CentOS Stream 10 | PASS | +-------------------------------+----------------+ | Debian GNU/Linux 12 | PASS | +-------------------------------+----------------+ | Fedora Linux 40 | PASS | +-------------------------------+----------------+ | Fedora Linux 41 | PASS | +-------------------------------+----------------+ | Fedora Linux 42 | PASS | +-------------------------------+----------------+ | Red Hat Enterprise Linux 9.5 | PASS | +-------------------------------+----------------+ | Red Hat Enterprise Linux 8.10 | PASS | +-------------------------------+----------------+ | Ubuntu 24.04 | PASS | +-------------------------------+----------------+ | Ubuntu 20.04 | PASS | +-------------------------------+----------------+ | Ubuntu 22.04 | PASS | +-------------------------------+----------------+ CentOS Stream 9 Kernel: 5.15 Compiler: gcc gcc (GCC) 11.5.0 20240719 (Red Hat 11.5.0-11) Windows Server 2022 Kernel: 10.0.20348.2031 Compiler: clang 15.0.7, gcc 14.1.0 (MinGW), and MSVC VS 19.39.33521 CentOS Stream 10 Kernel: 5.15 Compiler: gcc gcc (GCC) 14.2.1 20250110 (Red Hat 14.2.1-8) Debian GNU/Linux 12 Kernel: 5.15 Compiler: gcc gcc (Debian 12.2.0-14+deb12u1) 12.2.0 Fedora Linux 40 Kernel: 5.15 Compiler: gcc gcc (GCC) 14.2.1 20240912 (Red Hat 14.2.1-3) Fedora Linux 41 Kernel: 5.15 Compiler: gcc gcc (GCC) 14.3.1 20250523 (Red Hat 14.3.1-1) Fedora Linux 42 Kernel: 5.15 Compiler: clang gcc (GCC) 15.2.1 20250808 (Red Hat 15.2.1-1) Red Hat Enterprise Linux 9.5 Kernel: 5.15 Compiler: gcc gcc (GCC) 11.5.0 20240719 (Red Hat 11.5.0-2) Red Hat Enterprise Linux 8.10 Kernel: 5.15 Compiler: gcc gcc (GCC) 8.5.0 20210514 (Red Hat 8.5.0-22) Ubuntu 24.04 Kernel: 5.15 Compiler: gcc gcc (Ubuntu 13.3.0-6ubuntu2~24.04) 13.3.0 Ubuntu 20.04 Kernel: 5.15 Compiler: gcc gcc (Ubuntu 9.4.0-1ubuntu1~20.04.2) 9.4.0 Ubuntu 22.04 Kernel: 5.15 Compiler: gcc gcc (Ubuntu 11.4.0-1ubuntu1~22.04) 11.4.0 To view detailed results, visit: https://lab.dpdk.org/results/dashboard/patchsets/34196/ UNH-IOL DPDK Community Lab To manage your email subscriptions, visit: https://lab.dpdk.org/results/dashboard/preferences/subscriptions/