From mboxrd@z Thu Jan 1 00:00:00 1970 Return-Path: Received: from mails.dpdk.org (mails.dpdk.org [217.70.189.124]) by inbox.dpdk.org (Postfix) with ESMTP id EF7D248884 for ; Wed, 1 Oct 2025 21:19:19 +0200 (CEST) Received: from mails.dpdk.org (localhost [127.0.0.1]) by mails.dpdk.org (Postfix) with ESMTP id C1E58400D5; Wed, 1 Oct 2025 21:19:19 +0200 (CEST) Received: from mail-io1-f98.google.com (mail-io1-f98.google.com [209.85.166.98]) by mails.dpdk.org (Postfix) with ESMTP id 2F91D400D5 for ; Wed, 1 Oct 2025 21:19:18 +0200 (CEST) Received: by mail-io1-f98.google.com with SMTP id ca18e2360f4ac-91f6ccdbfc8so10213739f.1 for ; Wed, 01 Oct 2025 12:19:18 -0700 (PDT) DKIM-Signature: v=1; a=rsa-sha256; c=relaxed/relaxed; d=iol.unh.edu; s=unh-iol; t=1759346357; x=1759951157; darn=dpdk.org; h=cc:to:from:subject:message-id:date:from:to:cc:subject:date :message-id:reply-to; bh=Z2bQzB6ekx626K/MJ7lGrxCXg3U+5mvwku4++0UJZUo=; b=i6iJnZDPtR2OCaGDEiyLc/3diubrNqA7wFScASoX4BgolI67URDo0RjJualcwgwEbm 00eUa0wNs8WSmk9rDiwbcr5xSBn0x2NSY2mm2+1YV7TejYu0nI2Psc5E7NC/S9pD1eZV OgADeNbCEZbNZsrPMG1QRgo/eHLkenzltN8yI= X-Google-DKIM-Signature: v=1; a=rsa-sha256; c=relaxed/relaxed; d=1e100.net; s=20230601; t=1759346357; x=1759951157; h=cc:to:from:subject:message-id:date:x-gm-message-state:from:to:cc :subject:date:message-id:reply-to; bh=Z2bQzB6ekx626K/MJ7lGrxCXg3U+5mvwku4++0UJZUo=; b=FPKSiSemz1aA8FF54G7F1tEhxcM6VIQQZFTBmOyFvQPKBwrhLbA1VGhie5VdWzKyOz QaOHrMecCNd2cviOJvEazuLkVUuFwdP2BpPxjCGrWshyzotaGkLH5yhBvIpxPSfkKCBS IlH0G4BeOS5AWwZVMd7+JES305u6LBSfBzjJSoQExgQ7Pn7+QpeV6qJR23I3ijPLGRDg 1Iej7703z1jqJkUb8R4/LQUJUIFXKnwVLBTBsEBDlK2LgcXLM+oz2Texlu8JDzgA9vRr e3W4z1eWL8FUr0lGWU0FEDcy7limmKn7/yB6FWsfVu3ZvdEUVZ8vP9+xieZH2ojWENHe 78Dg== X-Gm-Message-State: AOJu0Yzc6vPF5e+Ch8mnOcpnNiykZsaD0bJlNrIU/6VMzjUbNXnaIpAL 5LCjdF0Lm6lWp/lo1I7s654XNOmCGuGv5SOD6Ki05nNroVpcphn3StVxXxEnXuc1aK74QL2K/NW PzStapHN9bOyYqNDmZ20PklTZP+ttllwqPHrk X-Gm-Gg: ASbGncs6l37WcnurfpXNW3qHzhNOrWcBdtVFLwS9D9AuM+ylXee/8BcTT8gz1p41EtK raxTMjpy8AWAky4dQf7gkSg6Bp8m9SJosWj2AuyEoI+mEJiaUrLyZjJNI14iHvoiHpYW/K8TwHG NFZYeweZHDr4/G7+3WiznDPXcmifCITn+CfX8desT3yUs59jK7rRQvlvqvNnwY2d9d+hj7bvECs Fw9jSW/suDxmKUz6Vow6gpDHXt1D8+N+3r76+lBzeYGqGWq0hr2C0iCAgDg279VLHoCvMqaEnzE l8mFPhGlGCSrlRbR9L0rICPNf38Trt1/z4EAcXEDaufyX4y8nx1j3BDlG3uP3ZgIBj1Lav0aJlK hbg== X-Google-Smtp-Source: AGHT+IEtEpqZnudr1R8gQQ1H46JHN2DXfMQYxJiYOG9IOjyx44GsPIUYEyw29M8JVNpU/563T872bKjvlGE3 X-Received: by 2002:a05:6e02:2309:b0:427:1841:666d with SMTP id e9e14a558f8ab-42d8168d2b6mr62492285ab.30.1759346357251; Wed, 01 Oct 2025 12:19:17 -0700 (PDT) Received: from postal.iol.unh.edu (postal.iol.unh.edu. [132.177.123.84]) by smtp-relay.gmail.com with ESMTPS id e9e14a558f8ab-42d8b21148fsm343365ab.16.2025.10.01.12.19.17 (version=TLS1_2 cipher=ECDHE-ECDSA-AES128-GCM-SHA256 bits=128/128); Wed, 01 Oct 2025 12:19:17 -0700 (PDT) X-Relaying-Domain: iol.unh.edu Date: Wed, 01 Oct 2025 12:19:17 -0700 (PDT) Message-ID: <68dd7eb5.050a0220.2f2cc3.2376SMTPIN_ADDED_MISSING@mx.google.com> Received: from [172.21.0.2] (unknown [172.18.0.240]) by postal.iol.unh.edu (Postfix) with ESMTP id C3BD76051830; Wed, 1 Oct 2025 15:19:16 -0400 (EDT) Subject: |SUCCESS| [GIT MASTER] b287e404643aeab5bb5db084c142789df187844e From: dpdklab@iol.unh.edu To: Test Report Cc: dpdk-test-reports@iol.unh.edu, Xueming Li , Christian Ehrhardt , Kevin Traynor , Luca Boccassi Content-Type: text/plain X-BeenThere: test-report@dpdk.org X-Mailman-Version: 2.1.29 Precedence: list List-Id: automatic DPDK test reports List-Unsubscribe: , List-Archive: List-Post: List-Help: List-Subscribe: , Errors-To: test-report-bounces@dpdk.org _Testing PASS_ Branch: tags/v24.11 b287e404643aeab5bb5db084c142789df187844e --> testing pass Upstream job id: Generic-DPDK-Compile-Meson#430330 Test environment and result as below: +---------------------+--------------------+-------------------+-------------------------+----------------------+ | Environment | dpdk_meson_compile | dpdk_msvc_compile | dpdk_llvm_clang_compile | dpdk_mingw64_compile | +=====================+====================+===================+=========================+======================+ | Ubuntu 20.04 | PASS | SKIPPED | SKIPPED | SKIPPED | +---------------------+--------------------+-------------------+-------------------------+----------------------+ | FreeBSD 14.2 | PASS | SKIPPED | SKIPPED | SKIPPED | +---------------------+--------------------+-------------------+-------------------------+----------------------+ | CentOS Stream 10 | PASS | SKIPPED | SKIPPED | SKIPPED | +---------------------+--------------------+-------------------+-------------------------+----------------------+ | Windows Server 2022 | SKIPPED | PASS | PASS | PASS | +---------------------+--------------------+-------------------+-------------------------+----------------------+ Ubuntu 20.04 Kernel: 4.19 Compiler: gcc gcc (Ubuntu 9.4.0-1ubuntu1~20.04.2) 9.4.0 FreeBSD 14.2 Kernel: 14.2-RELEASE Compiler: clang 18.1.6 CentOS Stream 10 Kernel: 5.15 Compiler: gcc gcc (GCC) 14.2.1 20250110 (Red Hat 14.2.1-8) Windows Server 2022 Kernel: 10.0.20348.2031 Compiler: clang 15.0.7, gcc 14.1.0 (MinGW), and MSVC VS 19.39.33521 To view detailed results, visit: https://lab.dpdk.org/results/dashboard/tarballs/35069/ UNH-IOL DPDK Community Lab To manage your email subscriptions, visit: https://lab.dpdk.org/results/dashboard/preferences/subscriptions/