From mboxrd@z Thu Jan 1 00:00:00 1970 Return-Path: Received: from mails.dpdk.org (mails.dpdk.org [217.70.189.124]) by inbox.dpdk.org (Postfix) with ESMTP id F26E548884 for ; Wed, 1 Oct 2025 21:20:32 +0200 (CEST) Received: from mails.dpdk.org (localhost [127.0.0.1]) by mails.dpdk.org (Postfix) with ESMTP id ECCDA400D5; Wed, 1 Oct 2025 21:20:32 +0200 (CEST) Received: from mail-qv1-f100.google.com (mail-qv1-f100.google.com [209.85.219.100]) by mails.dpdk.org (Postfix) with ESMTP id 8F716400D5 for ; Wed, 1 Oct 2025 21:20:31 +0200 (CEST) Received: by mail-qv1-f100.google.com with SMTP id 6a1803df08f44-79a7d439efbso2862546d6.0 for ; Wed, 01 Oct 2025 12:20:31 -0700 (PDT) DKIM-Signature: v=1; a=rsa-sha256; c=relaxed/relaxed; d=iol.unh.edu; s=unh-iol; t=1759346431; x=1759951231; darn=dpdk.org; h=references:in-reply-to:cc:to:from:subject:message-id:date:from:to :cc:subject:date:message-id:reply-to; bh=1cIzt430Z+bNoZ5CJJM8Sz+ppVlyJo4Ci5/xZIRpaXM=; b=Y9yBElXI3UcIZLRyxLDk6sxeNFnlCy2LnfTfwuwRCbDFnN/e0/+M9ZpMW7gk1R9Vud Ee+kolTefZH8MEPmEyAC2ePeAjzRz8kQesKHtQCF1M9Q7/zfUlYc9ge/2u/dK5Gx/kHX KHpxd0WLBeATyNtrME8WhZqjWChKYQwxdAPqU= X-Google-DKIM-Signature: v=1; a=rsa-sha256; c=relaxed/relaxed; d=1e100.net; s=20230601; t=1759346431; x=1759951231; h=references:in-reply-to:cc:to:from:subject:message-id:date :x-gm-message-state:from:to:cc:subject:date:message-id:reply-to; bh=1cIzt430Z+bNoZ5CJJM8Sz+ppVlyJo4Ci5/xZIRpaXM=; b=ny2KvsQCkPFNCDHoiJdBK3IM7140VEoeed/Z1GtksEecf//fCm9VJqAqJNZwdeyEG0 uskQxqK19kBzwXar7QaI0AwfUvYWQYJzN8NL1suGivJdv/wBbT448N3Amkxesy6jYCnb DiJk7ecgOT3qxXfLjn+c3giKKndtyIJnZBxaisZUm6PIPTzyn439BAp98obGjucTJLD6 E6Ka/RcXyGhJRrRQvRMl+C+P2ee0PwSWF5hYWtpQepbz7F1ywBsX1YN5T6nkedUM6Oxn 7sWjRG9NytydH9T3uO+MFf8VIMY9WaQ5SSBcSbzcBfY71rduA4rd71SuPI3AoZG5iZNr tO0w== X-Gm-Message-State: AOJu0Yz0ExwaCrYxLlYTGMY8UYQb9qZXrlfg6B3b2pTx4eISKgynEpaQ roGt5ya5YBFNrwFnr6CJowY02rbgic6m5EC03pSFHZPpaGziWbQgj1xHDMo+R2OtvHWLsBzJ6us qSAYRPM6Qgf1zypMgVxXKsy6u26CE0BF69fenWnNxdIQ16kAX0Y/AkarjKmHn X-Gm-Gg: ASbGncuFwgFFx9WtJEkrwJTRM2OKoZwDlkzhwowgzoU66cv5spJ9ChcSuSqXD+lzAQg OSkFjhKVH1wJLhiMu3U4UqqFgqlsm6GCioQzcZeU7c2CqRBXoQepD4OSc7laQ9OTvl5mG6JoTf9 Am17FsA3ShBw7OPcS3J1q7h7WZtMMTMCytQ3Dtxow1Pehx5cUWHPFmJqvTy7eB6SxSYp4+pmKFx 4vPWV8C7zycU9y5tILeycRwECNHmbdC14CaXc/otNtUs0GDmcV8kShJDEViAexnjzZrGPzWXlFs Y2y2bCS7cJEmgkfoxjUbx2tDYtPIblp7MAKChm2dhleGawzWZ/CoQvg= X-Google-Smtp-Source: AGHT+IF6dGkXmzhvBtZHjG0/OXfoQfOHE8QkJRmbsqGnpHaSV5yFyVYNXSzuZvU5r4g1qbxdm/4hz3iTHOxI X-Received: by 2002:ad4:5b8c:0:b0:70d:fadf:aed5 with SMTP id 6a1803df08f44-873a79e8ccdmr86744896d6.50.1759346430748; Wed, 01 Oct 2025 12:20:30 -0700 (PDT) Received: from postal.iol.unh.edu (postal.iol.unh.edu. [2606:4100:3880:1234::84]) by smtp-relay.gmail.com with ESMTPS id 6a1803df08f44-878bda73666sm293576d6.21.2025.10.01.12.20.30 (version=TLS1_2 cipher=ECDHE-ECDSA-AES128-GCM-SHA256 bits=128/128); Wed, 01 Oct 2025 12:20:30 -0700 (PDT) X-Relaying-Domain: iol.unh.edu Date: Wed, 01 Oct 2025 12:20:30 -0700 (PDT) Message-ID: <68dd7efe.050a0220.26a28b.1d7bSMTPIN_ADDED_MISSING@mx.google.com> Received: from [172.21.0.2] (unknown [172.18.0.240]) by postal.iol.unh.edu (Postfix) with ESMTP id 7DED86050A61; Wed, 1 Oct 2025 15:20:30 -0400 (EDT) Subject: |SUCCESS| pw157199-157201 [PATCH] [v3,3/3] app/test: add ML crypto t From: dpdklab@iol.unh.edu To: Test Report Cc: dpdk-test-reports@iol.unh.edu In-Reply-To: <20251001175658.2303-4-gmuthukrishn@marvell.com> References: <20251001175658.2303-4-gmuthukrishn@marvell.com> Content-Type: text/plain X-BeenThere: test-report@dpdk.org X-Mailman-Version: 2.1.29 Precedence: list List-Id: automatic DPDK test reports List-Unsubscribe: , List-Archive: List-Post: List-Help: List-Subscribe: , Errors-To: test-report-bounces@dpdk.org Test-Label: iol-compile-amd64-testing Test-Status: SUCCESS http://dpdk.org/patch/157201 _Testing PASS_ Submitter: Gowrishankar Muthukrishnan Date: Wednesday, October 01 2025 17:56:53 DPDK git baseline: Repo:dpdk Branch: master CommitID:2ffda8c2e357662354ee6ddcca769258c33642a9 157199-157201 --> testing pass Upstream job id: Windows-Compile-DPDK-Native#31362 Test environment and result as below: +---------------------+--------------------+-------------------------+-------------------+----------------------+ | Environment | dpdk_meson_compile | dpdk_llvm_clang_compile | dpdk_msvc_compile | dpdk_mingw64_compile | +=====================+====================+=========================+===================+======================+ | Ubuntu 20.04 | PASS | SKIPPED | SKIPPED | SKIPPED | +---------------------+--------------------+-------------------------+-------------------+----------------------+ | FreeBSD 14.2 | PASS | SKIPPED | SKIPPED | SKIPPED | +---------------------+--------------------+-------------------------+-------------------+----------------------+ | Windows Server 2022 | SKIPPED | PASS | PASS | PASS | +---------------------+--------------------+-------------------------+-------------------+----------------------+ Ubuntu 20.04 Kernel: 4.19 Compiler: gcc gcc (Ubuntu 9.4.0-1ubuntu1~20.04.2) 9.4.0 FreeBSD 14.2 Kernel: 14.2-RELEASE Compiler: clang 18.1.6 Windows Server 2022 Kernel: 10.0.20348.2031 Compiler: clang 15.0.7, gcc 14.1.0 (MinGW), and MSVC VS 19.39.33521 To view detailed results, visit: https://lab.dpdk.org/results/dashboard/patchsets/34196/ UNH-IOL DPDK Community Lab To manage your email subscriptions, visit: https://lab.dpdk.org/results/dashboard/preferences/subscriptions/