From mboxrd@z Thu Jan 1 00:00:00 1970 Return-Path: Received: from mails.dpdk.org (mails.dpdk.org [217.70.189.124]) by inbox.dpdk.org (Postfix) with ESMTP id 57E2F48884 for ; Wed, 1 Oct 2025 21:33:28 +0200 (CEST) Received: from mails.dpdk.org (localhost [127.0.0.1]) by mails.dpdk.org (Postfix) with ESMTP id 3042F40649; Wed, 1 Oct 2025 21:33:28 +0200 (CEST) Received: from mail-io1-f100.google.com (mail-io1-f100.google.com [209.85.166.100]) by mails.dpdk.org (Postfix) with ESMTP id 4CADA40649 for ; Wed, 1 Oct 2025 21:33:26 +0200 (CEST) Received: by mail-io1-f100.google.com with SMTP id ca18e2360f4ac-912d4135379so10000639f.1 for ; Wed, 01 Oct 2025 12:33:26 -0700 (PDT) DKIM-Signature: v=1; a=rsa-sha256; c=relaxed/relaxed; d=iol.unh.edu; s=unh-iol; t=1759347205; x=1759952005; darn=dpdk.org; h=references:in-reply-to:cc:to:from:subject:message-id:date:from:to :cc:subject:date:message-id:reply-to; bh=HYwDcqlc26wk+XAzQ0pl5DhBhF4sm+4cqnaDwREvXww=; b=Ym+xzCBRAgnkr72WwZLX276ev/EhFfmhLi+jCEY/eisMG+xDVz33KirErHInk7tFSR z2gQU+9DHGE0UGZXSRzuaazxoQPyGAEp4c1kqTGFtGuF4PRiFIaYb2VzLgZ7xxOxZwpS Eu6oCh5w/Mri53UWoME6r00zqS62dhnk91y48= X-Google-DKIM-Signature: v=1; a=rsa-sha256; c=relaxed/relaxed; d=1e100.net; s=20230601; t=1759347205; x=1759952005; h=references:in-reply-to:cc:to:from:subject:message-id:date :x-gm-message-state:from:to:cc:subject:date:message-id:reply-to; bh=HYwDcqlc26wk+XAzQ0pl5DhBhF4sm+4cqnaDwREvXww=; b=DZb/rzvEwyzcEgA0tzqzyP3nEmPCLuyiXG6qO9mZryrDHwmNNOvcafmOMvZCPl5mgA JvUwj1ZRu+/P2VP+bvUApC6lyu0xoyctdO3lQyA/piDizyXV3oMtJPnuct7sgYQKzBRi XhT2OXW+RGvUqGfT2HnhkdkWfGNcN7pOwH84XIzAX/wOWHzcMPIBSFL4SYWKAC7OJ0Sf EIL63VZ09H4iPOww21HNoEaXJGSZjnAUPzaV0WN/p9dfPpSF28ycn40Ep12wzmvk3zb0 DnKo0zIgaeozk/5rs75/V5WOwPEkMe4Yu27uBDnMtbMoXxnKdcr73mcO1N5VK6t2Dxpg i8Yw== X-Gm-Message-State: AOJu0YxuvOLZ7DpvTJ7BJiKcUVZ3v8696puKp+SV4fEkSaN+VbY2Wpfj VDeXNBTndPAF2AR7wxhKwMSlHm+5986U/AsmmAcZm2DQwSSNjYojGZQAula0YI6y3ImgQ2WPAcw VBYnsavSsevscGfRsZ46f3jOu5xWZqqx3TMaJcYa375Qy X-Gm-Gg: ASbGncvtQseBUwmzT496w/buIuwU2hEVc+ZgFsIFSbVqFX+18Fo3d4mp+AcCKxEF4Gp lotHhTGWzibjk92/0An0jRApQeaUNQSNtLHmHFxAAj7Bg6Y5bDd1Ituigv7ijN+edU79ELOPNKe JDZmJYKPJXT5A52p914jLtXV2Gkh86B83ONlzxRvKFzpb3FalmN0GJ/+nnrivR8KQlo5NBGDSAn QeQ932xwfy/NiEhiZMwLEIECfN4d3gc51gnCB+So+AB5dYle2qqFrWjDh75fehlDPbC03mwKYPP hxrVqTJm9eCu0i+N6O5fwpMe6QStvXCc7h0dPc0MJE8IMmzcpKwssZw45FC3vGhR7LVm4yE/EVo Tsw== X-Google-Smtp-Source: AGHT+IGgHBja7gv/5cT5addSYa436HGfcGIw6zAP6pwmmYHCxYe5pjurcIEHO8fidiCeNTCJKRFOXlXCFA4z X-Received: by 2002:a05:6e02:2583:b0:3f3:4562:ca92 with SMTP id e9e14a558f8ab-42d815c67dcmr71411195ab.10.1759347205486; Wed, 01 Oct 2025 12:33:25 -0700 (PDT) Received: from postal.iol.unh.edu (postal.iol.unh.edu. [132.177.123.84]) by smtp-relay.gmail.com with ESMTPS id e9e14a558f8ab-42d8b290382sm334745ab.33.2025.10.01.12.33.25 (version=TLS1_2 cipher=ECDHE-ECDSA-AES128-GCM-SHA256 bits=128/128); Wed, 01 Oct 2025 12:33:25 -0700 (PDT) X-Relaying-Domain: iol.unh.edu Date: Wed, 01 Oct 2025 12:33:25 -0700 (PDT) Message-ID: <68dd8205.050a0220.23f770.2228SMTPIN_ADDED_MISSING@mx.google.com> Received: from [172.21.0.2] (unknown [172.18.0.240]) by postal.iol.unh.edu (Postfix) with ESMTP id 04C48604D420; Wed, 1 Oct 2025 15:33:25 -0400 (EDT) Subject: |SUCCESS| pw157199-157201 [PATCH] [v3,3/3] app/test: add ML crypto t From: dpdklab@iol.unh.edu To: Test Report Cc: dpdk-test-reports@iol.unh.edu In-Reply-To: <20251001175658.2303-4-gmuthukrishn@marvell.com> References: <20251001175658.2303-4-gmuthukrishn@marvell.com> Content-Type: text/plain X-BeenThere: test-report@dpdk.org X-Mailman-Version: 2.1.29 Precedence: list List-Id: automatic DPDK test reports List-Unsubscribe: , List-Archive: List-Post: List-Help: List-Subscribe: , Errors-To: test-report-bounces@dpdk.org Test-Label: iol-unit-amd64-testing Test-Status: SUCCESS http://dpdk.org/patch/157201 _Testing PASS_ Submitter: Gowrishankar Muthukrishnan Date: Wednesday, October 01 2025 17:56:53 DPDK git baseline: Repo:dpdk Branch: master CommitID:2ffda8c2e357662354ee6ddcca769258c33642a9 157199-157201 --> testing pass Upstream job id: Generic-VM-Unit-Test-DPDK#31531 Test environment and result as below: +-------------------------------+----------------+ | Environment | dpdk_unit_test | +===============================+================+ | CentOS Stream 9 | PASS | +-------------------------------+----------------+ | Windows Server 2022 | PASS | +-------------------------------+----------------+ | CentOS Stream 10 | PASS | +-------------------------------+----------------+ | Debian GNU/Linux 12 | PASS | +-------------------------------+----------------+ | Fedora Linux 40 | PASS | +-------------------------------+----------------+ | Fedora Linux 41 | PASS | +-------------------------------+----------------+ | Fedora Linux 42 | PASS | +-------------------------------+----------------+ | Red Hat Enterprise Linux 9.5 | PASS | +-------------------------------+----------------+ | Red Hat Enterprise Linux 8.10 | PASS | +-------------------------------+----------------+ | Ubuntu 24.04 | PASS | +-------------------------------+----------------+ | Ubuntu 20.04 | PASS | +-------------------------------+----------------+ | Ubuntu 22.04 | PASS | +-------------------------------+----------------+ CentOS Stream 9 Kernel: 5.15 Compiler: gcc gcc (GCC) 11.5.0 20240719 (Red Hat 11.5.0-11) Windows Server 2022 Kernel: 10.0.20348.2031 Compiler: clang 15.0.7, gcc 14.1.0 (MinGW), and MSVC VS 19.39.33521 CentOS Stream 10 Kernel: 5.15 Compiler: gcc gcc (GCC) 14.2.1 20250110 (Red Hat 14.2.1-8) Debian GNU/Linux 12 Kernel: 5.15 Compiler: gcc gcc (Debian 12.2.0-14+deb12u1) 12.2.0 Fedora Linux 40 Kernel: 5.15 Compiler: gcc gcc (GCC) 14.2.1 20240912 (Red Hat 14.2.1-3) Fedora Linux 41 Kernel: 5.15 Compiler: gcc gcc (GCC) 14.3.1 20250523 (Red Hat 14.3.1-1) Fedora Linux 42 Kernel: 5.15 Compiler: clang gcc (GCC) 15.2.1 20250808 (Red Hat 15.2.1-1) Red Hat Enterprise Linux 9.5 Kernel: 5.15 Compiler: gcc gcc (GCC) 11.5.0 20240719 (Red Hat 11.5.0-2) Red Hat Enterprise Linux 8.10 Kernel: 5.15 Compiler: gcc gcc (GCC) 8.5.0 20210514 (Red Hat 8.5.0-22) Ubuntu 24.04 Kernel: 5.15 Compiler: gcc gcc (Ubuntu 13.3.0-6ubuntu2~24.04) 13.3.0 Ubuntu 20.04 Kernel: 5.15 Compiler: gcc gcc (Ubuntu 9.4.0-1ubuntu1~20.04.2) 9.4.0 Ubuntu 22.04 Kernel: 5.15 Compiler: gcc gcc (Ubuntu 11.4.0-1ubuntu1~22.04) 11.4.0 To view detailed results, visit: https://lab.dpdk.org/results/dashboard/patchsets/34196/ UNH-IOL DPDK Community Lab To manage your email subscriptions, visit: https://lab.dpdk.org/results/dashboard/preferences/subscriptions/