From mboxrd@z Thu Jan 1 00:00:00 1970 Return-Path: Received: from mails.dpdk.org (mails.dpdk.org [217.70.189.124]) by inbox.dpdk.org (Postfix) with ESMTP id EA8E748884 for ; Wed, 1 Oct 2025 21:39:44 +0200 (CEST) Received: from mails.dpdk.org (localhost [127.0.0.1]) by mails.dpdk.org (Postfix) with ESMTP id BC5EC40649; Wed, 1 Oct 2025 21:39:44 +0200 (CEST) Received: from mail-qv1-f99.google.com (mail-qv1-f99.google.com [209.85.219.99]) by mails.dpdk.org (Postfix) with ESMTP id A37E340649 for ; Wed, 1 Oct 2025 21:39:43 +0200 (CEST) Received: by mail-qv1-f99.google.com with SMTP id 6a1803df08f44-79599d65f75so2560986d6.2 for ; Wed, 01 Oct 2025 12:39:43 -0700 (PDT) DKIM-Signature: v=1; a=rsa-sha256; c=relaxed/relaxed; d=iol.unh.edu; s=unh-iol; t=1759347583; x=1759952383; darn=dpdk.org; h=references:in-reply-to:cc:to:from:subject:message-id:date:from:to :cc:subject:date:message-id:reply-to; bh=BaA3TfYHS73Z3H7qiDuRjcAglZY3Vb2NTp9shnP7zJs=; b=VplPjSDqWMfq7lA1OB+48q3E6PqyGtOLYq1J4JKVpUFOYubPey9Nbc8CJzS96VQ/Ds YJhHBKih3JQA9PRBCts49QNCE7EEarqXOyxixx65De9X3ztq5Iw1CKODro+Y8Uv9F6YL r6Um5vsKVzY5UfyBOzwdueOcunsO50tkZanDk= X-Google-DKIM-Signature: v=1; a=rsa-sha256; c=relaxed/relaxed; d=1e100.net; s=20230601; t=1759347583; x=1759952383; h=references:in-reply-to:cc:to:from:subject:message-id:date :x-gm-message-state:from:to:cc:subject:date:message-id:reply-to; bh=BaA3TfYHS73Z3H7qiDuRjcAglZY3Vb2NTp9shnP7zJs=; b=IemJXTB8VM8C1SymeMscq+ChY7TQXpiT0P4hJKQh9ybPf8Rl3TvByGSuMEpJiH92tO pj2p0nYR3C7LGLklq4lEgbgSJdRCLOuHmjDK/+lZR4S6JjpR0+va6p3uPoLv4SMF/em9 3s8+gEgmWgYrES1iWWXomw5Z6gawBYkRjbnMISka98Y0OLV0Nn72uDbvNI3ah3shXWWX i8xYn7VlG0JieoLKnypBbR0an0L19V4cAIeDxmRbdPLLSSdQceg++HfRJ3k3yELRea6a Tf+cpOe1YbNB78kiF+VWY6AfzdVpVCHed4BjX7YiUpUaV0DmpYJmPa15xKjPIgccx07n R6pA== X-Gm-Message-State: AOJu0YwRocUyp7qX045bBYCrgEEt/S/DsdjwmqIJuLr57xYYYqD7AzfZ WHgkgNxzXs1Ve62M4OOpmQIroDGx+7ES4T7vqR3UZ6dbwYVwu+bqRieI8CTsNB0F8P+Bps9ARbV +s0z5SdK6xZWeofO/a1NNWtrMi2OREAeNu7z05bsQrIkKKo7G+r9CW0YePlKK X-Gm-Gg: ASbGncvUXla4fHggFwBElvONIilsZukA3bQwrPJyTAVYN/jLtSUoh92/8MRWaZ76VOM NrxK8omS2lKKQ6i1dXYquLc+nmh9rWv8oOECUf8v2rqFw6RHN3sdMmqU6RstY+mfJLLWs4fXKX/ YzMKKqeAZFccGwBnz5T8XRRJEzbhq8s7uzP7Y2bibNhHOKRTSODJpiBPZONCIdzDfs+WVXBKjNS Oqpg0RYugNhTWvD+YTZfTSpQTUwOm0qgwh/nm7qlga5ealPWFRjjxdecnGbntbIhV2cDkQ/X0DP a6lU3zg1aiOOcth4W8nZSw24IaV4iPhfYeE6371P4oCehJ/NQkJxZ1M= X-Google-Smtp-Source: AGHT+IEi4M4hG+grRumXhqxj3HK9jSDgrLt2sVnvNcZsy/xeGPGujtksNscSyZUHEepfZrF7nX08sQfdXg4i X-Received: by 2002:a05:6214:1bc7:b0:729:fdfa:df20 with SMTP id 6a1803df08f44-8739be1badfmr60162856d6.3.1759347582916; Wed, 01 Oct 2025 12:39:42 -0700 (PDT) Received: from postal.iol.unh.edu (postal.iol.unh.edu. [2606:4100:3880:1234::84]) by smtp-relay.gmail.com with ESMTPS id 6a1803df08f44-878bda734c1sm314896d6.24.2025.10.01.12.39.42 (version=TLS1_2 cipher=ECDHE-ECDSA-AES128-GCM-SHA256 bits=128/128); Wed, 01 Oct 2025 12:39:42 -0700 (PDT) X-Relaying-Domain: iol.unh.edu Date: Wed, 01 Oct 2025 12:39:42 -0700 (PDT) Message-ID: <68dd837e.050a0220.76fa0.2074SMTPIN_ADDED_MISSING@mx.google.com> Received: from [172.21.0.3] (unknown [172.18.0.240]) by postal.iol.unh.edu (Postfix) with ESMTP id 93C50604D420; Wed, 1 Oct 2025 15:39:42 -0400 (EDT) Subject: |SUCCESS| pw157151-157155 [PATCH] [v3,5/5] usertools/mbuf: parse mbu From: dpdklab@iol.unh.edu To: Test Report Cc: dpdk-test-reports@iol.unh.edu In-Reply-To: <20250930233828.3999565-6-thomas@monjalon.net> References: <20250930233828.3999565-6-thomas@monjalon.net> Content-Type: text/plain X-BeenThere: test-report@dpdk.org X-Mailman-Version: 2.1.29 Precedence: list List-Id: automatic DPDK test reports List-Unsubscribe: , List-Archive: List-Post: List-Help: List-Subscribe: , Errors-To: test-report-bounces@dpdk.org Test-Label: iol-compile-amd64-testing Test-Status: SUCCESS http://dpdk.org/patch/157155 _Testing PASS_ Submitter: Thomas Monjalon Date: Tuesday, September 30 2025 23:25:06 DPDK git baseline: Repo:dpdk Branch: master CommitID:f3878b615e69a12087a6c5d212723478cfc79c31 157151-157155 --> testing pass Upstream job id: Generic-DPDK-Compile-Meson#430333 Test environment and result as below: +-------------------------------+--------------------+-------------------------+-------------------+----------------------+-------------------+------------------+ | Environment | dpdk_meson_compile | dpdk_llvm_clang_compile | dpdk_msvc_compile | dpdk_mingw64_compile | dpdk_compile_spdk | dpdk_compile_ovs | +===============================+====================+=========================+===================+======================+===================+==================+ | Ubuntu 20.04 | PASS | SKIPPED | SKIPPED | SKIPPED | SKIPPED | SKIPPED | +-------------------------------+--------------------+-------------------------+-------------------+----------------------+-------------------+------------------+ | FreeBSD 14.2 | PASS | SKIPPED | SKIPPED | SKIPPED | SKIPPED | SKIPPED | +-------------------------------+--------------------+-------------------------+-------------------+----------------------+-------------------+------------------+ | Red Hat Enterprise Linux 9.5 | PASS | SKIPPED | SKIPPED | SKIPPED | SKIPPED | SKIPPED | +-------------------------------+--------------------+-------------------------+-------------------+----------------------+-------------------+------------------+ | Alpine Linux 3.22.0 | PASS | SKIPPED | SKIPPED | SKIPPED | SKIPPED | SKIPPED | +-------------------------------+--------------------+-------------------------+-------------------+----------------------+-------------------+------------------+ | Ubuntu 22.04 | PASS | SKIPPED | SKIPPED | SKIPPED | PASS | SKIPPED | +-------------------------------+--------------------+-------------------------+-------------------+----------------------+-------------------+------------------+ | CentOS Stream 9 | PASS | SKIPPED | SKIPPED | SKIPPED | PASS | SKIPPED | +-------------------------------+--------------------+-------------------------+-------------------+----------------------+-------------------+------------------+ | Ubuntu 24.04 | PASS | SKIPPED | SKIPPED | SKIPPED | PASS | PASS | +-------------------------------+--------------------+-------------------------+-------------------+----------------------+-------------------+------------------+ | Red Hat Enterprise Linux 8.10 | PASS | SKIPPED | SKIPPED | SKIPPED | SKIPPED | SKIPPED | +-------------------------------+--------------------+-------------------------+-------------------+----------------------+-------------------+------------------+ | Windows Server 2022 | SKIPPED | PASS | PASS | PASS | SKIPPED | SKIPPED | +-------------------------------+--------------------+-------------------------+-------------------+----------------------+-------------------+------------------+ Ubuntu 20.04 Kernel: 4.19 Compiler: gcc gcc (Ubuntu 9.4.0-1ubuntu1~20.04.2) 9.4.0 FreeBSD 14.2 Kernel: 14.2-RELEASE Compiler: clang 18.1.6 Red Hat Enterprise Linux 9.5 Kernel: 5.15 Compiler: gcc gcc (GCC) 11.5.0 20240719 (Red Hat 11.5.0-2) Alpine Linux 3.22.0 Kernel: 5.15 Compiler: gcc gcc (Alpine 14.2.0) 14.2.0 Ubuntu 22.04 Kernel: 5.15 Compiler: gcc gcc (Ubuntu 11.4.0-1ubuntu1~22.04) 11.4.0 CentOS Stream 9 Kernel: 5.15 Compiler: gcc gcc (GCC) 11.5.0 20240719 (Red Hat 11.5.0-11) Ubuntu 24.04 Kernel: 5.15 Compiler: gcc gcc (Ubuntu 13.3.0-6ubuntu2~24.04) 13.3.0 Red Hat Enterprise Linux 8.10 Kernel: 5.15 Compiler: gcc gcc (GCC) 8.5.0 20210514 (Red Hat 8.5.0-22) Windows Server 2022 Kernel: 10.0.20348.2031 Compiler: clang 15.0.7, gcc 14.1.0 (MinGW), and MSVC VS 19.39.33521 To view detailed results, visit: https://lab.dpdk.org/results/dashboard/patchsets/34187/ UNH-IOL DPDK Community Lab To manage your email subscriptions, visit: https://lab.dpdk.org/results/dashboard/preferences/subscriptions/