From mboxrd@z Thu Jan 1 00:00:00 1970 Return-Path: Received: from mails.dpdk.org (mails.dpdk.org [217.70.189.124]) by inbox.dpdk.org (Postfix) with ESMTP id A754648887 for ; Wed, 1 Oct 2025 22:19:28 +0200 (CEST) Received: from mails.dpdk.org (localhost [127.0.0.1]) by mails.dpdk.org (Postfix) with ESMTP id 9DD0840262; Wed, 1 Oct 2025 22:19:28 +0200 (CEST) Received: from mail-pf1-f226.google.com (mail-pf1-f226.google.com [209.85.210.226]) by mails.dpdk.org (Postfix) with ESMTP id A81E040262 for ; Wed, 1 Oct 2025 22:19:27 +0200 (CEST) Received: by mail-pf1-f226.google.com with SMTP id d2e1a72fcca58-789fb76b466so358808b3a.0 for ; Wed, 01 Oct 2025 13:19:27 -0700 (PDT) DKIM-Signature: v=1; a=rsa-sha256; c=relaxed/relaxed; d=iol.unh.edu; s=unh-iol; t=1759349967; x=1759954767; darn=dpdk.org; h=references:in-reply-to:cc:to:from:subject:message-id:date:from:to :cc:subject:date:message-id:reply-to; bh=xais7qXaabjHBoWd8JVY6v8LoRKZqTCgznW4XSmz/og=; b=ZUdIZ9jyy8oqsM63coXFSQ9Iphm3bSxfzbYQzTkS8pN+s/th5+vO7vksjMT+ledCR9 K48nW8TKWElwVyoeNq+jNmYi2crcImgd+ePujVJMwagoxgPK1j8OSZSdXTKp9NsbYgHL XFhExf2HdV8ghsbxBHG1gciYadhgqy9iZvIl8= X-Google-DKIM-Signature: v=1; a=rsa-sha256; c=relaxed/relaxed; d=1e100.net; s=20230601; t=1759349967; x=1759954767; h=references:in-reply-to:cc:to:from:subject:message-id:date :x-gm-message-state:from:to:cc:subject:date:message-id:reply-to; bh=xais7qXaabjHBoWd8JVY6v8LoRKZqTCgznW4XSmz/og=; b=n4V70SkIC4sIIHr1QUT1HnggrX9pyChz8cZVxuA0WZbgKneHHmHy82zd3d/Urm+xmU mr2L08lOc8zWZyQYVWn2riWr3P/0MDB93QROPlRJ3qUkTmdjOSRa2ZRKjPXPY5r2L7mX yv7hmtkJk5aY5rYF54ucwTAr8x027MZ2Y3hm1grPsyBAJGIyoAhtPQgBcMDs/jcg0ize AK9m0pwYib1pe3b6cN/SU+kwWEJOpXBzpxq5x2ba9aCML22CcI78YxdroLpzuqEMvGto E5OpscnGJF2P8HjyrfJZp2Q5KWwBQ9kgDI4yVN5+WPfC2RjgCUiHPfw+z3UUQWdRexzV FQfA== X-Gm-Message-State: AOJu0Yy1Lgi8nOD/8huE7z6uC2fX4tcKzroclniKV0bXSGJEiV2bwzlH ShHYdj+xuVYFJkGiR2DC/YDzBagrM8/CmQOIlb8qsANvWERXlhYTDnRLoFxcl8k03itXDPRy5em LDR/r9pKVNMFUnYJ8vgsL95POYrZesmWGXoBtV8kfDlv/1nQ7zNRIe08/Z087 X-Gm-Gg: ASbGncvwfDoktlHCV3RL967A6kcx02V2RXp+TP/ooaSgwRx59Z6U9znc/+GGN2/8vJL iBhPyxpHQmOHm7btsOTuR3T2AEFRMxVrCkDV4Q8YWVU+KHAhAJpKVm+4DJYg0O4Sp1smMs376JX hBuT8wpmxhG8MEUxxdz8714JD72T8PhuRvdu/ruA1DkbbbKfSDXZL9jStB1ikpgmE3PifSMEDIy MLGHc+QpwIdFXEUhd0AM+N/DPV2XcNPvTz9KlWo3S3UXEt/tP320C7RL9QJjo32gw+aYFZppfsG gcd0ab7VOfUXc1RuVpP71tiAH2XZ1NMDVvBhD3Vc45EWEgrjPdNaGEM= X-Google-Smtp-Source: AGHT+IGdanyupIZCrc2/w2XreBZdw8JYyPy5X8/omsk4ff/aDkuftcvdZKHDVPNhaw7iUb5lXSmtETWMdNJT X-Received: by 2002:a17:902:f70b:b0:275:f932:8636 with SMTP id d9443c01a7336-28e7f31113dmr55218465ad.38.1759349966696; Wed, 01 Oct 2025 13:19:26 -0700 (PDT) Received: from postal.iol.unh.edu (postal.iol.unh.edu. [2606:4100:3880:1234::84]) by smtp-relay.gmail.com with ESMTPS id d9443c01a7336-28e8d1814b9sm360705ad.36.2025.10.01.13.19.26 (version=TLS1_2 cipher=ECDHE-ECDSA-AES128-GCM-SHA256 bits=128/128); Wed, 01 Oct 2025 13:19:26 -0700 (PDT) X-Relaying-Domain: iol.unh.edu Date: Wed, 01 Oct 2025 13:19:26 -0700 (PDT) Message-ID: <68dd8cce.170a0220.11e85f.249dSMTPIN_ADDED_MISSING@mx.google.com> Received: from [172.21.0.2] (unknown [172.18.0.240]) by postal.iol.unh.edu (Postfix) with ESMTP id 13616604D420; Wed, 1 Oct 2025 16:19:26 -0400 (EDT) Subject: |SUCCESS| pw157172-157176 [PATCH] [v2,5/5] net/ice/base: update READ From: dpdklab@iol.unh.edu To: Test Report Cc: dpdk-test-reports@iol.unh.edu, Bruce Richardson In-Reply-To: <207bf21102cc183944ead4f989eaf9b26d0e7891.1759321681.git.anatoly.burakov@intel.com> References: <207bf21102cc183944ead4f989eaf9b26d0e7891.1759321681.git.anatoly.burakov@intel.com> Content-Type: text/plain X-BeenThere: test-report@dpdk.org X-Mailman-Version: 2.1.29 Precedence: list List-Id: automatic DPDK test reports List-Unsubscribe: , List-Archive: List-Post: List-Help: List-Subscribe: , Errors-To: test-report-bounces@dpdk.org Test-Label: iol-compile-amd64-testing Test-Status: SUCCESS http://dpdk.org/patch/157176 _Testing PASS_ Submitter: Burakov, Anatoly Date: Wednesday, October 01 2025 12:29:08 DPDK git baseline: Repo:dpdk-next-net-intel Branch: master CommitID:9845e5848bbe337306fb6ae2a6b1ce5e6ab5b714 157172-157176 --> testing pass Upstream job id: Generic-DPDK-Compile-Meson#430336 Test environment and result as below: +---------------------+-------------------------+--------------------+-------------------+----------------------+-------------------+ | Environment | dpdk_llvm_clang_compile | dpdk_meson_compile | dpdk_msvc_compile | dpdk_mingw64_compile | dpdk_compile_spdk | +=====================+=========================+====================+===================+======================+===================+ | Windows Server 2022 | PASS | SKIPPED | PASS | PASS | SKIPPED | +---------------------+-------------------------+--------------------+-------------------+----------------------+-------------------+ | Ubuntu 20.04 | SKIPPED | PASS | SKIPPED | SKIPPED | SKIPPED | +---------------------+-------------------------+--------------------+-------------------+----------------------+-------------------+ | FreeBSD 14.2 | SKIPPED | PASS | SKIPPED | SKIPPED | SKIPPED | +---------------------+-------------------------+--------------------+-------------------+----------------------+-------------------+ | Ubuntu 22.04 | SKIPPED | PASS | SKIPPED | SKIPPED | PASS | +---------------------+-------------------------+--------------------+-------------------+----------------------+-------------------+ Windows Server 2022 Kernel: 10.0.20348.2031 Compiler: clang 15.0.7, gcc 14.1.0 (MinGW), and MSVC VS 19.39.33521 Ubuntu 20.04 Kernel: 4.19 Compiler: gcc gcc (Ubuntu 9.4.0-1ubuntu1~20.04.2) 9.4.0 FreeBSD 14.2 Kernel: 14.2-RELEASE Compiler: clang 18.1.6 Ubuntu 22.04 Kernel: 5.15 Compiler: gcc gcc (Ubuntu 11.4.0-1ubuntu1~22.04) 11.4.0 To view detailed results, visit: https://lab.dpdk.org/results/dashboard/patchsets/34193/ UNH-IOL DPDK Community Lab To manage your email subscriptions, visit: https://lab.dpdk.org/results/dashboard/preferences/subscriptions/