From mboxrd@z Thu Jan 1 00:00:00 1970 Return-Path: Received: from mails.dpdk.org (mails.dpdk.org [217.70.189.124]) by inbox.dpdk.org (Postfix) with ESMTP id E5A2048887 for ; Wed, 1 Oct 2025 22:31:01 +0200 (CEST) Received: from mails.dpdk.org (localhost [127.0.0.1]) by mails.dpdk.org (Postfix) with ESMTP id DD2C240262; Wed, 1 Oct 2025 22:31:01 +0200 (CEST) Received: from mail-pg1-f226.google.com (mail-pg1-f226.google.com [209.85.215.226]) by mails.dpdk.org (Postfix) with ESMTP id 13DDD40262 for ; Wed, 1 Oct 2025 22:31:00 +0200 (CEST) Received: by mail-pg1-f226.google.com with SMTP id 41be03b00d2f7-b5515eaefceso247039a12.2 for ; Wed, 01 Oct 2025 13:31:00 -0700 (PDT) DKIM-Signature: v=1; a=rsa-sha256; c=relaxed/relaxed; d=iol.unh.edu; s=unh-iol; t=1759350659; x=1759955459; darn=dpdk.org; h=references:in-reply-to:cc:to:from:subject:message-id:date:from:to :cc:subject:date:message-id:reply-to; bh=HdAaKubGdwWBtQBzeFyoKgXzjMKsIKjsq+CfQykyqv0=; b=aq2S4oh+kARkYBGC3JM/udqcbURX3JjH3lRU+MqFU+7OWwfogyk1KUn5Wkv9mIlV3q WyvQ8n4Uizs8G9gvU3Um+KGIEFXpaH5ma6eH+Uo6TZ9G40EeYLMRwIBIngoPOQtuzhMs qScOjKGTMSlhviz4iSCy7D+sfGekwE90kUMkk= X-Google-DKIM-Signature: v=1; a=rsa-sha256; c=relaxed/relaxed; d=1e100.net; s=20230601; t=1759350659; x=1759955459; h=references:in-reply-to:cc:to:from:subject:message-id:date :x-gm-message-state:from:to:cc:subject:date:message-id:reply-to; bh=HdAaKubGdwWBtQBzeFyoKgXzjMKsIKjsq+CfQykyqv0=; b=Q3kYe2SfnBxUZ/XzouqCsp8e7j+J8IDOfs11fRBzXhYeZY+USlI8S82k4tD4uFIL2Z xguGwr4mEvpi0dvH4ft2UV6KMtrvovQk3WyiXyQFKN6fC5oU3vfqg2IPAkW/2LbZCdG/ S2Kgn2of50acjBJImtoXfLKwSs2P8eAul79oau/BMi/vunINnGTiEAAnkEhqK4g1JXOH gTicZ769u58mbG3qMwCelQmjODBUNmQ8y/K5DNr9k6iKe8OL0NEfvD7s16DPUNHbeQoy d7N+FHrserfgT8Q/BAuaZDz8tXUyB+vyO9PR2D8dpz8oQT7m4jF62wMVzsEKluBJMdGC Xb/A== X-Gm-Message-State: AOJu0YwYBY/MTD0eViQBx1tzQFKKDWG+/j/nQYiTptDWtEBVou//iAHf RDZJ4TfH7W+q1mCFDu5LN3Ik2skKY29TxZEjGKVu4rXh9bknQviYDP62oQGVA75xefvyUfKG5Ym ZMDKE/NnMfbFM6NdnSWK6edASGigIoBQIURbbno/6sH5VhQcU5Ch5ayFnXPPA X-Gm-Gg: ASbGnctxphBwGRfLwfPf+EXXsxBFJ3o3CMDESyQJ7ibNJbL0L9reFpCVwCYhewmLFP9 bevafqhYCYAqgbKSqIjfL+PvIs1eIfpuqZ8A2vDGFYIiGnFp+hFZUn55lawSnNSNPSsIyWOmbcs XKNXCyEjqFHdumyORQvQKaQrhsZCbMvLbH9lr/xFtWe8bZ8/3MvOAJtanhar4uY9JFf71/VJctT Z53Jipko/0SRZYm/PdFyLhviVA+d8ZY/RZueGZYWUsEbMHn3bwoMpqW9dEIRVfdyWWmx6I/545S SU1bfTkAObudwm/CGnzYI4WfwoxwRjvlupLpKjxEWEFeWoFLF3WlVEE= X-Google-Smtp-Source: AGHT+IHcGdc6uLFDwz23L2NuaSwXF5LWq84YQugMiPCn8rxEfDdWokD1rXZTKnqrrYwp6yPflhKHjW8IjFSi X-Received: by 2002:a17:902:f606:b0:275:b1cf:6ddc with SMTP id d9443c01a7336-28e7f28e274mr60847975ad.5.1759350659217; Wed, 01 Oct 2025 13:30:59 -0700 (PDT) Received: from postal.iol.unh.edu (postal.iol.unh.edu. [2606:4100:3880:1234::84]) by smtp-relay.gmail.com with ESMTPS id d9443c01a7336-28e8d108405sm440575ad.5.2025.10.01.13.30.59 (version=TLS1_2 cipher=ECDHE-ECDSA-AES128-GCM-SHA256 bits=128/128); Wed, 01 Oct 2025 13:30:59 -0700 (PDT) X-Relaying-Domain: iol.unh.edu Date: Wed, 01 Oct 2025 13:30:59 -0700 (PDT) Message-ID: <68dd8f83.170a0220.389ad4.2ceaSMTPIN_ADDED_MISSING@mx.google.com> Received: from [172.21.0.2] (unknown [172.18.0.240]) by postal.iol.unh.edu (Postfix) with ESMTP id A79AE604D420; Wed, 1 Oct 2025 16:30:58 -0400 (EDT) Subject: |SUCCESS| pw157199-157201 [PATCH] [v3,3/3] app/test: add ML crypto t From: dpdklab@iol.unh.edu To: Test Report Cc: dpdk-test-reports@iol.unh.edu In-Reply-To: <20251001175658.2303-4-gmuthukrishn@marvell.com> References: <20251001175658.2303-4-gmuthukrishn@marvell.com> Content-Type: text/plain X-BeenThere: test-report@dpdk.org X-Mailman-Version: 2.1.29 Precedence: list List-Id: automatic DPDK test reports List-Unsubscribe: , List-Archive: List-Post: List-Help: List-Subscribe: , Errors-To: test-report-bounces@dpdk.org Test-Label: iol-compile-amd64-testing Test-Status: SUCCESS http://dpdk.org/patch/157201 _Testing PASS_ Submitter: Gowrishankar Muthukrishnan Date: Wednesday, October 01 2025 17:56:53 DPDK git baseline: Repo:dpdk Branch: master CommitID:2ffda8c2e357662354ee6ddcca769258c33642a9 157199-157201 --> testing pass Upstream job id: Generic-DPDK-Compile-Meson#430344 Test environment and result as below: +---------------------+--------------------+-------------------------+-------------------+----------------------+ | Environment | dpdk_meson_compile | dpdk_llvm_clang_compile | dpdk_msvc_compile | dpdk_mingw64_compile | +=====================+====================+=========================+===================+======================+ | Ubuntu 20.04 | PASS | SKIPPED | SKIPPED | SKIPPED | +---------------------+--------------------+-------------------------+-------------------+----------------------+ | FreeBSD 14.2 | PASS | SKIPPED | SKIPPED | SKIPPED | +---------------------+--------------------+-------------------------+-------------------+----------------------+ | Windows Server 2022 | SKIPPED | PASS | PASS | PASS | +---------------------+--------------------+-------------------------+-------------------+----------------------+ Ubuntu 20.04 Kernel: 4.19 Compiler: gcc gcc (Ubuntu 9.4.0-1ubuntu1~20.04.2) 9.4.0 FreeBSD 14.2 Kernel: 14.2-RELEASE Compiler: clang 18.1.6 Windows Server 2022 Kernel: 10.0.20348.2031 Compiler: clang 15.0.7, gcc 14.1.0 (MinGW), and MSVC VS 19.39.33521 To view detailed results, visit: https://lab.dpdk.org/results/dashboard/patchsets/34196/ UNH-IOL DPDK Community Lab To manage your email subscriptions, visit: https://lab.dpdk.org/results/dashboard/preferences/subscriptions/