From mboxrd@z Thu Jan 1 00:00:00 1970 Return-Path: Received: from mails.dpdk.org (mails.dpdk.org [217.70.189.124]) by inbox.dpdk.org (Postfix) with ESMTP id D1AAF48887 for ; Wed, 1 Oct 2025 22:38:36 +0200 (CEST) Received: from mails.dpdk.org (localhost [127.0.0.1]) by mails.dpdk.org (Postfix) with ESMTP id A550040262; Wed, 1 Oct 2025 22:38:36 +0200 (CEST) Received: from mail-il1-f227.google.com (mail-il1-f227.google.com [209.85.166.227]) by mails.dpdk.org (Postfix) with ESMTP id 75EED40262 for ; Wed, 1 Oct 2025 22:38:35 +0200 (CEST) Received: by mail-il1-f227.google.com with SMTP id e9e14a558f8ab-42d888f6b3bso2816975ab.1 for ; Wed, 01 Oct 2025 13:38:35 -0700 (PDT) DKIM-Signature: v=1; a=rsa-sha256; c=relaxed/relaxed; d=iol.unh.edu; s=unh-iol; t=1759351114; x=1759955914; darn=dpdk.org; h=cc:to:from:subject:message-id:date:from:to:cc:subject:date :message-id:reply-to; bh=kB9AvPmzCp847QTeuvwLwIiz+OHd1MlGDYxCQXHhgF4=; b=BAApc2yZxe+4AgM3vFWOPDkWBsdp2qQlvk8K2lRQg4sRUoMTIk76+831L+I4DWpKVV nswH3c8sLGSj+QsNtLiau7TyfhB8CGuF/6ApJYcZ3CbzrMhcwiDOnEXnClTNaNhq8x6f ILCc+V+/1ViYdeS6sAmcNAGqUKyWu1CtboqNw= X-Google-DKIM-Signature: v=1; a=rsa-sha256; c=relaxed/relaxed; d=1e100.net; s=20230601; t=1759351114; x=1759955914; h=cc:to:from:subject:message-id:date:x-gm-message-state:from:to:cc :subject:date:message-id:reply-to; bh=kB9AvPmzCp847QTeuvwLwIiz+OHd1MlGDYxCQXHhgF4=; b=CMairyrk6pUB7KNYGB0llKigXPpR7yRFpmPZMvHNfjI1Gioh4HjaFumrxjkQitT8tg fToxC9K7iMymo0ti4P8g1KkIqnL+TbijqeBi9So08OIzpzVeq1L0KkKc+322anjeWjo5 +qyZRoub3xfaoEPSo9PMfx42zGAT7qRc2hBjUuvXdbb2DOwvM6ELYzwLt3elnoGhQfKl EIXvOsYo0bX2jc14WnNLkaLPiro3BQSLNEnBpsVcGx3LX1/pgItlvJYMm33m7lYP0C3k dmJHltjhs1gffU7H8cK62/LrlKPxjXkMMRPDNsT8XaYvGVZxxO53+qq+0B4mZ+JGS/Ux K8yg== X-Gm-Message-State: AOJu0YzgGdi2/zpbdo9BcPHImz1qoBFwy7TCuJHxEc8AFFaJOrG7I4HN ysBzDP73XVrVluo+LiITfGPiCvFY7mTMjCKZn12h41JWP03+eh5xtfeN5j3WAV6GLA/q5sz+n9D VbveYr4FGnLuORva1WMZFJykumRzESJ1N5fJ6nhdkWs+K8L8F9TvO4833XcX4 X-Gm-Gg: ASbGncsFHFTi9khJgvE0uVarffR1nD60KIxl6I6rrRWbhuEzbef08va95bnbD4W3xJ7 QX4iuxWsrRDLvv+ClDFMOd3OFR/Rlv5gd87O1LWkLKoeVwySxc9ev8mE1m/UIC5tzjLn2MdsYZU v03H5jTQ3vsiZhPd87hYC2KT+H4uncvi7GhnZLUBaw2Av272Sm82tl4Ep1K7E586b4cKrlhYHOu tvy3hBThn+oR5mFj4ZkQ2oHDlvIV+qBDYRBIEVwLULoxbgH3f84qerN+KFeU92l5ce2ksVMSBay SX6Iv88LupbVJ3qT62hq4DadjBmQ1q3AANa+KMdU0RBbYfdbRDZDBPg= X-Google-Smtp-Source: AGHT+IHY1w8qAV7nXnQeFFVDrltIVcmkVs4MXaSKv+8B64MCPSnWlxbjQWlm9FoYoAQOD4ayJNw6RKreSRKJ X-Received: by 2002:a05:6e02:216e:b0:42d:89b9:5d27 with SMTP id e9e14a558f8ab-42d89b95fcdmr29605245ab.20.1759351114583; Wed, 01 Oct 2025 13:38:34 -0700 (PDT) Received: from postal.iol.unh.edu (postal.iol.unh.edu. [2606:4100:3880:1234::84]) by smtp-relay.gmail.com with ESMTPS id 8926c6da1cb9f-57b5ed26af3sm32160173.32.2025.10.01.13.38.34 (version=TLS1_2 cipher=ECDHE-ECDSA-AES128-GCM-SHA256 bits=128/128); Wed, 01 Oct 2025 13:38:34 -0700 (PDT) X-Relaying-Domain: iol.unh.edu Date: Wed, 01 Oct 2025 13:38:34 -0700 (PDT) Message-ID: <68dd914a.050a0220.3c3297.2050SMTPIN_ADDED_MISSING@mx.google.com> Received: from [172.21.0.2] (unknown [172.18.0.240]) by postal.iol.unh.edu (Postfix) with ESMTP id 36370604D420; Wed, 1 Oct 2025 16:38:34 -0400 (EDT) Subject: |SUCCESS| [GIT MASTER] caa17cb4b057a31ee04067459fe543f7d7ae1079 From: dpdklab@iol.unh.edu To: Test Report Cc: dpdk-test-reports@iol.unh.edu, Akhil Goyal Content-Type: text/plain X-BeenThere: test-report@dpdk.org X-Mailman-Version: 2.1.29 Precedence: list List-Id: automatic DPDK test reports List-Unsubscribe: , List-Archive: List-Post: List-Help: List-Subscribe: , Errors-To: test-report-bounces@dpdk.org _Testing PASS_ Branch: dpdk-next-crypto caa17cb4b057a31ee04067459fe543f7d7ae1079 --> testing pass Upstream job id: Generic-VM-Unit-Test-DPDK#31533 Test environment and result as below: +-------------------------------+----------------+ | Environment | dpdk_unit_test | +===============================+================+ | CentOS Stream 9 | PASS | +-------------------------------+----------------+ | Windows Server 2022 | PASS | +-------------------------------+----------------+ | CentOS Stream 10 | PASS | +-------------------------------+----------------+ | Debian GNU/Linux 12 | PASS | +-------------------------------+----------------+ | Fedora Linux 40 | PASS | +-------------------------------+----------------+ | Fedora Linux 41 | PASS | +-------------------------------+----------------+ | Fedora Linux 42 | PASS | +-------------------------------+----------------+ | Ubuntu 20.04 | PASS | +-------------------------------+----------------+ | Red Hat Enterprise Linux 8.10 | PASS | +-------------------------------+----------------+ | Ubuntu 22.04 | PASS | +-------------------------------+----------------+ | Red Hat Enterprise Linux 9.5 | PASS | +-------------------------------+----------------+ | Ubuntu 24.04 | PASS | +-------------------------------+----------------+ CentOS Stream 9 Kernel: 5.15 Compiler: gcc gcc (GCC) 11.5.0 20240719 (Red Hat 11.5.0-11) Windows Server 2022 Kernel: 10.0.20348.2031 Compiler: clang 15.0.7, gcc 14.1.0 (MinGW), and MSVC VS 19.39.33521 CentOS Stream 10 Kernel: 5.15 Compiler: gcc gcc (GCC) 14.2.1 20250110 (Red Hat 14.2.1-8) Debian GNU/Linux 12 Kernel: 5.15 Compiler: gcc gcc (Debian 12.2.0-14+deb12u1) 12.2.0 Fedora Linux 40 Kernel: 5.15 Compiler: gcc gcc (GCC) 14.2.1 20240912 (Red Hat 14.2.1-3) Fedora Linux 41 Kernel: 5.15 Compiler: gcc gcc (GCC) 14.3.1 20250523 (Red Hat 14.3.1-1) Fedora Linux 42 Kernel: 5.15 Compiler: clang gcc (GCC) 15.2.1 20250808 (Red Hat 15.2.1-1) Ubuntu 20.04 Kernel: 5.15 Compiler: gcc gcc (Ubuntu 9.4.0-1ubuntu1~20.04.2) 9.4.0 Red Hat Enterprise Linux 8.10 Kernel: 5.15 Compiler: gcc gcc (GCC) 8.5.0 20210514 (Red Hat 8.5.0-22) Ubuntu 22.04 Kernel: 5.15 Compiler: gcc gcc (Ubuntu 11.4.0-1ubuntu1~22.04) 11.4.0 Red Hat Enterprise Linux 9.5 Kernel: 5.15 Compiler: gcc gcc (GCC) 11.5.0 20240719 (Red Hat 11.5.0-2) Ubuntu 24.04 Kernel: 5.15 Compiler: gcc gcc (Ubuntu 13.3.0-6ubuntu2~24.04) 13.3.0 To view detailed results, visit: https://lab.dpdk.org/results/dashboard/tarballs/35079/ UNH-IOL DPDK Community Lab To manage your email subscriptions, visit: https://lab.dpdk.org/results/dashboard/preferences/subscriptions/