From mboxrd@z Thu Jan 1 00:00:00 1970 Return-Path: Received: from mails.dpdk.org (mails.dpdk.org [217.70.189.124]) by inbox.dpdk.org (Postfix) with ESMTP id E322748887 for ; Wed, 1 Oct 2025 22:48:16 +0200 (CEST) Received: from mails.dpdk.org (localhost [127.0.0.1]) by mails.dpdk.org (Postfix) with ESMTP id B61C640262; Wed, 1 Oct 2025 22:48:16 +0200 (CEST) Received: from mail-yw1-f226.google.com (mail-yw1-f226.google.com [209.85.128.226]) by mails.dpdk.org (Postfix) with ESMTP id 1022440262 for ; Wed, 1 Oct 2025 22:48:16 +0200 (CEST) Received: by mail-yw1-f226.google.com with SMTP id 00721157ae682-71d603acc23so4121357b3.1 for ; Wed, 01 Oct 2025 13:48:15 -0700 (PDT) DKIM-Signature: v=1; a=rsa-sha256; c=relaxed/relaxed; d=iol.unh.edu; s=unh-iol; t=1759351695; x=1759956495; darn=dpdk.org; h=cc:to:from:subject:message-id:date:from:to:cc:subject:date :message-id:reply-to; bh=Z8Bsm8t9Vyybzl07lg7hldcucgJ9ZZLApM1U0fqv6ic=; b=Qu0Fs7S+vDmyEW3UzesvlUjLBdG2eBTKj/+N9kVVgi70qyjgy7LKKOcPFRb+2Ykv4n voEBidc+RKBQejGUGkK49SFsLXIxkEwc8mXT2aG46gdoD0GITXCnAZMNNWh8ayw962GE ePkr/CHgrGhyzWeKEkVz9oYiCUy6mRNotERsA= X-Google-DKIM-Signature: v=1; a=rsa-sha256; c=relaxed/relaxed; d=1e100.net; s=20230601; t=1759351695; x=1759956495; h=cc:to:from:subject:message-id:date:x-gm-message-state:from:to:cc :subject:date:message-id:reply-to; bh=Z8Bsm8t9Vyybzl07lg7hldcucgJ9ZZLApM1U0fqv6ic=; b=f+77Zg1+zBmVY7iJOmAp5qSnttxvCttj8+lQIui8FOWYXdu9cWdM6Gbg9c7bf6OgTn FCDCdcuAvjJ2NOi7su9BLWgyaWbjwlHQeG8Zv0U1SRnv1wbvgTLtFGRBrS1dyho2cyz2 wF1+4OzXxXTUintzjYqLq2adnjyzQT2m17YvsbMQ0IRguZDVjXKli6AyyMqLqaeyM9F0 CNN1PFQjusp+DEVT63aSZ90y4a0p0NrrqNwmPYyRzkYm+8/WZLVP8Y4FlMsjosU6fFW1 Rw3nzyrE+RTLfovzUGxk3sDXfMqWuSUQMWiVFteEgLbNfMg4HqtOQr/V5wzJwfwKD7ut OU6Q== X-Gm-Message-State: AOJu0YzEbgMgITTPPZL2p6snz0CRJMltVcLaQKbqGvSTFsUC+BEeHEL6 rGGYIHQqZo+Tq+idD+3Y/+sPxXgfMDtRkR/x32qfQbPJp4FSgAHBLaBAtX6HBpUG+EHiV7EQiEp DBnErYGz1z00HeSamOtkO9g+YXU8lalxHz2RXy9d0bu6n2nb4CKTL7pFAwhqF X-Gm-Gg: ASbGncu/N3WTwNlzMdFTOWJP0lwV25Dos1968dO2qJT/VFYBQYzgxeowf5L+TDR3flm 1Umc8PZz3zQ7V5wZbO9QMplkGY1F9XCxfF+J5NxFn6f3upw+EY+RJIJxOvcOLxvT9lWk531X5tA mmJm5gwC7ZVSV0xUpwa/ROF+hi/sF5uN40jsXCcH3ghMOUrdoJnG4Th9DGwDTSOVMxmVLp0z/as m+nS1vm1PlPzdxGHPf3p2hHpkbu5sLPiMSLmuBhj6GrTdvAimzUMn+I6a+g0nQ2/JKnjcDcn+I2 V49wd6levC7bpcErjYcK3Dnz5xUyWsAEt+l1509kBeDKG/ndcUxZ9dM= X-Google-Smtp-Source: AGHT+IEiXrZzgrDEfopWoUO2RKWpOrvbMtV0MIhpPa/inxnO2D+z7HlpiBxB8tdIUjJId7BDjU3M81NjYjZd X-Received: by 2002:a05:690c:6909:b0:76b:dd1:15f with SMTP id 00721157ae682-77f6f2e6dfbmr75235387b3.23.1759351695201; Wed, 01 Oct 2025 13:48:15 -0700 (PDT) Received: from postal.iol.unh.edu (postal.iol.unh.edu. [2606:4100:3880:1234::84]) by smtp-relay.gmail.com with ESMTPS id 00721157ae682-77f81e4206esm304087b3.37.2025.10.01.13.48.15 (version=TLS1_2 cipher=ECDHE-ECDSA-AES128-GCM-SHA256 bits=128/128); Wed, 01 Oct 2025 13:48:15 -0700 (PDT) X-Relaying-Domain: iol.unh.edu Date: Wed, 01 Oct 2025 13:48:15 -0700 (PDT) Message-ID: <68dd938f.050a0220.170ca9.1f50SMTPIN_ADDED_MISSING@mx.google.com> Received: from [172.21.0.2] (unknown [172.18.0.240]) by postal.iol.unh.edu (Postfix) with ESMTP id CFA1B604D420; Wed, 1 Oct 2025 16:48:14 -0400 (EDT) Subject: |SUCCESS| [GIT MASTER] caa17cb4b057a31ee04067459fe543f7d7ae1079 From: dpdklab@iol.unh.edu To: Test Report Cc: dpdk-test-reports@iol.unh.edu, Akhil Goyal Content-Type: text/plain X-BeenThere: test-report@dpdk.org X-Mailman-Version: 2.1.29 Precedence: list List-Id: automatic DPDK test reports List-Unsubscribe: , List-Archive: List-Post: List-Help: List-Subscribe: , Errors-To: test-report-bounces@dpdk.org _Testing PASS_ Branch: dpdk-next-crypto caa17cb4b057a31ee04067459fe543f7d7ae1079 --> testing pass Upstream job id: Windows-Compile-DPDK-Native#31364 Test environment and result as below: +---------------------+--------------------+-------------------------+-------------------+------------------+-------------------+----------------------+ | Environment | dpdk_meson_compile | dpdk_llvm_clang_compile | dpdk_msvc_compile | dpdk_compile_ovs | dpdk_compile_spdk | dpdk_mingw64_compile | +=====================+====================+=========================+===================+==================+===================+======================+ | Ubuntu 20.04 | PASS | SKIPPED | SKIPPED | SKIPPED | SKIPPED | SKIPPED | +---------------------+--------------------+-------------------------+-------------------+------------------+-------------------+----------------------+ | FreeBSD 14.2 | PASS | SKIPPED | SKIPPED | SKIPPED | SKIPPED | SKIPPED | +---------------------+--------------------+-------------------------+-------------------+------------------+-------------------+----------------------+ | Fedora Linux 42 | PASS | SKIPPED | SKIPPED | PASS | PASS | SKIPPED | +---------------------+--------------------+-------------------------+-------------------+------------------+-------------------+----------------------+ | Windows Server 2022 | SKIPPED | PASS | PASS | SKIPPED | SKIPPED | PASS | +---------------------+--------------------+-------------------------+-------------------+------------------+-------------------+----------------------+ Ubuntu 20.04 Kernel: 4.19 Compiler: gcc gcc (Ubuntu 9.4.0-1ubuntu1~20.04.2) 9.4.0 FreeBSD 14.2 Kernel: 14.2-RELEASE Compiler: clang 18.1.6 Fedora Linux 42 Kernel: 5.15 Compiler: gcc gcc (GCC) 15.2.1 20250808 (Red Hat 15.2.1-1) Windows Server 2022 Kernel: 10.0.20348.2031 Compiler: clang 15.0.7, gcc 14.1.0 (MinGW), and MSVC VS 19.39.33521 To view detailed results, visit: https://lab.dpdk.org/results/dashboard/tarballs/35079/ UNH-IOL DPDK Community Lab To manage your email subscriptions, visit: https://lab.dpdk.org/results/dashboard/preferences/subscriptions/