From: dpdklab@iol.unh.edu
To: Test Report <test-report@dpdk.org>
Cc: dpdk-test-reports@iol.unh.edu
Subject: |SUCCESS| pw157151-157155 [PATCH] [v3,5/5] usertools/mbuf: parse mbu
Date: Wed, 01 Oct 2025 15:06:48 -0700 (PDT) [thread overview]
Message-ID: <68dda5f8.050a0220.2b7a42.2f00SMTPIN_ADDED_MISSING@mx.google.com> (raw)
In-Reply-To: <20250930233828.3999565-6-thomas@monjalon.net>
Test-Label: iol-compile-amd64-testing
Test-Status: SUCCESS
http://dpdk.org/patch/157155
_Testing PASS_
Submitter: Thomas Monjalon <thomas@monjalon.net>
Date: Tuesday, September 30 2025 23:25:06
DPDK git baseline: Repo:dpdk
Branch: master
CommitID:f3878b615e69a12087a6c5d212723478cfc79c31
157151-157155 --> testing pass
Upstream job id: Generic-DPDK-Compile-Meson#430365
Test environment and result as below:
+-------------------------------+--------------------+-------------------------+-------------------+----------------------+-------------------+------------------+
| Environment | dpdk_meson_compile | dpdk_llvm_clang_compile | dpdk_msvc_compile | dpdk_mingw64_compile | dpdk_compile_spdk | dpdk_compile_ovs |
+===============================+====================+=========================+===================+======================+===================+==================+
| Ubuntu 20.04 | PASS | SKIPPED | SKIPPED | SKIPPED | SKIPPED | SKIPPED |
+-------------------------------+--------------------+-------------------------+-------------------+----------------------+-------------------+------------------+
| FreeBSD 14.2 | PASS | SKIPPED | SKIPPED | SKIPPED | SKIPPED | SKIPPED |
+-------------------------------+--------------------+-------------------------+-------------------+----------------------+-------------------+------------------+
| Red Hat Enterprise Linux 9.5 | PASS | SKIPPED | SKIPPED | SKIPPED | SKIPPED | SKIPPED |
+-------------------------------+--------------------+-------------------------+-------------------+----------------------+-------------------+------------------+
| Alpine Linux 3.22.0 | PASS | SKIPPED | SKIPPED | SKIPPED | SKIPPED | SKIPPED |
+-------------------------------+--------------------+-------------------------+-------------------+----------------------+-------------------+------------------+
| Ubuntu 22.04 | PASS | SKIPPED | SKIPPED | SKIPPED | PASS | SKIPPED |
+-------------------------------+--------------------+-------------------------+-------------------+----------------------+-------------------+------------------+
| CentOS Stream 9 | PASS | SKIPPED | SKIPPED | SKIPPED | PASS | SKIPPED |
+-------------------------------+--------------------+-------------------------+-------------------+----------------------+-------------------+------------------+
| Ubuntu 24.04 | PASS | SKIPPED | SKIPPED | SKIPPED | PASS | PASS |
+-------------------------------+--------------------+-------------------------+-------------------+----------------------+-------------------+------------------+
| Red Hat Enterprise Linux 8.10 | PASS | SKIPPED | SKIPPED | SKIPPED | SKIPPED | SKIPPED |
+-------------------------------+--------------------+-------------------------+-------------------+----------------------+-------------------+------------------+
| Fedora Linux 42 | PASS | SKIPPED | SKIPPED | SKIPPED | PASS | PASS |
+-------------------------------+--------------------+-------------------------+-------------------+----------------------+-------------------+------------------+
| Windows Server 2022 | SKIPPED | PASS | PASS | PASS | SKIPPED | SKIPPED |
+-------------------------------+--------------------+-------------------------+-------------------+----------------------+-------------------+------------------+
Ubuntu 20.04
Kernel: 4.19
Compiler: gcc gcc (Ubuntu 9.4.0-1ubuntu1~20.04.2) 9.4.0
FreeBSD 14.2
Kernel: 14.2-RELEASE
Compiler: clang 18.1.6
Red Hat Enterprise Linux 9.5
Kernel: 5.15
Compiler: gcc gcc (GCC) 11.5.0 20240719 (Red Hat 11.5.0-2)
Alpine Linux 3.22.0
Kernel: 5.15
Compiler: gcc gcc (Alpine 14.2.0) 14.2.0
Ubuntu 22.04
Kernel: 5.15
Compiler: gcc gcc (Ubuntu 11.4.0-1ubuntu1~22.04) 11.4.0
CentOS Stream 9
Kernel: 5.15
Compiler: gcc gcc (GCC) 11.5.0 20240719 (Red Hat 11.5.0-11)
Ubuntu 24.04
Kernel: 5.15
Compiler: gcc gcc (Ubuntu 13.3.0-6ubuntu2~24.04) 13.3.0
Red Hat Enterprise Linux 8.10
Kernel: 5.15
Compiler: gcc gcc (GCC) 8.5.0 20210514 (Red Hat 8.5.0-22)
Fedora Linux 42
Kernel: 5.15
Compiler: clang gcc (GCC) 15.2.1 20250808 (Red Hat 15.2.1-1)
Windows Server 2022
Kernel: 10.0.20348.2031
Compiler: clang 15.0.7, gcc 14.1.0 (MinGW), and MSVC VS 19.39.33521
To view detailed results, visit:
https://lab.dpdk.org/results/dashboard/patchsets/34187/
UNH-IOL DPDK Community Lab
To manage your email subscriptions, visit:
https://lab.dpdk.org/results/dashboard/preferences/subscriptions/
next prev parent reply other threads:[~2025-10-01 22:06 UTC|newest]
Thread overview: 27+ messages / expand[flat|nested] mbox.gz Atom feed top
[not found] <20250930233828.3999565-6-thomas@monjalon.net>
2025-09-30 23:05 ` |SUCCESS| pw157151-157155 [PATCH v3 5/5] usertools/mbuf: parse mbuf history dump qemudev
2025-09-30 23:10 ` qemudev
2025-09-30 23:39 ` |SUCCESS| pw157155 " checkpatch
2025-10-01 0:13 ` |SUCCESS| pw157151-157155 [PATCH] [v3,5/5] usertools/mbuf: parse mbu dpdklab
2025-10-01 0:17 ` |PENDING| " dpdklab
2025-10-01 0:18 ` dpdklab
2025-10-01 0:20 ` |SUCCESS| " dpdklab
2025-10-01 0:30 ` dpdklab
2025-10-01 0:31 ` dpdklab
2025-10-01 0:38 ` dpdklab
2025-10-01 0:53 ` dpdklab
2025-10-01 0:54 ` dpdklab
2025-10-01 1:04 ` dpdklab
2025-10-01 1:09 ` dpdklab
2025-10-01 1:13 ` dpdklab
2025-10-01 1:28 ` dpdklab
2025-10-01 1:28 ` |SUCCESS| pw157155 [PATCH v3 5/5] usertools/mbuf: parse mbuf history dump 0-day Robot
2025-10-01 1:28 ` 0-day Robot
2025-10-01 12:20 ` |SUCCESS| pw157151-157155 [PATCH] [v3,5/5] usertools/mbuf: parse mbu dpdklab
2025-10-01 12:49 ` dpdklab
2025-10-01 13:07 ` dpdklab
2025-10-01 14:39 ` dpdklab
2025-10-01 16:39 ` dpdklab
2025-10-01 18:22 ` dpdklab
2025-10-01 19:39 ` dpdklab
2025-10-01 22:06 ` dpdklab [this message]
2025-10-03 2:06 ` dpdklab
Reply instructions:
You may reply publicly to this message via plain-text email
using any one of the following methods:
* Save the following mbox file, import it into your mail client,
and reply-to-all from there: mbox
Avoid top-posting and favor interleaved quoting:
https://en.wikipedia.org/wiki/Posting_style#Interleaved_style
* Reply using the --to, --cc, and --in-reply-to
switches of git-send-email(1):
git send-email \
--in-reply-to=68dda5f8.050a0220.2b7a42.2f00SMTPIN_ADDED_MISSING@mx.google.com \
--to=dpdklab@iol.unh.edu \
--cc=dpdk-test-reports@iol.unh.edu \
--cc=test-report@dpdk.org \
/path/to/YOUR_REPLY
https://kernel.org/pub/software/scm/git/docs/git-send-email.html
* If your mail client supports setting the In-Reply-To header
via mailto: links, try the mailto: link
Be sure your reply has a Subject: header at the top and a blank line
before the message body.
This is a public inbox, see mirroring instructions
for how to clone and mirror all data and code used for this inbox;
as well as URLs for NNTP newsgroup(s).