From mboxrd@z Thu Jan 1 00:00:00 1970 Return-Path: Received: from mails.dpdk.org (mails.dpdk.org [217.70.189.124]) by inbox.dpdk.org (Postfix) with ESMTP id 75A3D48887 for ; Thu, 2 Oct 2025 00:06:50 +0200 (CEST) Received: from mails.dpdk.org (localhost [127.0.0.1]) by mails.dpdk.org (Postfix) with ESMTP id 545EC40262; Thu, 2 Oct 2025 00:06:50 +0200 (CEST) Received: from mail-io1-f97.google.com (mail-io1-f97.google.com [209.85.166.97]) by mails.dpdk.org (Postfix) with ESMTP id 791AE40262 for ; Thu, 2 Oct 2025 00:06:49 +0200 (CEST) Received: by mail-io1-f97.google.com with SMTP id ca18e2360f4ac-92cebee95a8so16060539f.0 for ; Wed, 01 Oct 2025 15:06:49 -0700 (PDT) DKIM-Signature: v=1; a=rsa-sha256; c=relaxed/relaxed; d=iol.unh.edu; s=unh-iol; t=1759356409; x=1759961209; darn=dpdk.org; h=references:in-reply-to:cc:to:from:subject:message-id:date:from:to :cc:subject:date:message-id:reply-to; bh=ojJLTxmfGfNyjEIQ5YagbbTv4s2FJwCdhYWgy2RBIE0=; b=KoZh+bUQ0fyx4ydQpyUSNRAVvD7LKHe5+g4ykWE3/zM3w3YpA78uaHLoazoJg05VF0 Nzs/8SiPaPF4Ax4wjHoxgYi6bIvhjW7ZTOsDuuB9f5oEWl76+mpdq5wKkPI0kuyZlEzg P/PGpn1Dzo72IiMmlKlxJ3Rz5H8/QxAKsMC1Q= X-Google-DKIM-Signature: v=1; a=rsa-sha256; c=relaxed/relaxed; d=1e100.net; s=20230601; t=1759356409; x=1759961209; h=references:in-reply-to:cc:to:from:subject:message-id:date :x-gm-message-state:from:to:cc:subject:date:message-id:reply-to; bh=ojJLTxmfGfNyjEIQ5YagbbTv4s2FJwCdhYWgy2RBIE0=; b=vpr+sxuwUZADUVtiSU9rYFFbABxJRkYTYvKgZTdr2asMP8cjx/jockYF6a97Bfrv3S CBz8lryUsRWVNHt0dYy/UavvXCW2RtBe5NwfLXVG1Kf2DzM0oi9Ue9ozaXj1YkV/Gqwf U/bKhlCDSnduUnd3L+CPFD6pbk/O5r+TG1IaQcXTA5VW0Atu0u+BA6c4v5XLsFAUdjlF TrK4yS4CN9hPLraPv+HDpghpwb8QHvjE+o3ZZY2aEgvrodfaPzuJ7g2Kc8+leh8PBRAh /PMceENmLkUDjZ54gounvli7c9yBmctW2RuzLKpjVDyxLQ20K1j4tkUGjGQQWC06CuDU Bw3g== X-Gm-Message-State: AOJu0Yylqboob5l5wyes62pkeLO38osqWfDNH6et+z12b9SOK5/BxYtg T1WdkhlQaaGHENrS+6KywwRLK6q11Lztx5w7PmSWAi89phbYrbKjZs4H2uzhabf+bkpXF0Wf7g3 fuFmLwzqx2qshPTzBSzt/DE4aiCniCtYoRfmSFCHwAr508NtzQ5FGb1Zg4sr8 X-Gm-Gg: ASbGnct8bA0QRoygh1fKxEieHYbNpJyrM+q1xgC6JgWAXQgEuz+qSW40QlMIESPtYwk 0MkaROT8mjpZZ7riH6mOxz6NiBdk/m8VQb6lhfXsi4qkylYHU2yi42OwTNaLDqcadDZMRlkdo1U Qngz84YkZ4SnVB2UQCMiKqPrYHoj46dbsFRwyk6q5ZPTaH/ua+4NDoepUnzUP3UAXHHYECrqJ2v m93/I5/LYjVrmcjQE4tRi5A8N+Cn/qPCf22p+O2DahInyAFGMwA6c/lbrIlYDkLDj1XBo1RMGi1 RmAYRZnUasaxmsoKPfk0FSsJ0xxna/bduBwvxDJn0goJns5xvxYCm0w= X-Google-Smtp-Source: AGHT+IGZQA0CMfsd+iYu2xdhwarRRUzV6TKSd3Vyg6hufNoyS2XavtezRsEiG5TM8bj/BhFQrcDH/XPAlzU1 X-Received: by 2002:a05:6602:1412:b0:935:4720:6452 with SMTP id ca18e2360f4ac-937a9752e80mr653167639f.8.1759356408698; Wed, 01 Oct 2025 15:06:48 -0700 (PDT) Received: from postal.iol.unh.edu (postal.iol.unh.edu. [2606:4100:3880:1234::84]) by smtp-relay.gmail.com with ESMTPS id 8926c6da1cb9f-57b5eafe2bfsm45183173.14.2025.10.01.15.06.48 (version=TLS1_2 cipher=ECDHE-ECDSA-AES128-GCM-SHA256 bits=128/128); Wed, 01 Oct 2025 15:06:48 -0700 (PDT) X-Relaying-Domain: iol.unh.edu Date: Wed, 01 Oct 2025 15:06:48 -0700 (PDT) Message-ID: <68dda5f8.050a0220.2b7a42.2f00SMTPIN_ADDED_MISSING@mx.google.com> Received: from [172.21.0.2] (unknown [172.18.0.240]) by postal.iol.unh.edu (Postfix) with ESMTP id 4EBC76050A61; Wed, 1 Oct 2025 18:06:48 -0400 (EDT) Subject: |SUCCESS| pw157151-157155 [PATCH] [v3,5/5] usertools/mbuf: parse mbu From: dpdklab@iol.unh.edu To: Test Report Cc: dpdk-test-reports@iol.unh.edu In-Reply-To: <20250930233828.3999565-6-thomas@monjalon.net> References: <20250930233828.3999565-6-thomas@monjalon.net> Content-Type: text/plain X-BeenThere: test-report@dpdk.org X-Mailman-Version: 2.1.29 Precedence: list List-Id: automatic DPDK test reports List-Unsubscribe: , List-Archive: List-Post: List-Help: List-Subscribe: , Errors-To: test-report-bounces@dpdk.org Test-Label: iol-compile-amd64-testing Test-Status: SUCCESS http://dpdk.org/patch/157155 _Testing PASS_ Submitter: Thomas Monjalon Date: Tuesday, September 30 2025 23:25:06 DPDK git baseline: Repo:dpdk Branch: master CommitID:f3878b615e69a12087a6c5d212723478cfc79c31 157151-157155 --> testing pass Upstream job id: Generic-DPDK-Compile-Meson#430365 Test environment and result as below: +-------------------------------+--------------------+-------------------------+-------------------+----------------------+-------------------+------------------+ | Environment | dpdk_meson_compile | dpdk_llvm_clang_compile | dpdk_msvc_compile | dpdk_mingw64_compile | dpdk_compile_spdk | dpdk_compile_ovs | +===============================+====================+=========================+===================+======================+===================+==================+ | Ubuntu 20.04 | PASS | SKIPPED | SKIPPED | SKIPPED | SKIPPED | SKIPPED | +-------------------------------+--------------------+-------------------------+-------------------+----------------------+-------------------+------------------+ | FreeBSD 14.2 | PASS | SKIPPED | SKIPPED | SKIPPED | SKIPPED | SKIPPED | +-------------------------------+--------------------+-------------------------+-------------------+----------------------+-------------------+------------------+ | Red Hat Enterprise Linux 9.5 | PASS | SKIPPED | SKIPPED | SKIPPED | SKIPPED | SKIPPED | +-------------------------------+--------------------+-------------------------+-------------------+----------------------+-------------------+------------------+ | Alpine Linux 3.22.0 | PASS | SKIPPED | SKIPPED | SKIPPED | SKIPPED | SKIPPED | +-------------------------------+--------------------+-------------------------+-------------------+----------------------+-------------------+------------------+ | Ubuntu 22.04 | PASS | SKIPPED | SKIPPED | SKIPPED | PASS | SKIPPED | +-------------------------------+--------------------+-------------------------+-------------------+----------------------+-------------------+------------------+ | CentOS Stream 9 | PASS | SKIPPED | SKIPPED | SKIPPED | PASS | SKIPPED | +-------------------------------+--------------------+-------------------------+-------------------+----------------------+-------------------+------------------+ | Ubuntu 24.04 | PASS | SKIPPED | SKIPPED | SKIPPED | PASS | PASS | +-------------------------------+--------------------+-------------------------+-------------------+----------------------+-------------------+------------------+ | Red Hat Enterprise Linux 8.10 | PASS | SKIPPED | SKIPPED | SKIPPED | SKIPPED | SKIPPED | +-------------------------------+--------------------+-------------------------+-------------------+----------------------+-------------------+------------------+ | Fedora Linux 42 | PASS | SKIPPED | SKIPPED | SKIPPED | PASS | PASS | +-------------------------------+--------------------+-------------------------+-------------------+----------------------+-------------------+------------------+ | Windows Server 2022 | SKIPPED | PASS | PASS | PASS | SKIPPED | SKIPPED | +-------------------------------+--------------------+-------------------------+-------------------+----------------------+-------------------+------------------+ Ubuntu 20.04 Kernel: 4.19 Compiler: gcc gcc (Ubuntu 9.4.0-1ubuntu1~20.04.2) 9.4.0 FreeBSD 14.2 Kernel: 14.2-RELEASE Compiler: clang 18.1.6 Red Hat Enterprise Linux 9.5 Kernel: 5.15 Compiler: gcc gcc (GCC) 11.5.0 20240719 (Red Hat 11.5.0-2) Alpine Linux 3.22.0 Kernel: 5.15 Compiler: gcc gcc (Alpine 14.2.0) 14.2.0 Ubuntu 22.04 Kernel: 5.15 Compiler: gcc gcc (Ubuntu 11.4.0-1ubuntu1~22.04) 11.4.0 CentOS Stream 9 Kernel: 5.15 Compiler: gcc gcc (GCC) 11.5.0 20240719 (Red Hat 11.5.0-11) Ubuntu 24.04 Kernel: 5.15 Compiler: gcc gcc (Ubuntu 13.3.0-6ubuntu2~24.04) 13.3.0 Red Hat Enterprise Linux 8.10 Kernel: 5.15 Compiler: gcc gcc (GCC) 8.5.0 20210514 (Red Hat 8.5.0-22) Fedora Linux 42 Kernel: 5.15 Compiler: clang gcc (GCC) 15.2.1 20250808 (Red Hat 15.2.1-1) Windows Server 2022 Kernel: 10.0.20348.2031 Compiler: clang 15.0.7, gcc 14.1.0 (MinGW), and MSVC VS 19.39.33521 To view detailed results, visit: https://lab.dpdk.org/results/dashboard/patchsets/34187/ UNH-IOL DPDK Community Lab To manage your email subscriptions, visit: https://lab.dpdk.org/results/dashboard/preferences/subscriptions/