From mboxrd@z Thu Jan 1 00:00:00 1970 Return-Path: Received: from mails.dpdk.org (mails.dpdk.org [217.70.189.124]) by inbox.dpdk.org (Postfix) with ESMTP id 547A848888 for ; Thu, 2 Oct 2025 02:12:35 +0200 (CEST) Received: from mails.dpdk.org (localhost [127.0.0.1]) by mails.dpdk.org (Postfix) with ESMTP id 4AE764027F; Thu, 2 Oct 2025 02:12:35 +0200 (CEST) Received: from mail-io1-f98.google.com (mail-io1-f98.google.com [209.85.166.98]) by mails.dpdk.org (Postfix) with ESMTP id CB6854027F for ; Thu, 2 Oct 2025 02:12:33 +0200 (CEST) Received: by mail-io1-f98.google.com with SMTP id ca18e2360f4ac-930cfdfabb3so72470239f.1 for ; Wed, 01 Oct 2025 17:12:33 -0700 (PDT) DKIM-Signature: v=1; a=rsa-sha256; c=relaxed/relaxed; d=iol.unh.edu; s=unh-iol; t=1759363953; x=1759968753; darn=dpdk.org; h=references:in-reply-to:cc:to:from:subject:message-id:date:from:to :cc:subject:date:message-id:reply-to; bh=UYSu1u7HJ6TkmkT1tbCQqZi6bDUFLrCiCJzP/L+Lrsg=; b=UEktP3nRgAVj+Jk/dsZZDdRft6B1wgsjA3zIT9bLvvKv/u5BC29vQaZnEsNmKT9gYp btkHTNjl4XKUf1n1n+WfNcGbmFPp4fgCLIr0JdNkVf88bidRAQPE5IZSkvyZSYnuKpPN pGoqellMY55jSuGGzZw4pvmkmMfnxmASi09q0= X-Google-DKIM-Signature: v=1; a=rsa-sha256; c=relaxed/relaxed; d=1e100.net; s=20230601; t=1759363953; x=1759968753; h=references:in-reply-to:cc:to:from:subject:message-id:date :x-gm-message-state:from:to:cc:subject:date:message-id:reply-to; bh=UYSu1u7HJ6TkmkT1tbCQqZi6bDUFLrCiCJzP/L+Lrsg=; b=cKgwSP2N2rZn6DDHZ7XpBEuW9X2tEnn2Em2XKj9qFHnp9k0SpzG+7DK8JtRSmWowuo XjiChEtttzOwFE/PZeYnv3V3ItET5+GExeaia+2vFYR9H5ZJWuG8hSRTOapvYybtumrB VmlqdIlJTLb5wI1reBNAc4nzxbZP29AG13qkKqNkmNr0eVObl4lWmukBJiNiNKx12aMW 4CeEapc/Kqig2uA36kOgyWuFcyO7nLbzifWRIffGKFzPlws0NtOxiQ0W4ftzGK+VQ0nh E/pP6FPr9maUG2ExU7ugA8lR9Yj6Iqklb5zAki0E+eDRgMCA0aVXS0wYBOqKHxF8nfLv X4Nw== X-Gm-Message-State: AOJu0YwCV7C1Sn+bFrUoKbYBkf8cziR1b0sEcbTQjPCAMTQXqvc7UDwK vH/bNqIfsCTFYl+lyVB9e8AK+sxrq1w0IclPaXPC9MOqBQ2dEDURUam9ZlgOhZsmxqaiqGTXUYa KMK+xFmiwAIGNGUt1/7JKl43sP+m8eg5HFkF9+1ar/GXgq2DU4FPmTk8OftaH X-Gm-Gg: ASbGnctGf494yUYw26aYTLpyaLE3gNc/Ptqj4xWePBIA8yFiAHxYJdX8vucV9n11QWc E5zDpqcJnVnl386SVzuSQVQs7Ujl/hvUw8jb32XffP9EP9W/xk/+NaQKtZn8O731lPfKzYL6vuW uHNxpiy+klW3x17yRJWdgU4tynIYGRauHY40a4QaiCfiEFQUkrJOUi7I84XQDkz/DU0L+qz7kwj nA60gPtlbJy55JIUpNW/GFU/s7QvkFLRAsUYCLqVjoKRqYxINW8ivR2agpweM8I3cXDQxvDP9p1 0tNjP7u0bF3BQCLUNCLK3B9ISZMPF6bmewLvzxtiJcPWbRYxblEZlJM= X-Google-Smtp-Source: AGHT+IGJt+fHsF8Nj/Tx6xytjKaif6QVkT4csbV7hMCkSvTveTaryrlWnksVZNCPb3iKg7V6bQZgssdYZqBG X-Received: by 2002:a05:6e02:4815:b0:424:36a:7b00 with SMTP id e9e14a558f8ab-42d8b234c41mr13902395ab.13.1759363953069; Wed, 01 Oct 2025 17:12:33 -0700 (PDT) Received: from postal.iol.unh.edu (postal.iol.unh.edu. [2606:4100:3880:1234::84]) by smtp-relay.gmail.com with ESMTPS id 8926c6da1cb9f-57b5ed26bf4sm57053173.28.2025.10.01.17.12.32 (version=TLS1_2 cipher=ECDHE-ECDSA-AES128-GCM-SHA256 bits=128/128); Wed, 01 Oct 2025 17:12:33 -0700 (PDT) X-Relaying-Domain: iol.unh.edu Date: Wed, 01 Oct 2025 17:12:33 -0700 (PDT) Message-ID: <68ddc371.050a0220.332ab9.3c7fSMTPIN_ADDED_MISSING@mx.google.com> Received: from [172.21.0.2] (unknown [172.18.0.240]) by postal.iol.unh.edu (Postfix) with ESMTP id A3A096051830; Wed, 1 Oct 2025 20:12:32 -0400 (EDT) Subject: |SUCCESS| pw157202-157204 [PATCH] [v4,3/3] dts: add performance test From: dpdklab@iol.unh.edu To: Test Report Cc: dpdk-test-reports@iol.unh.edu In-Reply-To: <20251001231659.2297751-4-probb@iol.unh.edu> References: <20251001231659.2297751-4-probb@iol.unh.edu> Content-Type: text/plain X-BeenThere: test-report@dpdk.org X-Mailman-Version: 2.1.29 Precedence: list List-Id: automatic DPDK test reports List-Unsubscribe: , List-Archive: List-Post: List-Help: List-Subscribe: , Errors-To: test-report-bounces@dpdk.org Test-Label: iol-compile-amd64-testing Test-Status: SUCCESS http://dpdk.org/patch/157204 _Testing PASS_ Submitter: Patrick Robb Date: Wednesday, October 01 2025 23:16:59 DPDK git baseline: Repo:dpdk-next-dts Branch: master CommitID:b71d7bdf2b663f9fedc1d344b81a8cf65518026c 157202-157204 --> testing pass Upstream job id: Windows-Compile-DPDK-Native#31366 Test environment and result as below: +---------------------+--------------------+-------------------------+-------------------+----------------------+ | Environment | dpdk_meson_compile | dpdk_llvm_clang_compile | dpdk_msvc_compile | dpdk_mingw64_compile | +=====================+====================+=========================+===================+======================+ | Ubuntu 20.04 | PASS | SKIPPED | SKIPPED | SKIPPED | +---------------------+--------------------+-------------------------+-------------------+----------------------+ | FreeBSD 14.2 | PASS | SKIPPED | SKIPPED | SKIPPED | +---------------------+--------------------+-------------------------+-------------------+----------------------+ | Windows Server 2022 | SKIPPED | PASS | PASS | PASS | +---------------------+--------------------+-------------------------+-------------------+----------------------+ Ubuntu 20.04 Kernel: 4.19 Compiler: gcc gcc (Ubuntu 9.4.0-1ubuntu1~20.04.2) 9.4.0 FreeBSD 14.2 Kernel: 14.2-RELEASE Compiler: clang 18.1.6 Windows Server 2022 Kernel: 10.0.20348.2031 Compiler: clang 15.0.7, gcc 14.1.0 (MinGW), and MSVC VS 19.39.33521 To view detailed results, visit: https://lab.dpdk.org/results/dashboard/patchsets/34197/ UNH-IOL DPDK Community Lab To manage your email subscriptions, visit: https://lab.dpdk.org/results/dashboard/preferences/subscriptions/