From mboxrd@z Thu Jan 1 00:00:00 1970 Return-Path: Received: from mails.dpdk.org (mails.dpdk.org [217.70.189.124]) by inbox.dpdk.org (Postfix) with ESMTP id 5B23348888 for ; Thu, 2 Oct 2025 02:43:13 +0200 (CEST) Received: from mails.dpdk.org (localhost [127.0.0.1]) by mails.dpdk.org (Postfix) with ESMTP id 5192D4027F; Thu, 2 Oct 2025 02:43:13 +0200 (CEST) Received: from mail-il1-f228.google.com (mail-il1-f228.google.com [209.85.166.228]) by mails.dpdk.org (Postfix) with ESMTP id 9F77A4027F for ; Thu, 2 Oct 2025 02:43:11 +0200 (CEST) Received: by mail-il1-f228.google.com with SMTP id e9e14a558f8ab-42d8ad71a51so6026725ab.1 for ; Wed, 01 Oct 2025 17:43:11 -0700 (PDT) DKIM-Signature: v=1; a=rsa-sha256; c=relaxed/relaxed; d=iol.unh.edu; s=unh-iol; t=1759365791; x=1759970591; darn=dpdk.org; h=cc:to:from:subject:message-id:date:from:to:cc:subject:date :message-id:reply-to; bh=BeaVgoXkEygHQPwORaCtM97bxYHb0sGENldZNrKdaWk=; b=G+GhNFZMCGZEJ5cqazxK7rROkpSc4dvPcan8OHbgsqr2mwPcxJMndNUUCkwS55+3hY FoMNqkzqU9UZ0/mlOijlc3T1PtKuYoMIalYm22IhYi+aC/MZs68/5lvU32q7yixhsmjr 6YOm92AryZJ12nw9QGjaRZ3BvJyyLwWbItEfI= X-Google-DKIM-Signature: v=1; a=rsa-sha256; c=relaxed/relaxed; d=1e100.net; s=20230601; t=1759365791; x=1759970591; h=cc:to:from:subject:message-id:date:x-gm-message-state:from:to:cc :subject:date:message-id:reply-to; bh=BeaVgoXkEygHQPwORaCtM97bxYHb0sGENldZNrKdaWk=; b=uaGXzVFLnLVh0hDeMqyS5l5uy/mXWdIqcevQbx00b0YT6JbkWSLRoSL0A86qqsIPDJ d5TZT2HfaITjIkrWPGUhCQ6CbkROLiLdAf5ZLm3N4cedsggNSxn7MOmYGdMPSQK6oFMY BqqZOjhYSQniO9R7HZehmy3m5KwncX07GJ0e4aOJ9PMfudgJSwTw769hgKAtXXEvQrEH 5O8FaYjBeaLbtVRlamZQay50lCORNfaGOIysb8zdMu1ONI/GBY4IUvJiI3I12DpQur70 JuPWbhNXklUshldjCmMunlyA1yOFLbkUz7l3J+qOs0JHUL+zooDCgr26EAxfBTCB4/0B g5+w== X-Gm-Message-State: AOJu0YxuC8YKQjLW4HZORfC/TVgl5oRnQ+6nWb+we8m6scPt3cSJA0Cd OS2Lj8/wRbGtNw5mCZ0L+me2XzZXxrtDQ1gWlZNCtT8ZVlYD6hW5HzqQRqj5YKEZOD3cP6P08Q0 t0tho4uJ9UvL4BeHrLcfkPrgETvA4aOlWcfqN+uKWJhY9m35vwHCRkwazW4l0 X-Gm-Gg: ASbGncuu/XMw56cSzc4/e84hcs1dj7w05z/+qI0JiF2BSlCnpXDgYlO/K08y0Rm4G2+ mNe+riXUGm2dGeX0SCxRS//osULKP5FNc1ngM1l+tD/kkUq8fWd2FXVwXRMOCKWqdJnwNC70gfp 6iOSkdOPS/8aJhkGy+w8UuwX6IKNtVu0z9K62L6WmWVSnvHBpV8Yik+6JJ5rBgq5kiOmNuunaMt qAq/ZDxzfofFDJsMxYvNK1+N6X2NO5yGd0+11KxKu6XrrFN2mQ/7iLIT9eyQYTE+ImggwrlRs3Q pvMw7vVuaaFtbONR2MsBrYerJuSwubs9XOv3ufSYByhWpAzF9SPKCX8= X-Google-Smtp-Source: AGHT+IGlyKEJd59LA7VC8yQTJyMoKMihohbJDC+xDsEE/OBDGX7U5wXzoDL09Wgx8Gn5E73Cg7qVkD3/WYC9 X-Received: by 2002:a05:6e02:180b:b0:427:d82b:1f36 with SMTP id e9e14a558f8ab-42d81661fcemr80680395ab.32.1759365790979; Wed, 01 Oct 2025 17:43:10 -0700 (PDT) Received: from postal.iol.unh.edu (postal.iol.unh.edu. [2606:4100:3880:1234::84]) by smtp-relay.gmail.com with ESMTPS id 8926c6da1cb9f-57b5ed26c97sm62108173.31.2025.10.01.17.43.10 (version=TLS1_2 cipher=ECDHE-ECDSA-AES128-GCM-SHA256 bits=128/128); Wed, 01 Oct 2025 17:43:10 -0700 (PDT) X-Relaying-Domain: iol.unh.edu Date: Wed, 01 Oct 2025 17:43:10 -0700 (PDT) Message-ID: <68ddca9e.050a0220.d13ff.3fa8SMTPIN_ADDED_MISSING@mx.google.com> Received: from [172.21.0.2] (unknown [172.18.0.240]) by postal.iol.unh.edu (Postfix) with ESMTP id 523EA6051830; Wed, 1 Oct 2025 20:43:10 -0400 (EDT) Subject: |SUCCESS| [GIT MASTER] 2ffda8c2e357662354ee6ddcca769258c33642a9 From: dpdklab@iol.unh.edu To: Test Report Cc: dpdk-test-reports@iol.unh.edu Content-Type: text/plain X-BeenThere: test-report@dpdk.org X-Mailman-Version: 2.1.29 Precedence: list List-Id: automatic DPDK test reports List-Unsubscribe: , List-Archive: List-Post: List-Help: List-Subscribe: , Errors-To: test-report-bounces@dpdk.org _Testing PASS_ Branch: dpdk 2ffda8c2e357662354ee6ddcca769258c33642a9 --> testing pass Upstream job id: Windows-Compile-DPDK-Native#31367 Test environment and result as below: +---------------------+--------------------+-------------------+-------------------------+ | Environment | dpdk_meson_compile | dpdk_msvc_compile | dpdk_llvm_clang_compile | +=====================+====================+===================+=========================+ | Ubuntu 20.04 | PASS | SKIPPED | SKIPPED | +---------------------+--------------------+-------------------+-------------------------+ | FreeBSD 14.2 | PASS | SKIPPED | SKIPPED | +---------------------+--------------------+-------------------+-------------------------+ | Windows Server 2022 | SKIPPED | PASS | PASS | +---------------------+--------------------+-------------------+-------------------------+ Ubuntu 20.04 Kernel: 4.19 Compiler: gcc gcc (Ubuntu 9.4.0-1ubuntu1~20.04.2) 9.4.0 FreeBSD 14.2 Kernel: 14.2-RELEASE Compiler: clang 18.1.6 Windows Server 2022 Kernel: 10.0.20348.2031 Compiler: clang 15.0.7, gcc 14.1.0 (MinGW), and MSVC VS 19.39.33521 To view detailed results, visit: https://lab.dpdk.org/results/dashboard/tarballs/35081/ UNH-IOL DPDK Community Lab To manage your email subscriptions, visit: https://lab.dpdk.org/results/dashboard/preferences/subscriptions/