From mboxrd@z Thu Jan 1 00:00:00 1970 Return-Path: Received: from mails.dpdk.org (mails.dpdk.org [217.70.189.124]) by inbox.dpdk.org (Postfix) with ESMTP id A2E2E48888 for ; Thu, 2 Oct 2025 02:53:35 +0200 (CEST) Received: from mails.dpdk.org (localhost [127.0.0.1]) by mails.dpdk.org (Postfix) with ESMTP id 72CF74027F; Thu, 2 Oct 2025 02:53:35 +0200 (CEST) Received: from mail-qv1-f98.google.com (mail-qv1-f98.google.com [209.85.219.98]) by mails.dpdk.org (Postfix) with ESMTP id 5AE704027F for ; Thu, 2 Oct 2025 02:53:34 +0200 (CEST) Received: by mail-qv1-f98.google.com with SMTP id 6a1803df08f44-78f58f4230cso5112686d6.1 for ; Wed, 01 Oct 2025 17:53:34 -0700 (PDT) DKIM-Signature: v=1; a=rsa-sha256; c=relaxed/relaxed; d=iol.unh.edu; s=unh-iol; t=1759366413; x=1759971213; darn=dpdk.org; h=cc:to:from:subject:message-id:date:from:to:cc:subject:date :message-id:reply-to; bh=QugZlez7e8hlBs1wIhi6OUZoua2cLfEWp6kS4hxDYj4=; b=CxKILA0G2ZjXpGLkLYwDFJhO1+DJY8QsGdeBM5eqV+GiA4CGwsOPpQJfRFC4rw+ADG M8jSNvkbAkHytfN0PterdBjWMxK8ZaWbHN99+BT4hACTrBPdi89OzdcSzYb+t6+X1SKo SaJsDTp4dCvjJT4Ny02dPP42UHzdqghAI59x8= X-Google-DKIM-Signature: v=1; a=rsa-sha256; c=relaxed/relaxed; d=1e100.net; s=20230601; t=1759366413; x=1759971213; h=cc:to:from:subject:message-id:date:x-gm-message-state:from:to:cc :subject:date:message-id:reply-to; bh=QugZlez7e8hlBs1wIhi6OUZoua2cLfEWp6kS4hxDYj4=; b=G9wxXaPOjVp8XNkq0JTmtdGnsW45QozLXT3qKehQ0G4GNktpVZTio/XUUjsTipRYB2 S/bmZlDTq/0ViNgPmUh9VrMrdYDABmJd3SIJHYQA1uT7OjcsRRo9Cy/1C5xcs9nMBOLT VqXWZRV9TSa1zE1LkhQTgaWi2IW+qfUNcvnyDIjOn8pPBbxcCtuyMDhbIwtCAXCImmsH C1IMfn5iCFuw5XPACc91RhRmVO0DpNnzCncnJ4xtd0l+TgvXYf6huIapOEfyePihRjFd 63VVOb72PQhru+rAUMxhUnLZpC9nl+n2xPfvsfqMXv4akN8IlzYR0GKxt3qFyog+p3D0 gp7g== X-Gm-Message-State: AOJu0YwXWiUC4grzWTj1ToCCllRWwytIARPqFRdH3nyFVvuwG5rgyOAT kbMNTjDTZjWOz+csqPMNE9tpVAtoa+qzFBVZeeEe/mHJzE1W89Tcv7unpcXQodaSPnx1742McJW s828yZrHLW2bFJvRyj2nfZsgUfe5ssybWh6ZT3xJZcR21 X-Gm-Gg: ASbGncsE5jS4UwAeVMkuDlC767136amwvoXUPFDXjBuqBkm5GNNd+PE13Jil3fi7g5o dCgd3+47LS1cI11+HpPy7bPC5Grfptm9/lfZQybtDR2bQUqIer/jk/3WKEhXRoLYBGIa1BNmRhp qWIJuwiAXXRg6Uc3MxLMCzrTkF04Fi7QLP51d3huGlnEYJlT3p6cwe5DDsZIypH4AbZdu1zSUSF A6HNS6fmj3Ep9fOG7tlpli5dknDgPWDZZHbS7UGcVSqagFpcEB3u0ETXAL0pfsHDojwXgN6HEK5 UOGW6TYNLfwIj/RIm098KVhp5asxRrcdhvqfOdORagZvHbmuSY7GztFUJcMrQNWMaV2b8FoS0YN zeA== X-Google-Smtp-Source: AGHT+IGbq45EMagjX1iE0NlhdF4xeBS7IGETCfovztioKNpQwAlcGu6h00YzKet7ceJZSzUofJW2D8qQxINB X-Received: by 2002:a05:6214:29c5:b0:780:555c:7690 with SMTP id 6a1803df08f44-873a9a79b45mr73299016d6.66.1759366413601; Wed, 01 Oct 2025 17:53:33 -0700 (PDT) Received: from postal.iol.unh.edu (postal.iol.unh.edu. [132.177.123.84]) by smtp-relay.gmail.com with ESMTPS id 6a1803df08f44-878bac6c1d3sm781436d6.3.2025.10.01.17.53.33 (version=TLS1_2 cipher=ECDHE-ECDSA-AES128-GCM-SHA256 bits=128/128); Wed, 01 Oct 2025 17:53:33 -0700 (PDT) X-Relaying-Domain: iol.unh.edu Date: Wed, 01 Oct 2025 17:53:33 -0700 (PDT) Message-ID: <68ddcd0d.050a0220.2bad64.52f9SMTPIN_ADDED_MISSING@mx.google.com> Received: from [172.21.0.3] (unknown [172.18.0.240]) by postal.iol.unh.edu (Postfix) with ESMTP id 521036051830; Wed, 1 Oct 2025 20:53:33 -0400 (EDT) Subject: |SUCCESS| [GIT MASTER] 2ffda8c2e357662354ee6ddcca769258c33642a9 From: dpdklab@iol.unh.edu To: Test Report Cc: dpdk-test-reports@iol.unh.edu Content-Type: text/plain X-BeenThere: test-report@dpdk.org X-Mailman-Version: 2.1.29 Precedence: list List-Id: automatic DPDK test reports List-Unsubscribe: , List-Archive: List-Post: List-Help: List-Subscribe: , Errors-To: test-report-bounces@dpdk.org _Testing PASS_ Branch: dpdk 2ffda8c2e357662354ee6ddcca769258c33642a9 --> testing pass Upstream job id: Generic-VM-Unit-Test-DPDK#31536 Test environment and result as below: +-------------------------------+----------------+ | Environment | dpdk_unit_test | +===============================+================+ | Arch Linux 20250613.0.365270 | PASS | +-------------------------------+----------------+ | CentOS Stream 10 | PASS | +-------------------------------+----------------+ | CentOS Stream 9 | PASS | +-------------------------------+----------------+ | Fedora Linux 40 | PASS | +-------------------------------+----------------+ | Debian GNU/Linux 12 | PASS | +-------------------------------+----------------+ | Fedora Linux 41 | PASS | +-------------------------------+----------------+ | Fedora Linux 42 | PASS | +-------------------------------+----------------+ | Red Hat Enterprise Linux 9.5 | PASS | +-------------------------------+----------------+ | Ubuntu 24.04 | PASS | +-------------------------------+----------------+ | Red Hat Enterprise Linux 8.10 | PASS | +-------------------------------+----------------+ | Ubuntu 20.04 | PASS | +-------------------------------+----------------+ | Ubuntu 22.04 | PASS | +-------------------------------+----------------+ | Windows Server 2022 | PASS | +-------------------------------+----------------+ Arch Linux 20250613.0.365270 Kernel: 5.15 Compiler: gcc gcc (GCC) 15.1.1 20250425 CentOS Stream 10 Kernel: 5.15 Compiler: gcc gcc (GCC) 14.2.1 20250110 (Red Hat 14.2.1-8) CentOS Stream 9 Kernel: 5.15 Compiler: gcc gcc (GCC) 11.5.0 20240719 (Red Hat 11.5.0-11) Fedora Linux 40 Kernel: 5.15 Compiler: gcc gcc (GCC) 14.2.1 20240912 (Red Hat 14.2.1-3) Debian GNU/Linux 12 Kernel: 5.15 Compiler: gcc gcc (Debian 12.2.0-14+deb12u1) 12.2.0 Fedora Linux 41 Kernel: 5.15 Compiler: gcc gcc (GCC) 14.3.1 20250523 (Red Hat 14.3.1-1) Fedora Linux 42 Kernel: 5.15 Compiler: clang gcc (GCC) 15.2.1 20250808 (Red Hat 15.2.1-1) Red Hat Enterprise Linux 9.5 Kernel: 5.15 Compiler: gcc gcc (GCC) 11.5.0 20240719 (Red Hat 11.5.0-2) Ubuntu 24.04 Kernel: 5.15 Compiler: gcc gcc (Ubuntu 13.3.0-6ubuntu2~24.04) 13.3.0 Red Hat Enterprise Linux 8.10 Kernel: 5.15 Compiler: gcc gcc (GCC) 8.5.0 20210514 (Red Hat 8.5.0-22) Ubuntu 20.04 Kernel: 5.15 Compiler: gcc gcc (Ubuntu 9.4.0-1ubuntu1~20.04.2) 9.4.0 Ubuntu 22.04 Kernel: 5.15 Compiler: gcc gcc (Ubuntu 11.4.0-1ubuntu1~22.04) 11.4.0 Windows Server 2022 Kernel: 10.0.20348.2031 Compiler: clang 15.0.7, gcc 14.1.0 (MinGW), and MSVC VS 19.39.33521 To view detailed results, visit: https://lab.dpdk.org/results/dashboard/tarballs/35081/ UNH-IOL DPDK Community Lab To manage your email subscriptions, visit: https://lab.dpdk.org/results/dashboard/preferences/subscriptions/