From mboxrd@z Thu Jan 1 00:00:00 1970 Return-Path: Received: from mails.dpdk.org (mails.dpdk.org [217.70.189.124]) by inbox.dpdk.org (Postfix) with ESMTP id A92A348888 for ; Thu, 2 Oct 2025 02:54:50 +0200 (CEST) Received: from mails.dpdk.org (localhost [127.0.0.1]) by mails.dpdk.org (Postfix) with ESMTP id A37104027F; Thu, 2 Oct 2025 02:54:50 +0200 (CEST) Received: from mail-pf1-f225.google.com (mail-pf1-f225.google.com [209.85.210.225]) by mails.dpdk.org (Postfix) with ESMTP id EF6AB4027F for ; Thu, 2 Oct 2025 02:54:49 +0200 (CEST) Received: by mail-pf1-f225.google.com with SMTP id d2e1a72fcca58-77f605f22easo545813b3a.2 for ; Wed, 01 Oct 2025 17:54:49 -0700 (PDT) DKIM-Signature: v=1; a=rsa-sha256; c=relaxed/relaxed; d=iol.unh.edu; s=unh-iol; t=1759366489; x=1759971289; darn=dpdk.org; h=cc:to:from:subject:message-id:date:from:to:cc:subject:date :message-id:reply-to; bh=LvyII7UK6DInduvRPlx83uaxK1Ayl4JDSvEydSde16A=; b=DDfTDu9rMb2qK5fqJPFeQ3oFIEgQesMan0voaXYgq93po2qygNSY+FE5Qtldr3eMsw tJ4a79xn1OF2SH804QNxOyOeuX+JUIbEFIw85OkfzO9+RuPvIxPyuGjiX1X+cpNqECrR 5TXu5E6s/rhZ+ynYsVNQ2CHKlcUAecuTVH0Zc= X-Google-DKIM-Signature: v=1; a=rsa-sha256; c=relaxed/relaxed; d=1e100.net; s=20230601; t=1759366489; x=1759971289; h=cc:to:from:subject:message-id:date:x-gm-message-state:from:to:cc :subject:date:message-id:reply-to; bh=LvyII7UK6DInduvRPlx83uaxK1Ayl4JDSvEydSde16A=; b=nCFWT+RPY07vI9spFqJ4oagl0KYjjrSe0Fiy5jGucBSdVeWf6sEcC0cTG7YJZSrAya NmypKVpb6/VpGuy6MAlDJLhvxIaEB7ARzIg/gwlfdKAu20uIRXwQgqPzoCsSBjA/y1yu PTmI5Zha8odfYpl6HVmY5v8JemiMqFfZzTmhaduUJ4JG3lP4tXxJSCGrPhFzEfE+5e1w UuHJeNHzxJbkVHj1FjN1/AY09++Ewxia2TlXDcc8LuVRmbBLQqVG6rsXPgVbLa6+sAYL eD+1lMZLj6mS03+9f2L/LyTkiG7+YmtriwerHDMZLcoW3BOYqY5YxSFm9Eky8vmYrO8E n5uQ== X-Gm-Message-State: AOJu0YzWC+k6Zmnbu++mi8MWLSLSYeATc8kymupDN5ws4sSYDQ+1/3+l pJwBr/UrcIm428OrSnCLKVEdOX+6rSa7F03qUiPWrwAuxtu0zQiz/Z/wEGbPmn14oBXIfhmJfms QEM9CcZ1vZKgggwqu+5LqT53SzuHbndIHeWcJeRFmyJ4W5MjN5VDkMeEOmc58 X-Gm-Gg: ASbGncvAyDvWDW/aP9eoAwWexyCi34gs4vm1LbVd4jtM3kArbSc0lKsJm9slbjoHWPk lf/5YUrQSm5Mdbm5QX6du6hYySBCv1lb0WJGI4hZg8dlPkOif4WZHd41bPqqFJ48IFgy4vm9lYE Hm/gNgRlev6Q2B9zApz3dU9NKyrqfz42EHz8kOmyHUERqPJZDsJdef5xTvky3uVFU/U9KDtKjVB p1IW9r4kTxCM8oXM5HmLo95a4gqEPJw6/CugND8IJmJrFwjwBPNIWz4LZDWY9uAA3lpTm6vK58h jMqiSE2HGyKlx1f0or8m2iOgCIEe+5yWbRIqpTWknlZvO8uUoXrBu/I= X-Google-Smtp-Source: AGHT+IEdx+ZgMuLjc8cpB2imdt+xvWQW3/+SiSj8byat0ijmyeTcVHpHGIhn7ZG4c6b0zlgrHShRd1zSn+vk X-Received: by 2002:a17:90b:3511:b0:32e:a60d:93e2 with SMTP id 98e67ed59e1d1-339a6e9cdabmr5755238a91.11.1759366489022; Wed, 01 Oct 2025 17:54:49 -0700 (PDT) Received: from postal.iol.unh.edu (postal.iol.unh.edu. [2606:4100:3880:1234::84]) by smtp-relay.gmail.com with ESMTPS id 98e67ed59e1d1-339b4f2291esm84566a91.5.2025.10.01.17.54.48 (version=TLS1_2 cipher=ECDHE-ECDSA-AES128-GCM-SHA256 bits=128/128); Wed, 01 Oct 2025 17:54:49 -0700 (PDT) X-Relaying-Domain: iol.unh.edu Date: Wed, 01 Oct 2025 17:54:49 -0700 (PDT) Message-ID: <68ddcd59.170a0220.11642c.5891SMTPIN_ADDED_MISSING@mx.google.com> Received: from [172.21.0.2] (unknown [172.18.0.240]) by postal.iol.unh.edu (Postfix) with ESMTP id 7C9256051830; Wed, 1 Oct 2025 20:54:48 -0400 (EDT) Subject: |SUCCESS| [GIT MASTER] 2ffda8c2e357662354ee6ddcca769258c33642a9 From: dpdklab@iol.unh.edu To: Test Report Cc: dpdk-test-reports@iol.unh.edu Content-Type: text/plain X-BeenThere: test-report@dpdk.org X-Mailman-Version: 2.1.29 Precedence: list List-Id: automatic DPDK test reports List-Unsubscribe: , List-Archive: List-Post: List-Help: List-Subscribe: , Errors-To: test-report-bounces@dpdk.org _Testing PASS_ Branch: dpdk 2ffda8c2e357662354ee6ddcca769258c33642a9 --> testing pass Upstream job id: Windows-Compile-DPDK-Native#31368 Test environment and result as below: +---------------------+--------------------+-------------------+-------------------------+----------------------+ | Environment | dpdk_meson_compile | dpdk_msvc_compile | dpdk_llvm_clang_compile | dpdk_mingw64_compile | +=====================+====================+===================+=========================+======================+ | Ubuntu 20.04 | PASS | SKIPPED | SKIPPED | SKIPPED | +---------------------+--------------------+-------------------+-------------------------+----------------------+ | FreeBSD 14.2 | PASS | SKIPPED | SKIPPED | SKIPPED | +---------------------+--------------------+-------------------+-------------------------+----------------------+ | Windows Server 2022 | SKIPPED | PASS | PASS | PASS | +---------------------+--------------------+-------------------+-------------------------+----------------------+ Ubuntu 20.04 Kernel: 4.19 Compiler: gcc gcc (Ubuntu 9.4.0-1ubuntu1~20.04.2) 9.4.0 FreeBSD 14.2 Kernel: 14.2-RELEASE Compiler: clang 18.1.6 Windows Server 2022 Kernel: 10.0.20348.2031 Compiler: clang 15.0.7, gcc 14.1.0 (MinGW), and MSVC VS 19.39.33521 To view detailed results, visit: https://lab.dpdk.org/results/dashboard/tarballs/35081/ UNH-IOL DPDK Community Lab To manage your email subscriptions, visit: https://lab.dpdk.org/results/dashboard/preferences/subscriptions/