From mboxrd@z Thu Jan 1 00:00:00 1970 Return-Path: Received: from mails.dpdk.org (mails.dpdk.org [217.70.189.124]) by inbox.dpdk.org (Postfix) with ESMTP id 5253148888 for ; Thu, 2 Oct 2025 02:59:19 +0200 (CEST) Received: from mails.dpdk.org (localhost [127.0.0.1]) by mails.dpdk.org (Postfix) with ESMTP id 21BC34027F; Thu, 2 Oct 2025 02:59:19 +0200 (CEST) Received: from mail-pg1-f227.google.com (mail-pg1-f227.google.com [209.85.215.227]) by mails.dpdk.org (Postfix) with ESMTP id BBFB34027F for ; Thu, 2 Oct 2025 02:59:17 +0200 (CEST) Received: by mail-pg1-f227.google.com with SMTP id 41be03b00d2f7-b58445361e8so1557646a12.0 for ; Wed, 01 Oct 2025 17:59:17 -0700 (PDT) DKIM-Signature: v=1; a=rsa-sha256; c=relaxed/relaxed; d=iol.unh.edu; s=unh-iol; t=1759366757; x=1759971557; darn=dpdk.org; h=cc:to:from:subject:message-id:date:from:to:cc:subject:date :message-id:reply-to; bh=Nv4H9XwLHl6v1gcLYa0UfLxjEyAlDykyvdoCDN/aT/Y=; b=iZIRGYNMFeEyQRxOB9mPs5pleav7i9pRfDBWvedbkwO7bB3VLJfHC3MOI5vlQ0vyrH 1nD27XNtluIHnKQ2lbuQyWFUFvRALnsNzNHOpRVraWIIp+PBr9uiTy+vdWL7lDiZkfiY meKkieOaDdNldaqOTUvnuaK92yoHZ/zX0+Mes= X-Google-DKIM-Signature: v=1; a=rsa-sha256; c=relaxed/relaxed; d=1e100.net; s=20230601; t=1759366757; x=1759971557; h=cc:to:from:subject:message-id:date:x-gm-message-state:from:to:cc :subject:date:message-id:reply-to; bh=Nv4H9XwLHl6v1gcLYa0UfLxjEyAlDykyvdoCDN/aT/Y=; b=nHvnF24/VzfK2O4hCupbKKh/VY2QBFjNFc+31GdCNFtPQTlvu5h31z56OrsRz0+iJu BSHfOQdId/O87VqekuYlnk062MRqq43FB94N6j8dy5eClh15SaxU8l+U+Eyt1i1XyLud xDWzYzhKY43zSoBF09VCtl1SF55av0bBFGXBOF/Hc1JxZ7aWNTMtKlMr6Mpo8uLsTntR 7SiiSaUmmHn55OW4B3j1YIoyCnzsrU1xCzJMc/C7Z2+CnpU4apul0SWLIO53KM0yXfCY HofrhzTafj26G6IBsk5tpI36fz0mcfJyRhyyYrXrd7Jd0FvoTCeMZWS7TBgaJmgvmyC5 H1Lg== X-Gm-Message-State: AOJu0YyfHN7Iw/YdxGlrsdLHeO7GMmHZtD1s2/CXyIgSD/tb9Ot+7J4H VZxNsda1xNb9uvg6CNz5Ma5LxLHS8y/JUkk8pJSZrRes0rKIfQBd6ogvDsP0WSMsFcraSOQG0Pv sMbgQWxJGA990d6FJMAmMm1R9MJ2ziYQPgN7+W8WuF2rLa7XN5ZYQQPnaTMK2 X-Gm-Gg: ASbGncvVrIJ6ya24+IjSHgnTwJuoNu/zbsEncDrjDBxSr2bHKK+2JVpyIPZV8qI2q8K p6h4QWk4fP1opysM18ur/ak7H5fiFFnV4kzqiDzK+vYAGgrUHvurmart2sFbVV1INQOXHuuEeD8 MGa3OV6XcdeoSRzdWYMM4+lPGzsvJva6nlPG6v8WfoWpEr1QAofe7EOQa9UbQ+VflmaJ/+JTgVR 9kgV+NI5TWBvh7cwtmx59xW17bjmQZLDrw9vk95AKtGbRmkoKrpQ7FwWD4niUjeHyLFPfWul8Et mMWgK3EsWQqsrF8dfHIUZMVPlK2GNfInZAVpnHKE8Cm59omS4lcJb+E= X-Google-Smtp-Source: AGHT+IFepUxNumO71JuEVolcwzoWgX76il5Id96JfeCJ1D8Mt1QLlUGscREoxKPvPgRlG8tE4/n11kek3B+k X-Received: by 2002:a17:902:d583:b0:269:8eba:e9b2 with SMTP id d9443c01a7336-28e8d08f1d8mr16442165ad.29.1759366756846; Wed, 01 Oct 2025 17:59:16 -0700 (PDT) Received: from postal.iol.unh.edu (postal.iol.unh.edu. [2606:4100:3880:1234::84]) by smtp-relay.gmail.com with ESMTPS id d9443c01a7336-28e8d1b2f1fsm732755ad.74.2025.10.01.17.59.16 (version=TLS1_2 cipher=ECDHE-ECDSA-AES128-GCM-SHA256 bits=128/128); Wed, 01 Oct 2025 17:59:16 -0700 (PDT) X-Relaying-Domain: iol.unh.edu Date: Wed, 01 Oct 2025 17:59:16 -0700 (PDT) Message-ID: <68ddce64.170a0220.11591f.4c7fSMTPIN_ADDED_MISSING@mx.google.com> Received: from [172.21.0.3] (unknown [172.18.0.240]) by postal.iol.unh.edu (Postfix) with ESMTP id 2165B6051830; Wed, 1 Oct 2025 20:59:16 -0400 (EDT) Subject: |SUCCESS| [GIT MASTER] 2ffda8c2e357662354ee6ddcca769258c33642a9 From: dpdklab@iol.unh.edu To: Test Report Cc: dpdk-test-reports@iol.unh.edu Content-Type: text/plain X-BeenThere: test-report@dpdk.org X-Mailman-Version: 2.1.29 Precedence: list List-Id: automatic DPDK test reports List-Unsubscribe: , List-Archive: List-Post: List-Help: List-Subscribe: , Errors-To: test-report-bounces@dpdk.org _Testing PASS_ Branch: dpdk 2ffda8c2e357662354ee6ddcca769258c33642a9 --> testing pass Upstream job id: Generic-VM-Unit-Test-DPDK#31537 Test environment and result as below: +-------------------------------+----------------+ | Environment | dpdk_unit_test | +===============================+================+ | Arch Linux 20250613.0.365270 | PASS | +-------------------------------+----------------+ | CentOS Stream 10 | PASS | +-------------------------------+----------------+ | CentOS Stream 9 | PASS | +-------------------------------+----------------+ | Fedora Linux 40 | PASS | +-------------------------------+----------------+ | Debian GNU/Linux 12 | PASS | +-------------------------------+----------------+ | Fedora Linux 41 | PASS | +-------------------------------+----------------+ | Fedora Linux 42 | PASS | +-------------------------------+----------------+ | Red Hat Enterprise Linux 9.5 | PASS | +-------------------------------+----------------+ | Ubuntu 24.04 | PASS | +-------------------------------+----------------+ | Red Hat Enterprise Linux 8.10 | PASS | +-------------------------------+----------------+ | Ubuntu 20.04 | PASS | +-------------------------------+----------------+ | Ubuntu 22.04 | PASS | +-------------------------------+----------------+ | Windows Server 2022 | PASS | +-------------------------------+----------------+ Arch Linux 20250613.0.365270 Kernel: 5.15 Compiler: gcc gcc (GCC) 15.1.1 20250425 CentOS Stream 10 Kernel: 5.15 Compiler: gcc gcc (GCC) 14.2.1 20250110 (Red Hat 14.2.1-8) CentOS Stream 9 Kernel: 5.15 Compiler: gcc gcc (GCC) 11.5.0 20240719 (Red Hat 11.5.0-11) Fedora Linux 40 Kernel: 5.15 Compiler: gcc gcc (GCC) 14.2.1 20240912 (Red Hat 14.2.1-3) Debian GNU/Linux 12 Kernel: 5.15 Compiler: gcc gcc (Debian 12.2.0-14+deb12u1) 12.2.0 Fedora Linux 41 Kernel: 5.15 Compiler: gcc gcc (GCC) 14.3.1 20250523 (Red Hat 14.3.1-1) Fedora Linux 42 Kernel: 5.15 Compiler: clang gcc (GCC) 15.2.1 20250808 (Red Hat 15.2.1-1) Red Hat Enterprise Linux 9.5 Kernel: 5.15 Compiler: gcc gcc (GCC) 11.5.0 20240719 (Red Hat 11.5.0-2) Ubuntu 24.04 Kernel: 5.15 Compiler: gcc gcc (Ubuntu 13.3.0-6ubuntu2~24.04) 13.3.0 Red Hat Enterprise Linux 8.10 Kernel: 5.15 Compiler: gcc gcc (GCC) 8.5.0 20210514 (Red Hat 8.5.0-22) Ubuntu 20.04 Kernel: 5.15 Compiler: gcc gcc (Ubuntu 9.4.0-1ubuntu1~20.04.2) 9.4.0 Ubuntu 22.04 Kernel: 5.15 Compiler: gcc gcc (Ubuntu 11.4.0-1ubuntu1~22.04) 11.4.0 Windows Server 2022 Kernel: 10.0.20348.2031 Compiler: clang 15.0.7, gcc 14.1.0 (MinGW), and MSVC VS 19.39.33521 To view detailed results, visit: https://lab.dpdk.org/results/dashboard/tarballs/35081/ UNH-IOL DPDK Community Lab To manage your email subscriptions, visit: https://lab.dpdk.org/results/dashboard/preferences/subscriptions/