From mboxrd@z Thu Jan 1 00:00:00 1970 Return-Path: Received: from mails.dpdk.org (mails.dpdk.org [217.70.189.124]) by inbox.dpdk.org (Postfix) with ESMTP id 3DF5C48888 for ; Thu, 2 Oct 2025 05:53:53 +0200 (CEST) Received: from mails.dpdk.org (localhost [127.0.0.1]) by mails.dpdk.org (Postfix) with ESMTP id 14DC140687; Thu, 2 Oct 2025 05:53:53 +0200 (CEST) Received: from mail-pg1-f227.google.com (mail-pg1-f227.google.com [209.85.215.227]) by mails.dpdk.org (Postfix) with ESMTP id AAED040687 for ; Thu, 2 Oct 2025 05:53:51 +0200 (CEST) Received: by mail-pg1-f227.google.com with SMTP id 41be03b00d2f7-b5516ee0b0bso423670a12.1 for ; Wed, 01 Oct 2025 20:53:51 -0700 (PDT) DKIM-Signature: v=1; a=rsa-sha256; c=relaxed/relaxed; d=iol.unh.edu; s=unh-iol; t=1759377230; x=1759982030; darn=dpdk.org; h=cc:to:from:subject:message-id:date:from:to:cc:subject:date :message-id:reply-to; bh=hDXumoC4FdiRJpe4cDq9SjDyQJM3Rzu8bpF0YnWcxbo=; b=GsnrvmVUdkJyur3CyvYqQyxSmFx74ml6EGcyLf2/h1h4K8oUaEQOE1qg5WYS+03wKb trqNAg4gZkiFCql1ZSqCLc3S+SyRn/3S6VcBYEFGyO7BXRVyz8YIs/yf0HxsmuMP9yxa P53rCp2CzqwlZ8F4G48tqeVhzZrPTSUez2jmg= X-Google-DKIM-Signature: v=1; a=rsa-sha256; c=relaxed/relaxed; d=1e100.net; s=20230601; t=1759377230; x=1759982030; h=cc:to:from:subject:message-id:date:x-gm-message-state:from:to:cc :subject:date:message-id:reply-to; bh=hDXumoC4FdiRJpe4cDq9SjDyQJM3Rzu8bpF0YnWcxbo=; b=IR5nZ5z34yqKBWMmpjIJl6qS+pPESbuczLCdREb5HBk4lzyyijjurVAxYZ85EAMBME P6YPPP+B3FRi/38EfY1ALGoRf0lI0tzH0kwEF5jFITZFya9DHuimeHRHroabiajGKdT+ ijNaWUq5aqmSCaJsdQ9cmmL5/jXbLvd/9qUSVfpArEdFkbuR0rn5pRnVhbQaaNioomBj c2JeFuZK/XcTMOScZI/MXHlOOBNmlPOLH9AZfbksgA3C4Qvq9o6DVik+JDHRaRoomKqz UqKlRh08yAYbtUDycOGJi1Q7TTQ95C3UVF4iW6i6CPV87mBLXCf4I24fO+GwbuonRtMF crPA== X-Gm-Message-State: AOJu0YxiEwwWpgR1ZHVm6SAS2VS7hQRZrAY4IdSo6iK0YeKCQIYVQXm9 qLkArwD5hakl04nUPj5KNNdSo89TwKa6KaFK4uNNSIim0RcJ+ojbhY7Rx0Mjbj197XtCpdasFo7 t+ABre2xLrwPzFUCLir8nRre9wciEmIOtbMfFhwM+JM1e X-Gm-Gg: ASbGncsytNA4mHOVcwotWlLaA0So9yTHmr3PDwFp6+/jj5JxjyF66aAhJp7vHvGvjfH b7gPb5Etk/mDKdETj4ak7Bsb/TKbhdSsWyit9tdGc+iC5O7iqLhCbIdJJHkUnoI1qlzsnYHf7dI DqYMro4s4wh9q538XyVLaojHiHEN7LUaHUsMntqH/4zxq61Ri8edT3Ex2B9mQN3TfEYsYxpDsf+ 69RRMCvfNh/c0Nd/p6087+90pD91ymJU1nLTf1q5HLa4EOX9aY3sxVboSyX4MsInuaYy0tqOtI2 5rQAbN6MF+jHH9SsBUNe+mV96YsbglftxxsQV1iwCB/2asFGUWFc5bopryxOYnyGHPGwqFwZA6F QbA== X-Google-Smtp-Source: AGHT+IGibDxiVlHHGzxaDPTGNDYhTAaA9YWgE2tTB5hHxxlC2IAaPu4yBUTHJRrM4AbckioICsvyCtRu5P3y X-Received: by 2002:a17:903:2b0c:b0:27c:a35a:1321 with SMTP id d9443c01a7336-28e7f457b5cmr61623465ad.51.1759377230565; Wed, 01 Oct 2025 20:53:50 -0700 (PDT) Received: from postal.iol.unh.edu (postal.iol.unh.edu. [132.177.123.84]) by smtp-relay.gmail.com with ESMTPS id d9443c01a7336-28e8d118127sm1015735ad.21.2025.10.01.20.53.50 (version=TLS1_2 cipher=ECDHE-ECDSA-AES128-GCM-SHA256 bits=128/128); Wed, 01 Oct 2025 20:53:50 -0700 (PDT) X-Relaying-Domain: iol.unh.edu Date: Wed, 01 Oct 2025 20:53:50 -0700 (PDT) Message-ID: <68ddf74e.170a0220.1ffa2a.6ab9SMTPIN_ADDED_MISSING@mx.google.com> Received: from [172.21.0.2] (unknown [172.18.0.240]) by postal.iol.unh.edu (Postfix) with ESMTP id BD1D26051830; Wed, 1 Oct 2025 23:53:49 -0400 (EDT) Subject: |SUCCESS| [GIT MASTER] 8fafc107475f8456cf90cbb7e805236aafa6d547 From: dpdklab@iol.unh.edu To: Test Report Cc: dpdk-test-reports@iol.unh.edu, Akhil Goyal Content-Type: text/plain X-BeenThere: test-report@dpdk.org X-Mailman-Version: 2.1.29 Precedence: list List-Id: automatic DPDK test reports List-Unsubscribe: , List-Archive: List-Post: List-Help: List-Subscribe: , Errors-To: test-report-bounces@dpdk.org _Testing PASS_ Branch: dpdk-next-crypto 8fafc107475f8456cf90cbb7e805236aafa6d547 --> testing pass Upstream job id: Generic-DPDK-Compile-Meson#430293 Test environment and result as below: +------------------------------+--------------------+ | Environment | dpdk_meson_compile | +==============================+====================+ | Red Hat Enterprise Linux 9.5 | PASS | +------------------------------+--------------------+ | Ubuntu 20.04 | PASS | +------------------------------+--------------------+ | Debian GNU/Linux 12 | PASS | +------------------------------+--------------------+ | Fedora Linux 42 | PASS | +------------------------------+--------------------+ | Ubuntu 22.04 | PASS | +------------------------------+--------------------+ | Ubuntu 24.04 | PASS | +------------------------------+--------------------+ | CentOS Stream 9 | PASS | +------------------------------+--------------------+ | CentOS Stream 10 | PASS | +------------------------------+--------------------+ Red Hat Enterprise Linux 9.5 Kernel: 5.4 Compiler: gcc gcc (GCC) 11.5.0 20240719 (Red Hat 11.5.0-2) Ubuntu 20.04 Kernel: 5.15 Compiler: aarch64-linux-gnu-gcc gcc (Ubuntu 9.4.0-1ubuntu1~20.04.2) 9.4.0 Debian GNU/Linux 12 Kernel: 5.4 Compiler: gcc gcc (Debian 12.2.0-14+deb12u1) 12.2.0 Fedora Linux 42 Kernel: 5.4 Compiler: gcc gcc (GCC) 15.2.1 20250808 (Red Hat 15.2.1-1) Ubuntu 22.04 Kernel: 5.4 Compiler: gcc gcc (Ubuntu 11.4.0-1ubuntu1~22.04) 11.4.0 Ubuntu 24.04 Kernel: 5.4 Compiler: gcc gcc (Ubuntu 13.3.0-6ubuntu2~24.04) 13.3.0 CentOS Stream 9 Kernel: 5.4 Compiler: gcc gcc (GCC) 11.5.0 20240719 (Red Hat 11.5.0-11) CentOS Stream 10 Kernel: 5.4 Compiler: gcc gcc (GCC) 14.2.1 20250110 (Red Hat 14.2.1-8) To view detailed results, visit: https://lab.dpdk.org/results/dashboard/tarballs/35065/ UNH-IOL DPDK Community Lab To manage your email subscriptions, visit: https://lab.dpdk.org/results/dashboard/preferences/subscriptions/