From mboxrd@z Thu Jan 1 00:00:00 1970 Return-Path: Received: from mails.dpdk.org (mails.dpdk.org [217.70.189.124]) by inbox.dpdk.org (Postfix) with ESMTP id 42E1C48889 for ; Thu, 2 Oct 2025 06:16:50 +0200 (CEST) Received: from mails.dpdk.org (localhost [127.0.0.1]) by mails.dpdk.org (Postfix) with ESMTP id 391D440687; Thu, 2 Oct 2025 06:16:50 +0200 (CEST) Received: from mail-il1-f225.google.com (mail-il1-f225.google.com [209.85.166.225]) by mails.dpdk.org (Postfix) with ESMTP id 35BF140687 for ; Thu, 2 Oct 2025 06:16:49 +0200 (CEST) Received: by mail-il1-f225.google.com with SMTP id e9e14a558f8ab-42571642aa7so3182115ab.0 for ; Wed, 01 Oct 2025 21:16:49 -0700 (PDT) DKIM-Signature: v=1; a=rsa-sha256; c=relaxed/relaxed; d=iol.unh.edu; s=unh-iol; t=1759378608; x=1759983408; darn=dpdk.org; h=cc:to:from:subject:message-id:date:from:to:cc:subject:date :message-id:reply-to; bh=Gjjvf3JNsTU6EYJRIBWwgR1U8/6Htg1C13jJGzuHW1s=; b=PjRF/Ax2IVMKpdojl6lreETtv6xpj6TIN+W1K1faoDczCOcimH816uRDOlJ9S9+Hxc krjAhS2ccs910aG9kS7lnxPdqG1SvcyVbB7wnw61XPZ7HfU/51T5vNvflwt/cuoavnTn DOigCBQ0cY2HiB/FIpZtTLcDb1DX26XRX7KCk= X-Google-DKIM-Signature: v=1; a=rsa-sha256; c=relaxed/relaxed; d=1e100.net; s=20230601; t=1759378608; x=1759983408; h=cc:to:from:subject:message-id:date:x-gm-message-state:from:to:cc :subject:date:message-id:reply-to; bh=Gjjvf3JNsTU6EYJRIBWwgR1U8/6Htg1C13jJGzuHW1s=; b=VIszLZHs0cmQ1CezpMIHEfFOMxXKwpKxhU2In6pHqnjRa9iq+46mj6HNV8To3+f2oX 4w9c4fzd8yVHMp5cV2stIPm/fQqsgIiya6QAE9NA8vIvaXY7I82TbhA8dAKX6A4rlLJA n5kM1qUuhlV2mrNMUxQ23aQUgq5w3ddlRArs8sPMgjOBEKHCZRPY3+W1bnXhu8EZHTW7 juCxBWqmA090PTj1j3lcq9SDygtd8UdE1REkod374nP5LaiRnVKcrLoAx2PuOy3QaQVn 6okBgI1TjIPY23/g+K7fiyAD42HTmwFG0r0p1WNdOdbtQ2Yj0agENLMt6Ovl59b+ft8y lXFg== X-Gm-Message-State: AOJu0YyxARjTUES8SM+OWUkOr/0RB1RhNJIPBkHr+TmrH6BHFcFetBNV QY/iNAB9XbOzUFNUVGE/q1N6n7rJAobLEw4HBiliZk+nG3LEIgO9VXKOOECsYCq3bldIwx89utA Q7LdcCHvkkyfi49yOcp+oDsYiAUUzc5T4wWUm X-Gm-Gg: ASbGnctNHPWz+x8ZU8cNXIBujqL74/FNABehPJLbyca6XjPoKHLNnAOARqqLcVx0Ffy 4RMS3PXkLvKuvwGXiDFIObBo4d8ePfG7ylFSmBYYb5RVAqoZ814wn0cVgaN/2ZGhL8hmO7nWn1W Vj9QiAHl1q+r+FVa8uG61F2U1+vk/VXwKYQUGNgxovQg6IfX9wqHRufzksOJHHWM/AX1MpsCIxz D3Hx/QKHL8N/fBMWK5tBANPHQ/VNn2AFMTIRs3k/tTs9HojCNQLHPaeOxVBojfIgL5ydkAHEhBu f3TVTOsFR/QIgEZhYaY9bE8oA2LS/5pgj4WzPllioG7vmdSfUTsmYa9yGlLnEDtkFINmWsL5d6M zDw== X-Google-Smtp-Source: AGHT+IFVyZayXQfOizhvWB9HhkYGC5f1HupaxPVdCKPUZbXaY4j5+25wCiyML9HaHBzMi0zYXb+P2FRwdd/c X-Received: by 2002:a05:6e02:b4a:b0:42d:8bc6:d163 with SMTP id e9e14a558f8ab-42d8bc6d354mr18463135ab.9.1759378608508; Wed, 01 Oct 2025 21:16:48 -0700 (PDT) Received: from postal.iol.unh.edu (postal.iol.unh.edu. [132.177.123.84]) by smtp-relay.gmail.com with ESMTPS id 8926c6da1cb9f-57b5ed6b5fbsm88009173.40.2025.10.01.21.16.48 (version=TLS1_2 cipher=ECDHE-ECDSA-AES128-GCM-SHA256 bits=128/128); Wed, 01 Oct 2025 21:16:48 -0700 (PDT) X-Relaying-Domain: iol.unh.edu Date: Wed, 01 Oct 2025 21:16:48 -0700 (PDT) Message-ID: <68ddfcb0.050a0220.62594.589fSMTPIN_ADDED_MISSING@mx.google.com> Received: from [172.21.0.2] (unknown [172.18.0.240]) by postal.iol.unh.edu (Postfix) with ESMTP id 020BB6051830; Thu, 2 Oct 2025 00:16:17 -0400 (EDT) Subject: |SUCCESS| [GIT MASTER] 3b43ce3f4a54468e7ef65760c2fd7b4d6ee6d9fc From: dpdklab@iol.unh.edu To: Test Report Cc: dpdk-test-reports@iol.unh.edu, Xueming Li , Christian Ehrhardt , Kevin Traynor , Luca Boccassi Content-Type: text/plain X-BeenThere: test-report@dpdk.org X-Mailman-Version: 2.1.29 Precedence: list List-Id: automatic DPDK test reports List-Unsubscribe: , List-Archive: List-Post: List-Help: List-Subscribe: , Errors-To: test-report-bounces@dpdk.org _Testing PASS_ Branch: tags/v22.11 3b43ce3f4a54468e7ef65760c2fd7b4d6ee6d9fc --> testing pass Upstream job id: Generic-VM-DPDK-Compile-Meson#38735 Test environment and result as below: +---------------------+--------------------+-------------------------+----------------------+ | Environment | dpdk_meson_compile | dpdk_llvm_clang_compile | dpdk_mingw64_compile | +=====================+====================+=========================+======================+ | Ubuntu 20.04 | PASS | SKIPPED | SKIPPED | +---------------------+--------------------+-------------------------+----------------------+ | FreeBSD 14.2 | PASS | SKIPPED | SKIPPED | +---------------------+--------------------+-------------------------+----------------------+ | Windows Server 2022 | SKIPPED | PASS | PASS | +---------------------+--------------------+-------------------------+----------------------+ Ubuntu 20.04 Kernel: 4.19 Compiler: gcc gcc (Ubuntu 9.4.0-1ubuntu1~20.04.2) 9.4.0 FreeBSD 14.2 Kernel: 14.2-RELEASE Compiler: clang 18.1.6 Windows Server 2022 Kernel: 10.0.20348.2031 Compiler: clang 15.0.7, gcc 14.1.0 (MinGW), and MSVC VS 19.39.33521 To view detailed results, visit: https://lab.dpdk.org/results/dashboard/tarballs/35082/ UNH-IOL DPDK Community Lab To manage your email subscriptions, visit: https://lab.dpdk.org/results/dashboard/preferences/subscriptions/