From mboxrd@z Thu Jan 1 00:00:00 1970 Return-Path: Received: from mails.dpdk.org (mails.dpdk.org [217.70.189.124]) by inbox.dpdk.org (Postfix) with ESMTP id 3637E48889 for ; Thu, 2 Oct 2025 06:23:56 +0200 (CEST) Received: from mails.dpdk.org (localhost [127.0.0.1]) by mails.dpdk.org (Postfix) with ESMTP id 3026540687; Thu, 2 Oct 2025 06:23:56 +0200 (CEST) Received: from mail-oa1-f98.google.com (mail-oa1-f98.google.com [209.85.160.98]) by mails.dpdk.org (Postfix) with ESMTP id 616A540687 for ; Thu, 2 Oct 2025 06:23:54 +0200 (CEST) Received: by mail-oa1-f98.google.com with SMTP id 586e51a60fabf-30cce50dfb4so418501fac.0 for ; Wed, 01 Oct 2025 21:23:54 -0700 (PDT) DKIM-Signature: v=1; a=rsa-sha256; c=relaxed/relaxed; d=iol.unh.edu; s=unh-iol; t=1759379033; x=1759983833; darn=dpdk.org; h=cc:to:from:subject:message-id:date:from:to:cc:subject:date :message-id:reply-to; bh=XxufYK6gT7/XM9yOn8QK2Xu8LbBaZttg8UBG6uucj7c=; b=efAjTV67IDyibvbUiYQMP6RO9ZA2rJMDYpGR8x21+2LlMzEUSUQtDgT94kKAbc5UrY Ch9H7dKGLatEqqYZT4nSIUYd1nQ/cM4jx7tfvOwYbVlvEVdIf8g2vCrgPglBfCeSyg12 d6HVqSQjlHm7FuEHPTUKBs8XdtMpEgbu8ur7s= X-Google-DKIM-Signature: v=1; a=rsa-sha256; c=relaxed/relaxed; d=1e100.net; s=20230601; t=1759379033; x=1759983833; h=cc:to:from:subject:message-id:date:x-gm-message-state:from:to:cc :subject:date:message-id:reply-to; bh=XxufYK6gT7/XM9yOn8QK2Xu8LbBaZttg8UBG6uucj7c=; b=inYbPKqZRjyOZX0mIXqCzTvjHYedSdCQuLlRLR8b+o6YKnj7yCUtDC1xv3mHt8EpGn r8aZKPNPZHRE1NNulKcpQYoVN6hMCbXnmbffp8qpz0q8ynsaITP9+2De4foXwmc8bjm4 4J5yH8vBBgjWCzstThI1maf8w3yotYBZzbB9tb8sLVaJ0UPnxMgT/mLCVYGuoxIRWtfP kfE2emEV62pEGctP15rMTVUHxH4hwb5PBcrHkh0mR2piWnhX29gtyUgeSYW8AgrrMTiC 87aDNq1T0UB/H72zAm79O+GfrroZDvYIwZpo/DZwGknpr4J7/J1cZsILGUEloncYSQZJ 5d6A== X-Gm-Message-State: AOJu0YyTRmaA59qhEHSTqFjGXMZ8C49DAT6ehyBdlk3LMQb1uwBifi4u QwTHkX+r2Bixe3RQNixdzaMOh9TUsQloHqGavz4yVCKnIPylecem886dr/ydnDVL7WjYi6Fhzge QXTMKL3Ps5nfGlrin4IMvY9UHr5oZsyfhdU0Q4C0Ymlpxm+oUeAHR X-Gm-Gg: ASbGncu77seL3ujsOfc0ZmPektiIkKTSgSgVr4hPOev+lgJk7IVL7K34Mgo07HiNyTp 7O7LZEwff/LHoSnU0XtlzyuqyxBUOXo+RWVWHA3Chp0Y2n06fqu6KW1SuH2MfhHRAixAnAoxzG8 kXJFZb25NoZLR5bxYXqYdrZotpItJ7m+fZHDV3UScwOhIsNhTg41XK9xcE/ly55xH4vc1O8GpGj +tRf7zf1hVpkqo3ujbSpWW9To24CPQtPGOd/GqvD5PoawNRhpWCd8T75RgSevEpjbgRmSKc/Swk L46bor8UpbKy4yvRkw8JpdOauz0henAwcQMyKHSk+XAkt7hVAlfu1i4= X-Google-Smtp-Source: AGHT+IEjEBHbs7zaDEN6t4aAOOc4paIm2kVB3lR8woh8XPpq9Ld0eJQNNHeGj/wWTTvIA7xh3GfSK/BWLXw7 X-Received: by 2002:a05:6870:df87:b0:3ae:f15:5df3 with SMTP id 586e51a60fabf-3ae0f15701cmr584907fac.27.1759379033664; Wed, 01 Oct 2025 21:23:53 -0700 (PDT) Received: from postal.iol.unh.edu (postal.iol.unh.edu. [2606:4100:3880:1234::84]) by smtp-relay.gmail.com with ESMTPS id 586e51a60fabf-3ab98664798sm114442fac.25.2025.10.01.21.23.53 (version=TLS1_2 cipher=ECDHE-ECDSA-AES128-GCM-SHA256 bits=128/128); Wed, 01 Oct 2025 21:23:53 -0700 (PDT) X-Relaying-Domain: iol.unh.edu Date: Wed, 01 Oct 2025 21:23:53 -0700 (PDT) Message-ID: <68ddfe59.050a0220.29af13.777dSMTPIN_ADDED_MISSING@mx.google.com> Received: from [172.21.0.2] (unknown [172.18.0.240]) by postal.iol.unh.edu (Postfix) with ESMTP id 32E546051830; Thu, 2 Oct 2025 00:23:46 -0400 (EDT) Subject: |SUCCESS| [GIT MASTER] b287e404643aeab5bb5db084c142789df187844e From: dpdklab@iol.unh.edu To: Test Report Cc: dpdk-test-reports@iol.unh.edu, Xueming Li , Christian Ehrhardt , Kevin Traynor , Luca Boccassi Content-Type: text/plain X-BeenThere: test-report@dpdk.org X-Mailman-Version: 2.1.29 Precedence: list List-Id: automatic DPDK test reports List-Unsubscribe: , List-Archive: List-Post: List-Help: List-Subscribe: , Errors-To: test-report-bounces@dpdk.org _Testing PASS_ Branch: tags/v24.11 b287e404643aeab5bb5db084c142789df187844e --> testing pass Upstream job id: Generic-VM-DPDK-Compile-Meson#38737 Test environment and result as below: +---------------------+-------------------+--------------------+-------------------------+----------------------+ | Environment | dpdk_msvc_compile | dpdk_meson_compile | dpdk_llvm_clang_compile | dpdk_mingw64_compile | +=====================+===================+====================+=========================+======================+ | Windows Server 2022 | PASS | SKIPPED | PASS | PASS | +---------------------+-------------------+--------------------+-------------------------+----------------------+ | FreeBSD 14.2 | SKIPPED | PASS | SKIPPED | SKIPPED | +---------------------+-------------------+--------------------+-------------------------+----------------------+ | Ubuntu 20.04 | SKIPPED | PASS | SKIPPED | SKIPPED | +---------------------+-------------------+--------------------+-------------------------+----------------------+ Windows Server 2022 Kernel: 10.0.20348.2031 Compiler: clang 15.0.7, gcc 14.1.0 (MinGW), and MSVC VS 19.39.33521 FreeBSD 14.2 Kernel: 14.2-RELEASE Compiler: clang 18.1.6 Ubuntu 20.04 Kernel: 4.19 Compiler: gcc gcc (Ubuntu 9.4.0-1ubuntu1~20.04.2) 9.4.0 To view detailed results, visit: https://lab.dpdk.org/results/dashboard/tarballs/35083/ UNH-IOL DPDK Community Lab To manage your email subscriptions, visit: https://lab.dpdk.org/results/dashboard/preferences/subscriptions/