From mboxrd@z Thu Jan 1 00:00:00 1970 Return-Path: Received: from mails.dpdk.org (mails.dpdk.org [217.70.189.124]) by inbox.dpdk.org (Postfix) with ESMTP id 4B97C48889 for ; Thu, 2 Oct 2025 06:24:04 +0200 (CEST) Received: from mails.dpdk.org (localhost [127.0.0.1]) by mails.dpdk.org (Postfix) with ESMTP id 438EF40687; Thu, 2 Oct 2025 06:24:04 +0200 (CEST) Received: from mail-io1-f98.google.com (mail-io1-f98.google.com [209.85.166.98]) by mails.dpdk.org (Postfix) with ESMTP id 6D2F640687 for ; Thu, 2 Oct 2025 06:24:02 +0200 (CEST) Received: by mail-io1-f98.google.com with SMTP id ca18e2360f4ac-9379a062ca8so17962439f.2 for ; Wed, 01 Oct 2025 21:24:02 -0700 (PDT) DKIM-Signature: v=1; a=rsa-sha256; c=relaxed/relaxed; d=iol.unh.edu; s=unh-iol; t=1759379042; x=1759983842; darn=dpdk.org; h=cc:to:from:subject:message-id:date:from:to:cc:subject:date :message-id:reply-to; bh=457xdE/SvmjZnK9XCiR2tStTLoxi+t18+jW3DqbU6Fo=; b=hpK7Q53SclH9DtQNsDAB6hgZjs2TrhwEA525kcq+OakaoD3w4b6JYzBAJ85dZ0qPdn MmjGS5DjNBaQzrSNCV7CHBt97vHgYDoP1jsalvTGVGsH38OBKTERnYSNgdNNquBRxFuG QkRGBqfIJQyhkiFpMzC7TykQqwpdJ5vADnv0Y= X-Google-DKIM-Signature: v=1; a=rsa-sha256; c=relaxed/relaxed; d=1e100.net; s=20230601; t=1759379042; x=1759983842; h=cc:to:from:subject:message-id:date:x-gm-message-state:from:to:cc :subject:date:message-id:reply-to; bh=457xdE/SvmjZnK9XCiR2tStTLoxi+t18+jW3DqbU6Fo=; b=nMH7ec5mAYhfJf/hiKqw7IsT95XpIh7lX0r25JPwDd5seHjKPa2WW+er1tOofvr8Vk hVmtXxkz8c8Tsrt97eP3RrF06mGAi2BhuvdlSfB6J8RjXYMFqHJW5WI3ZppHBhlFHxqo QNp+5yNwR7ZXNfmLXN+t/q4c7XWCUQrw9hhp42CxbpFGEYHiwCoelan0UGDKFPZF2ZEh fOAHX1jFN2UdHMT7ETGr4EpCABOnGB+OHDYxOCFY7XHvN/h7c0pxdNNEIK3yXXcBcw/w 6a4uW3mJLXW+/stfeMtdibuEGp7C+RljsjDLOBm0kIgxwQjC/uM69cX0JDMjUV+W3SoB x1vw== X-Gm-Message-State: AOJu0Yz1kXTOZW18yrxKknShbZO2bn82A4VSurGTGTvn7k6fCin22FfB RCFVN2tgp+5Z3wNWKuFS5IF0UpJbQ/IXrSvBhTmK5S6t7uXSkiIl2+sk19vXTqdSWuQG/2H3Aga +8t9n0UB7SPAcCzbNrHe+Jasudym13SnFDntdmDeAeXFFsD6q2JtC X-Gm-Gg: ASbGncuTclTBBOxcOHVsWDFMtQzmEvyVTXPFPD9F4LuTpV7LtmhAcnDiXV2Hig4h2Yu W9ro8KHZPH0KUj+ZXAAWmuVqDh3SOkxokt69pt4Pje5opR+ohot4BqLOAq8xx4DS30vU4o2zqa1 9czJ6e/4urZ2LjiVMlC+k358qIPFNbPqf6O3vLVdi1y2fS/ybpvpNLE4rkUaaxbMyxeHcY/WxKT U1ed0FIEXn/JUHzDwN7KwKQMEs2VE1fAkoD9Fry4kErg04mRhSB6cBoR3jyL88uuJ3IB93BhL61 aS8z4wnS+O6NRLiEcdMo0obSewQfoU2U3O2Eo6ed8O46BQEbn0cq9u0= X-Google-Smtp-Source: AGHT+IH1HAP5iV1DRrPgzdB8qeVv+f8ieJVeCguqaOY6daR+6bJcdQL9BbFMwT+K7/6tQMayCcfvXBeixWsU X-Received: by 2002:a92:c248:0:b0:428:24b4:42d3 with SMTP id e9e14a558f8ab-42d81677203mr74356845ab.15.1759379041792; Wed, 01 Oct 2025 21:24:01 -0700 (PDT) Received: from postal.iol.unh.edu (postal.iol.unh.edu. [2606:4100:3880:1234::84]) by smtp-relay.gmail.com with ESMTPS id e9e14a558f8ab-42d8b29f8f7sm1061975ab.41.2025.10.01.21.24.01 (version=TLS1_2 cipher=ECDHE-ECDSA-AES128-GCM-SHA256 bits=128/128); Wed, 01 Oct 2025 21:24:01 -0700 (PDT) X-Relaying-Domain: iol.unh.edu Date: Wed, 01 Oct 2025 21:24:01 -0700 (PDT) Message-ID: <68ddfe61.920a0220.fb3a8.6b63SMTPIN_ADDED_MISSING@mx.google.com> Received: from [172.21.0.2] (unknown [172.18.0.240]) by postal.iol.unh.edu (Postfix) with ESMTP id 26A366051830; Thu, 2 Oct 2025 00:24:01 -0400 (EDT) Subject: |SUCCESS| [GIT MASTER] 62f583c49bf67dd4d6733ece14e55fe6839e66d1 From: dpdklab@iol.unh.edu To: Test Report Cc: dpdk-test-reports@iol.unh.edu, Xueming Li , Christian Ehrhardt , Kevin Traynor , Luca Boccassi Content-Type: text/plain X-BeenThere: test-report@dpdk.org X-Mailman-Version: 2.1.29 Precedence: list List-Id: automatic DPDK test reports List-Unsubscribe: , List-Archive: List-Post: List-Help: List-Subscribe: , Errors-To: test-report-bounces@dpdk.org _Testing PASS_ Branch: tags/v23.11 62f583c49bf67dd4d6733ece14e55fe6839e66d1 --> testing pass Upstream job id: Generic-VM-DPDK-Compile-Meson#38739 Test environment and result as below: +---------------------+--------------------+-------------------+ | Environment | dpdk_meson_compile | dpdk_msvc_compile | +=====================+====================+===================+ | Ubuntu 20.04 | PASS | SKIPPED | +---------------------+--------------------+-------------------+ | FreeBSD 14.2 | PASS | SKIPPED | +---------------------+--------------------+-------------------+ | Windows Server 2022 | SKIPPED | PASS | +---------------------+--------------------+-------------------+ Ubuntu 20.04 Kernel: 4.19 Compiler: gcc gcc (Ubuntu 9.4.0-1ubuntu1~20.04.2) 9.4.0 FreeBSD 14.2 Kernel: 14.2-RELEASE Compiler: clang 18.1.6 Windows Server 2022 Kernel: 10.0.20348.2031 Compiler: clang 15.0.7, gcc 14.1.0 (MinGW), and MSVC VS 19.39.33521 To view detailed results, visit: https://lab.dpdk.org/results/dashboard/tarballs/35084/ UNH-IOL DPDK Community Lab To manage your email subscriptions, visit: https://lab.dpdk.org/results/dashboard/preferences/subscriptions/