From mboxrd@z Thu Jan 1 00:00:00 1970 Return-Path: Received: from mails.dpdk.org (mails.dpdk.org [217.70.189.124]) by inbox.dpdk.org (Postfix) with ESMTP id 8E0F248889 for ; Thu, 2 Oct 2025 06:25:15 +0200 (CEST) Received: from mails.dpdk.org (localhost [127.0.0.1]) by mails.dpdk.org (Postfix) with ESMTP id 838F640687; Thu, 2 Oct 2025 06:25:15 +0200 (CEST) Received: from mail-pf1-f228.google.com (mail-pf1-f228.google.com [209.85.210.228]) by mails.dpdk.org (Postfix) with ESMTP id 0359540687 for ; Thu, 2 Oct 2025 06:25:14 +0200 (CEST) Received: by mail-pf1-f228.google.com with SMTP id d2e1a72fcca58-781997d195aso493405b3a.3 for ; Wed, 01 Oct 2025 21:25:13 -0700 (PDT) DKIM-Signature: v=1; a=rsa-sha256; c=relaxed/relaxed; d=iol.unh.edu; s=unh-iol; t=1759379113; x=1759983913; darn=dpdk.org; h=cc:to:from:subject:message-id:date:from:to:cc:subject:date :message-id:reply-to; bh=ItAdudLx0ftpRlemswz9P6HO/aO+R3/XbKw6veKbUqU=; b=LC/AaIjtZn55YiBuE+5GdUvVu/CE/jDIS1dxQrv6+fKCXFGq3HepCZ3V8NA7Muc42E 8mRltQbCQlLzgMZe/M7yk8P/9rdCcV9h/SUxZHjPLEaxJ5mhBXBe62+3kmmTZYTOAAdj /aWP0wD6s/DAdmfeeeU/fHPTmGlTOeabAEkB8= X-Google-DKIM-Signature: v=1; a=rsa-sha256; c=relaxed/relaxed; d=1e100.net; s=20230601; t=1759379113; x=1759983913; h=cc:to:from:subject:message-id:date:x-gm-message-state:from:to:cc :subject:date:message-id:reply-to; bh=ItAdudLx0ftpRlemswz9P6HO/aO+R3/XbKw6veKbUqU=; b=hmCSYBOAtD/HgbjsRKllwspQjgZSVFTk3ZQn34+Xwa7RtvreYr/BsbtW9SFuvSAElS Ma/h68WMGAwycUz4LQDPL170obyJhmHcN4z2xluqZseEuIq/RIMpsN6CcKnS9P8Ydn4z IllYjddzkTF7NtFUGTbFJTTsFuiaDqTNYDJ2vZi6aTqrwj/FPVcVVZcK9MNfhiJap5vw gyHZ9V7lCsYrX7D28eFf8+Qnkmxwwhfxvhqt0gTwlTakIRd3/0xRdeyH+Fr5ZQ7UzS3y YfxmYanZBrUbfsi+DKcJy2ENsBspnjqsqop/LkGuCciokxt4TTjw9rLyYH35Faq/HTXp h1+g== X-Gm-Message-State: AOJu0Ywz2dSqKhJ7X9InQuHLr9s1GcfoJXGj7geR2IpIArNOccXDp/Uy Hu9JpcDf2LB7NWPfDkl3C+euwFTHgZFPcHGJhnLRpBCd9cRPTb4VEMiXpKvjgxO3lMpTZt0EO3k Vc5uFVgaWyvBkd2TA4l0e/NhuHto3tnup3RP8+gVqX+lMo4WHpehh X-Gm-Gg: ASbGncsH0M1hzzF7jO1Hf3KUQaD/3FmXkvOwoyROWtsUdVgK9RsnGZf5SsyAAZj6jpN Tvamx7rohq+8cETGBTTjEms/AtgfCBQd7e/nzzS5S4Z4I7ECIAHn/KGjxoCeMS20A1AZs4khzdP v0fqS0d9uMf6nco8rzLyUdesybxd3fj578XEzA7c8/a88ESok5vEH6PMtpGMbBRxt5ZGSCZWej5 cW5svUWz2+u71QmIeKvoTbxDz74nklJKRE8DVbHJNSO9EorYmpi8TpQyaLURlKWo9sFlw2Q8zJc pRuLXEBqVbGb0wfaVoQgVfz1W/5chmzp0zS2FY+gmokONbBu1IDpcRI= X-Google-Smtp-Source: AGHT+IG+B0w4xbj6fij0HO4ScAmsNT2uis+C5eZRxSOG4vmieTnFygKigQ6B1Ya6AztAubaJwbPzFDyDmp08 X-Received: by 2002:a05:6a00:13a4:b0:781:1660:76c3 with SMTP id d2e1a72fcca58-78af3fe98d2mr7334445b3a.6.1759379113089; Wed, 01 Oct 2025 21:25:13 -0700 (PDT) Received: from postal.iol.unh.edu (postal.iol.unh.edu. [2606:4100:3880:1234::84]) by smtp-relay.gmail.com with ESMTPS id d2e1a72fcca58-78b01f92995sm109119b3a.3.2025.10.01.21.25.12 (version=TLS1_2 cipher=ECDHE-ECDSA-AES128-GCM-SHA256 bits=128/128); Wed, 01 Oct 2025 21:25:13 -0700 (PDT) X-Relaying-Domain: iol.unh.edu Date: Wed, 01 Oct 2025 21:25:13 -0700 (PDT) Message-ID: <68ddfea9.050a0220.1bceb6.701fSMTPIN_ADDED_MISSING@mx.google.com> Received: from [172.21.0.3] (unknown [172.18.0.240]) by postal.iol.unh.edu (Postfix) with ESMTP id 1B0336051830; Thu, 2 Oct 2025 00:25:12 -0400 (EDT) Subject: |SUCCESS| [GIT MASTER] b287e404643aeab5bb5db084c142789df187844e From: dpdklab@iol.unh.edu To: Test Report Cc: dpdk-test-reports@iol.unh.edu, Xueming Li , Christian Ehrhardt , Kevin Traynor , Luca Boccassi Content-Type: text/plain X-BeenThere: test-report@dpdk.org X-Mailman-Version: 2.1.29 Precedence: list List-Id: automatic DPDK test reports List-Unsubscribe: , List-Archive: List-Post: List-Help: List-Subscribe: , Errors-To: test-report-bounces@dpdk.org _Testing PASS_ Branch: tags/v24.11 b287e404643aeab5bb5db084c142789df187844e --> testing pass Upstream job id: Windows-Compile-DPDK-Native#31372 Test environment and result as below: +---------------------+-------------------+--------------------+-------------------------+----------------------+ | Environment | dpdk_msvc_compile | dpdk_meson_compile | dpdk_llvm_clang_compile | dpdk_mingw64_compile | +=====================+===================+====================+=========================+======================+ | Windows Server 2022 | PASS | SKIPPED | PASS | PASS | +---------------------+-------------------+--------------------+-------------------------+----------------------+ | FreeBSD 14.2 | SKIPPED | PASS | SKIPPED | SKIPPED | +---------------------+-------------------+--------------------+-------------------------+----------------------+ | Ubuntu 20.04 | SKIPPED | PASS | SKIPPED | SKIPPED | +---------------------+-------------------+--------------------+-------------------------+----------------------+ Windows Server 2022 Kernel: 10.0.20348.2031 Compiler: clang 15.0.7, gcc 14.1.0 (MinGW), and MSVC VS 19.39.33521 FreeBSD 14.2 Kernel: 14.2-RELEASE Compiler: clang 18.1.6 Ubuntu 20.04 Kernel: 4.19 Compiler: gcc gcc (Ubuntu 9.4.0-1ubuntu1~20.04.2) 9.4.0 To view detailed results, visit: https://lab.dpdk.org/results/dashboard/tarballs/35083/ UNH-IOL DPDK Community Lab To manage your email subscriptions, visit: https://lab.dpdk.org/results/dashboard/preferences/subscriptions/