From mboxrd@z Thu Jan 1 00:00:00 1970 Return-Path: Received: from mails.dpdk.org (mails.dpdk.org [217.70.189.124]) by inbox.dpdk.org (Postfix) with ESMTP id CCAEE48889 for ; Thu, 2 Oct 2025 06:33:48 +0200 (CEST) Received: from mails.dpdk.org (localhost [127.0.0.1]) by mails.dpdk.org (Postfix) with ESMTP id C68884068A; Thu, 2 Oct 2025 06:33:48 +0200 (CEST) Received: from mail-yx1-f97.google.com (mail-yx1-f97.google.com [74.125.224.97]) by mails.dpdk.org (Postfix) with ESMTP id 778D04068A for ; Thu, 2 Oct 2025 06:33:47 +0200 (CEST) Received: by mail-yx1-f97.google.com with SMTP id 956f58d0204a3-6352c8b683eso909214d50.2 for ; Wed, 01 Oct 2025 21:33:47 -0700 (PDT) DKIM-Signature: v=1; a=rsa-sha256; c=relaxed/relaxed; d=iol.unh.edu; s=unh-iol; t=1759379626; x=1759984426; darn=dpdk.org; h=references:in-reply-to:cc:to:from:subject:message-id:date:from:to :cc:subject:date:message-id:reply-to; bh=kTOsq9H2wTtCOucxE5jYFePPOyl1Av0W0HwPgcCrZjs=; b=WUOASDwb0OHAD9Ls3G70B2TN65a8rjJppq8yDabxAFsQsTwJ0+GPdpse4YjWXC6xwp x+zQvgiBW6t9JVL5ig93cFTKSpfvB7aKaAQ2Q3U+yYzil76QLYuy68Jozg7UeQkay8gW 6+lipViDY2f5IdMYovCtP6J3aVk6gkLpaq8X0= X-Google-DKIM-Signature: v=1; a=rsa-sha256; c=relaxed/relaxed; d=1e100.net; s=20230601; t=1759379626; x=1759984426; h=references:in-reply-to:cc:to:from:subject:message-id:date :x-gm-message-state:from:to:cc:subject:date:message-id:reply-to; bh=kTOsq9H2wTtCOucxE5jYFePPOyl1Av0W0HwPgcCrZjs=; b=WRPxZucW7z0/9L2FHMcu6XVSD1BM3TYDPVvDfdYBjQIx8GOS29Yn/PsF5pzUagQLah gwtxyzmmIU6Y734ipa2QuSvUj/0kXir82Zb02x2H0wTpO8xf+gP/CM9dVf5g7WjMy39x eGR9nk0mb3sdFBrLkiGyaTSRFRRQCTyilSGGLHACoH/k6ZR79x0svx7WIZZ6JNWSJUbF 0fDm7oZvUzv6YT7PCLuMK/8Y4nz7T7xzYiU1YTs+H9H5zUlYQDE1V159wZ/fc52FoWTO BpgL9tzUGvHoe6wX1DycoxrmDcMDN6V24JhiGxOLAiZ9vg8Ga/4cjtqpb9DOXvkLBFe/ unJw== X-Gm-Message-State: AOJu0YwSTi1VIpARruKv/6p2cxczFAgZwAzTCaUTxYgOWvj0MEvzy2Jv zw/dV930kODyQBOr+zzevsuf4ktkb8CXAVod40mTJxt+1NujZvCTsJ9xd4SxzhlTfzWRd/yuy71 qSx7bszTGvRKCBUjQSxwSHLTI3agSTLrpz5QvM1Ys93H66BpLv15qzxqYYoBW X-Gm-Gg: ASbGncvxvMhsnfu5z0GbPyog7kZ3jHpM3HRipPlNBXYLq2EHhW5pz8UfI6qyR+XXxGz c7k0Xx4r/yA2U+MJiHrETfTMgDYVeISsrF+hX2OHi++BSayxs5cEJYbGNPiTFCMvqe6NrLRvA6u PmkWiQgQ+WMWuwxvoXNHBE1aRL7tASHMioJvfaqHvV8Zcj7riTvGMbLEr0DtDVowpeplcvO8dYa b4gJZ7D3QLg2Dr655/oND2KRSK435s2S9IBVlGBBZOs4uj5+r3cHRZjvaNnDukLHiMr8okUQYQe 2Bci2rK8p+EwqlnrZdv2eYizMk64g1DccHXw+t60cMRgtcmu09GHRGI= X-Google-Smtp-Source: AGHT+IHxbHkhwfCcXZWzTbzQZaTzj4G617gxTt/ep+nYIAnsYC62Wrb7Q5/1UVnSkvGSPyUXgIsyGjuG9ZUL X-Received: by 2002:a05:690e:428a:20b0:631:559c:7417 with SMTP id 956f58d0204a3-63b6fdf0fa2mr7430007d50.0.1759379626383; Wed, 01 Oct 2025 21:33:46 -0700 (PDT) Received: from postal.iol.unh.edu (postal.iol.unh.edu. [2606:4100:3880:1234::84]) by smtp-relay.gmail.com with ESMTPS id 956f58d0204a3-63b8459e009sm62310d50.5.2025.10.01.21.33.46 (version=TLS1_2 cipher=ECDHE-ECDSA-AES128-GCM-SHA256 bits=128/128); Wed, 01 Oct 2025 21:33:46 -0700 (PDT) X-Relaying-Domain: iol.unh.edu Date: Wed, 01 Oct 2025 21:33:46 -0700 (PDT) Message-ID: <68de00aa.530a0220.6b316.3f56SMTPIN_ADDED_MISSING@mx.google.com> Received: from [172.21.0.2] (unknown [172.18.0.240]) by postal.iol.unh.edu (Postfix) with ESMTP id 016C06051830; Thu, 2 Oct 2025 00:33:46 -0400 (EDT) Subject: |SUCCESS| pw157030-157031 [PATCH] [2/2] net/hns3: print invalid MAC From: dpdklab@iol.unh.edu To: Test Report Cc: dpdk-test-reports@iol.unh.edu, Stephen Hemminger In-Reply-To: <20250929113554.2443832-3-yangxingui@huawei.com> References: <20250929113554.2443832-3-yangxingui@huawei.com> Content-Type: text/plain X-BeenThere: test-report@dpdk.org X-Mailman-Version: 2.1.29 Precedence: list List-Id: automatic DPDK test reports List-Unsubscribe: , List-Archive: List-Post: List-Help: List-Subscribe: , Errors-To: test-report-bounces@dpdk.org Test-Label: iol-compile-arm64-testing Test-Status: SUCCESS http://dpdk.org/patch/157031 _Testing PASS_ Submitter: Xingui Yang Date: Monday, September 29 2025 11:35:54 DPDK git baseline: Repo:dpdk-next-net Branch: master CommitID:c04bbd131b2c14b3049bf86d3ef367b34e6fdf1e 157030-157031 --> testing pass Upstream job id: Generic-DPDK-Compile-Meson#430306 Test environment and result as below: +------------------------------+--------------------+ | Environment | dpdk_meson_compile | +==============================+====================+ | Ubuntu 20.04 | PASS | +------------------------------+--------------------+ | Debian GNU/Linux 12 | PASS | +------------------------------+--------------------+ | CentOS Stream 10 | PASS | +------------------------------+--------------------+ | CentOS Stream 9 | PASS | +------------------------------+--------------------+ | Ubuntu 24.04 | PASS | +------------------------------+--------------------+ | Ubuntu 22.04 | PASS | +------------------------------+--------------------+ | Fedora Linux 42 | PASS | +------------------------------+--------------------+ | Red Hat Enterprise Linux 9.5 | PASS | +------------------------------+--------------------+ Ubuntu 20.04 Kernel: 5.15 Compiler: aarch64-linux-gnu-gcc gcc (Ubuntu 9.4.0-1ubuntu1~20.04.2) 9.4.0 Debian GNU/Linux 12 Kernel: 5.4 Compiler: gcc gcc (Debian 12.2.0-14+deb12u1) 12.2.0 CentOS Stream 10 Kernel: 5.4 Compiler: gcc gcc (GCC) 14.2.1 20250110 (Red Hat 14.2.1-8) CentOS Stream 9 Kernel: 5.4 Compiler: gcc gcc (GCC) 11.5.0 20240719 (Red Hat 11.5.0-11) Ubuntu 24.04 Kernel: 5.4 Compiler: gcc gcc (Ubuntu 13.3.0-6ubuntu2~24.04) 13.3.0 Ubuntu 22.04 Kernel: 5.4 Compiler: gcc gcc (Ubuntu 11.4.0-1ubuntu1~22.04) 11.4.0 Fedora Linux 42 Kernel: 5.4 Compiler: clang gcc (GCC) 15.2.1 20250808 (Red Hat 15.2.1-1) Red Hat Enterprise Linux 9.5 Kernel: 5.4 Compiler: gcc gcc (GCC) 11.5.0 20240719 (Red Hat 11.5.0-2) To view detailed results, visit: https://lab.dpdk.org/results/dashboard/patchsets/34169/ UNH-IOL DPDK Community Lab To manage your email subscriptions, visit: https://lab.dpdk.org/results/dashboard/preferences/subscriptions/