From mboxrd@z Thu Jan 1 00:00:00 1970 Return-Path: Received: from mails.dpdk.org (mails.dpdk.org [217.70.189.124]) by inbox.dpdk.org (Postfix) with ESMTP id 3345448889 for ; Thu, 2 Oct 2025 06:46:54 +0200 (CEST) Received: from mails.dpdk.org (localhost [127.0.0.1]) by mails.dpdk.org (Postfix) with ESMTP id 1A3294068A; Thu, 2 Oct 2025 06:46:54 +0200 (CEST) Received: from mail-oo1-f97.google.com (mail-oo1-f97.google.com [209.85.161.97]) by mails.dpdk.org (Postfix) with ESMTP id A1E3E4068A for ; Thu, 2 Oct 2025 06:46:52 +0200 (CEST) Received: by mail-oo1-f97.google.com with SMTP id 006d021491bc7-6401f1733d7so278916eaf.0 for ; Wed, 01 Oct 2025 21:46:52 -0700 (PDT) DKIM-Signature: v=1; a=rsa-sha256; c=relaxed/relaxed; d=iol.unh.edu; s=unh-iol; t=1759380412; x=1759985212; darn=dpdk.org; h=references:in-reply-to:cc:to:from:subject:message-id:date:from:to :cc:subject:date:message-id:reply-to; bh=JD91+8lUkXgDhkha1jBJebg7Mhy+Vv6lRYb/tXenxuk=; b=dHWZTQeXZJaVWv0SXL+Ny0os4eZPlSvQ8KL8ktqlJOwQAMr5Xr3JytkvxFbZL9UBGi MteqfVDRWREbhqeLKrUfR3hKz4qpVmjF6nQkcH/vOxNxktET+0J2ioxjUVT/CGwNxSCo MJPFxVTVLOCQxiS20M2sttDX7amXpcR8/ItR0= X-Google-DKIM-Signature: v=1; a=rsa-sha256; c=relaxed/relaxed; d=1e100.net; s=20230601; t=1759380412; x=1759985212; h=references:in-reply-to:cc:to:from:subject:message-id:date :x-gm-message-state:from:to:cc:subject:date:message-id:reply-to; bh=JD91+8lUkXgDhkha1jBJebg7Mhy+Vv6lRYb/tXenxuk=; b=lQAF7GXd6xb8iBztRQMKKN1WFv7lyNd2H9gFOtFF1gs9sGSGl/RCvpptO/a7K0nZJ3 1jE3u0xJlAmRCp1Ra1UqdBoctvXhjCVcL62zKr+U4shWU3VUuR1SpQ/SZFI+cl0jlTpv vinTuvT9EB2TM3e9cw3JfRb1+QjRZIhnLOU19MXukJJ0XsQd0ISHPef+xfXv4ixpoQyq jdhKfpchFEokDBvFQkt7X2j0Q1610xxcDubJLnO05I6BYN5yxb8n9KNsCYh7Jnu/35nX +GVh5wgYMFGEQst8JO765p8llPkrneNIBEMDJx8zq+ROshMufnOw6YKn+9s9KI2vmQXe dmsw== X-Gm-Message-State: AOJu0YxEGuQdKtNNyDdW1qKY1n3eLN/etMFRIRdvsDaoAB8bJsQe6dZ8 QMltOAfwW+wDjb9TqMeLmhxeVwwDm7FiM5fPDPQiGEoc3c35FEgOjuXryMe+jFGVilU5eRYTB0s BX4xr2SWBfuIhypJumCg0JuDoNpARIMl0noyQDbd6jMfYJFNJDKnwU98kWQ8p X-Gm-Gg: ASbGnctqf9ZXDPytSVhVguN4bTcSfLX/Nn4FcQY+uSL77rtg0zSYVlJg8YOjEsLnirY WX4Nk5L86z2b5/rYIzGsx+naIOfzV3fGT4VvTUxMJ2LqX7RCM0Uo4SEswO/Th1bQXrNzO600D+C 8js71OENlsqiAVRwJozG/TUjhdXyiILwJwSPLZwLhQNFiNASQPybfQI/EIdwB4lDVrZ8Cyi2TgJ FJ9WSHGrpN8zeuAgrT9oLthPtDc1r5Cdwz9iU4Hm0lDJEDoDA47cnFm6DYts+T+LA9QvEcFeoTm o0S7bnlksmG4Eb86C0ul421DQtcXvGL0Wqp5zK2/mCcIqqPxCaBtw84= X-Google-Smtp-Source: AGHT+IGGfOGf0j1Dd6X+jhWAA0rdhPSKqq+vqdaKKixgm8HxyB5MeqapfKhMaOu6tAZsQeYoWudkhQRndcKv X-Received: by 2002:a05:6820:50a:b0:638:7c90:247f with SMTP id 006d021491bc7-64bbeb2c75dmr3199588eaf.4.1759380411743; Wed, 01 Oct 2025 21:46:51 -0700 (PDT) Received: from postal.iol.unh.edu (postal.iol.unh.edu. [2606:4100:3880:1234::84]) by smtp-relay.gmail.com with ESMTPS id 006d021491bc7-64e160167f8sm70735eaf.0.2025.10.01.21.46.51 (version=TLS1_2 cipher=ECDHE-ECDSA-AES128-GCM-SHA256 bits=128/128); Wed, 01 Oct 2025 21:46:51 -0700 (PDT) X-Relaying-Domain: iol.unh.edu Date: Wed, 01 Oct 2025 21:46:51 -0700 (PDT) Message-ID: <68de03bb.050a0220.ac224.4929SMTPIN_ADDED_MISSING@mx.google.com> Received: from [172.21.0.2] (unknown [172.18.0.240]) by postal.iol.unh.edu (Postfix) with ESMTP id 43D206051830; Thu, 2 Oct 2025 00:46:51 -0400 (EDT) Subject: |SUCCESS| pw157028 [PATCH] event/cnxk: increase inflight buffer coun From: dpdklab@iol.unh.edu To: Test Report Cc: dpdk-test-reports@iol.unh.edu, Jerin Jacob In-Reply-To: <20250929102753.1036004-1-ktejasree@marvell.com> References: <20250929102753.1036004-1-ktejasree@marvell.com> Content-Type: text/plain X-BeenThere: test-report@dpdk.org X-Mailman-Version: 2.1.29 Precedence: list List-Id: automatic DPDK test reports List-Unsubscribe: , List-Archive: List-Post: List-Help: List-Subscribe: , Errors-To: test-report-bounces@dpdk.org Test-Label: iol-compile-arm64-testing Test-Status: SUCCESS http://dpdk.org/patch/157028 _Testing PASS_ Submitter: Tejasree Kondoj Date: Monday, September 29 2025 10:27:53 DPDK git baseline: Repo:dpdk-next-eventdev Branch: master CommitID:9e36adf88c49b437c4c5ffa46158e53d96bef82c 157028 --> testing pass Upstream job id: Generic-DPDK-Compile-Meson#430323 Test environment and result as below: +------------------------------+--------------------+ | Environment | dpdk_meson_compile | +==============================+====================+ | Ubuntu 20.04 | PASS | +------------------------------+--------------------+ | Fedora Linux 42 | PASS | +------------------------------+--------------------+ | Debian GNU/Linux 12 | PASS | +------------------------------+--------------------+ | CentOS Stream 9 | PASS | +------------------------------+--------------------+ | Red Hat Enterprise Linux 9.5 | PASS | +------------------------------+--------------------+ | Ubuntu 22.04 | PASS | +------------------------------+--------------------+ | Ubuntu 24.04 | PASS | +------------------------------+--------------------+ | CentOS Stream 10 | PASS | +------------------------------+--------------------+ Ubuntu 20.04 Kernel: 5.15 Compiler: gcc gcc (Ubuntu 9.4.0-1ubuntu1~20.04.2) 9.4.0 Fedora Linux 42 Kernel: 5.4 Compiler: gcc gcc (GCC) 15.2.1 20250808 (Red Hat 15.2.1-1) Debian GNU/Linux 12 Kernel: 5.4 Compiler: gcc gcc (Debian 12.2.0-14+deb12u1) 12.2.0 CentOS Stream 9 Kernel: 5.4 Compiler: gcc gcc (GCC) 11.5.0 20240719 (Red Hat 11.5.0-11) Red Hat Enterprise Linux 9.5 Kernel: 5.4 Compiler: gcc gcc (GCC) 11.5.0 20240719 (Red Hat 11.5.0-2) Ubuntu 22.04 Kernel: 5.4 Compiler: gcc gcc (Ubuntu 11.4.0-1ubuntu1~22.04) 11.4.0 Ubuntu 24.04 Kernel: 5.4 Compiler: gcc gcc (Ubuntu 13.3.0-6ubuntu2~24.04) 13.3.0 CentOS Stream 10 Kernel: 5.4 Compiler: gcc gcc (GCC) 14.2.1 20250110 (Red Hat 14.2.1-8) To view detailed results, visit: https://lab.dpdk.org/results/dashboard/patchsets/34168/ UNH-IOL DPDK Community Lab To manage your email subscriptions, visit: https://lab.dpdk.org/results/dashboard/preferences/subscriptions/