From mboxrd@z Thu Jan 1 00:00:00 1970 Return-Path: Received: from mails.dpdk.org (mails.dpdk.org [217.70.189.124]) by inbox.dpdk.org (Postfix) with ESMTP id 35EDA48889 for ; Thu, 2 Oct 2025 06:47:19 +0200 (CEST) Received: from mails.dpdk.org (localhost [127.0.0.1]) by mails.dpdk.org (Postfix) with ESMTP id 315814068A; Thu, 2 Oct 2025 06:47:19 +0200 (CEST) Received: from mail-yw1-f225.google.com (mail-yw1-f225.google.com [209.85.128.225]) by mails.dpdk.org (Postfix) with ESMTP id 734E94068A for ; Thu, 2 Oct 2025 06:47:18 +0200 (CEST) Received: by mail-yw1-f225.google.com with SMTP id 00721157ae682-71d71bcab69so7100387b3.0 for ; Wed, 01 Oct 2025 21:47:18 -0700 (PDT) DKIM-Signature: v=1; a=rsa-sha256; c=relaxed/relaxed; d=iol.unh.edu; s=unh-iol; t=1759380438; x=1759985238; darn=dpdk.org; h=references:in-reply-to:cc:to:from:subject:message-id:date:from:to :cc:subject:date:message-id:reply-to; bh=rF9YN8ENbeQq7zYkWnpo5nWjYRoOlgYWxhnTH3+Etgc=; b=h7wQO3qw9cjxeyha+tEd3meKk8jXQD5VqtTHfToQrBJWo/WWK4EAFNsIjxwMoNj6eE 6S6GH2ERaxAInoQRhK5f9zsYnUGZHnlYJvQioQeXrB4um9swWz3ozlDO5xkmwV031Qfj qIEQAdbT1XHaHM3wwOkjo3Z9FdmY64Sw7+lOk= X-Google-DKIM-Signature: v=1; a=rsa-sha256; c=relaxed/relaxed; d=1e100.net; s=20230601; t=1759380438; x=1759985238; h=references:in-reply-to:cc:to:from:subject:message-id:date :x-gm-message-state:from:to:cc:subject:date:message-id:reply-to; bh=rF9YN8ENbeQq7zYkWnpo5nWjYRoOlgYWxhnTH3+Etgc=; b=nhQJFaY5SeAWw/+sIbfZZ8+7BYaXdIaHojC9UZuaB79f8LU81Rm/BDliN/wO/f6+I6 aF3E6DA2bvbHyCXMTJFivh2nRwGET4u8nC4IGx0RP3cueEjcUgZRYfrASQi4rbeIsbsr 4s8k2pTUuqzV+rkPoJ4mTMcx69uMl3Fn2fcdGtxlX86QQv9YudgZKGa5B8ukPq/eCwtl 150FJzIAISPiCF+rUSo2ldX6qZu90icZg/XjLZxuLlNUk3vM1ccrt5Xmv/mnWLrDBWHp r/RGsrvlAM8Hp6d2boEk/rsr3bq+gHpZdlT1tOpNkDZdZY1a2w86Nx5177U5v+sJClgX wKJA== X-Gm-Message-State: AOJu0Ywl2FOHsuIMEqdFdNyfFvkoYvRs6Qm4Wyzx4NZPm+Dxh3N3YFn8 oeW4iXhKQDXsonxNU/Hn5DF1Xviqsu3Jyf8FrNH9tpxLqSlOiv8OLAZvpuj9wQfN2qceOclWV+c lsO/yWrDAISwAOMsxwd6Dgx2ifKSuaN6BIPDEImh+tNTCoJ4kfuBtzPlj86+Q X-Gm-Gg: ASbGncsvXojUsiiZWkCPbX0L0UMq18p9vCBjwwn8mEZ/Abf4ngYFTyUPvb57kCQAl3x iwPoj63hPCOfEfF9FsjX82wbgXGquQqsQzhKF7wVMvCMYjORPOROcDuD79ykEVYyedUc1NtNh/M Wwk7fCF7DeA4eIPcDBbwMpSO57BBtC0PGBGCF+GZJk8CF+ONu0cKeQqf0HQe6AQD1YFOHojVpHn j5n9H1x+su2/HPnAR2dJj7YEA+wFKeJlwluRYHFD0lvlfqbsAiKpcGNpzsnMGeUFoXvR3sXbNP7 +nUKofNwVWzOXFhqlS1rqJrvpq/d3XaQiFB9pQI/4QO4tPePoG7hhxA= X-Google-Smtp-Source: AGHT+IFGPkHQxrnU4WR4weZ6H5bqg66DWr14WtqxKaol8P5Ni+cb0bvZcDjBfVB4RrxPnvIgsrMOsnlrZPU3 X-Received: by 2002:a05:690c:dca:b0:74e:d990:5550 with SMTP id 00721157ae682-77f6f3cc767mr81594657b3.39.1759380437770; Wed, 01 Oct 2025 21:47:17 -0700 (PDT) Received: from postal.iol.unh.edu (postal.iol.unh.edu. [2606:4100:3880:1234::84]) by smtp-relay.gmail.com with ESMTPS id 956f58d0204a3-63b8469cdf2sm54969d50.17.2025.10.01.21.47.17 (version=TLS1_2 cipher=ECDHE-ECDSA-AES128-GCM-SHA256 bits=128/128); Wed, 01 Oct 2025 21:47:17 -0700 (PDT) X-Relaying-Domain: iol.unh.edu Date: Wed, 01 Oct 2025 21:47:17 -0700 (PDT) Message-ID: <68de03d5.530a0220.26e6a8.3742SMTPIN_ADDED_MISSING@mx.google.com> Received: from [172.21.0.2] (unknown [172.18.0.240]) by postal.iol.unh.edu (Postfix) with ESMTP id 6AFB86051830; Thu, 2 Oct 2025 00:47:17 -0400 (EDT) Subject: |SUCCESS| pw157026-157027 [PATCH] [v3,2/2] build: add backward compa From: dpdklab@iol.unh.edu To: Test Report Cc: dpdk-test-reports@iol.unh.edu In-Reply-To: <20250929100528.18365-3-ktraynor@redhat.com> References: <20250929100528.18365-3-ktraynor@redhat.com> Content-Type: text/plain X-BeenThere: test-report@dpdk.org X-Mailman-Version: 2.1.29 Precedence: list List-Id: automatic DPDK test reports List-Unsubscribe: , List-Archive: List-Post: List-Help: List-Subscribe: , Errors-To: test-report-bounces@dpdk.org Test-Label: iol-compile-arm64-testing Test-Status: SUCCESS http://dpdk.org/patch/157027 _Testing PASS_ Submitter: Kevin Traynor Date: Monday, September 29 2025 10:05:28 DPDK git baseline: Repo:dpdk Branch: master CommitID:1d627ea13aeec2bcccf27246e6be2508370d171e 157026-157027 --> testing pass Upstream job id: Generic-DPDK-Compile-Meson#430334 Test environment and result as below: +------------------------------+--------------------+ | Environment | dpdk_meson_compile | +==============================+====================+ | Ubuntu 20.04 | PASS | +------------------------------+--------------------+ | Fedora Linux 42 | PASS | +------------------------------+--------------------+ | Red Hat Enterprise Linux 9.5 | PASS | +------------------------------+--------------------+ | Debian GNU/Linux 12 | PASS | +------------------------------+--------------------+ | Ubuntu 22.04 | PASS | +------------------------------+--------------------+ | Ubuntu 24.04 | PASS | +------------------------------+--------------------+ | CentOS Stream 9 | PASS | +------------------------------+--------------------+ | CentOS Stream 10 | PASS | +------------------------------+--------------------+ Ubuntu 20.04 Kernel: 5.15 Compiler: aarch64-linux-gnu-gcc gcc (Ubuntu 9.4.0-1ubuntu1~20.04.2) 9.4.0 Fedora Linux 42 Kernel: 5.4 Compiler: gcc gcc (GCC) 15.2.1 20250808 (Red Hat 15.2.1-1) Red Hat Enterprise Linux 9.5 Kernel: 5.4 Compiler: gcc gcc (GCC) 11.5.0 20240719 (Red Hat 11.5.0-2) Debian GNU/Linux 12 Kernel: 5.4 Compiler: gcc gcc (Debian 12.2.0-14+deb12u1) 12.2.0 Ubuntu 22.04 Kernel: 5.4 Compiler: gcc gcc (Ubuntu 11.4.0-1ubuntu1~22.04) 11.4.0 Ubuntu 24.04 Kernel: 5.4 Compiler: gcc gcc (Ubuntu 13.3.0-6ubuntu2~24.04) 13.3.0 CentOS Stream 9 Kernel: 5.4 Compiler: gcc gcc (GCC) 11.5.0 20240719 (Red Hat 11.5.0-11) CentOS Stream 10 Kernel: 5.4 Compiler: gcc gcc (GCC) 14.2.1 20250110 (Red Hat 14.2.1-8) To view detailed results, visit: https://lab.dpdk.org/results/dashboard/patchsets/34167/ UNH-IOL DPDK Community Lab To manage your email subscriptions, visit: https://lab.dpdk.org/results/dashboard/preferences/subscriptions/