From mboxrd@z Thu Jan 1 00:00:00 1970 Return-Path: Received: from mails.dpdk.org (mails.dpdk.org [217.70.189.124]) by inbox.dpdk.org (Postfix) with ESMTP id 512AD48889 for ; Thu, 2 Oct 2025 06:48:07 +0200 (CEST) Received: from mails.dpdk.org (localhost [127.0.0.1]) by mails.dpdk.org (Postfix) with ESMTP id 4AC994068A; Thu, 2 Oct 2025 06:48:07 +0200 (CEST) Received: from mail-pj1-f97.google.com (mail-pj1-f97.google.com [209.85.216.97]) by mails.dpdk.org (Postfix) with ESMTP id B11354068A for ; Thu, 2 Oct 2025 06:48:05 +0200 (CEST) Received: by mail-pj1-f97.google.com with SMTP id 98e67ed59e1d1-329a41dc2ebso717201a91.3 for ; Wed, 01 Oct 2025 21:48:05 -0700 (PDT) DKIM-Signature: v=1; a=rsa-sha256; c=relaxed/relaxed; d=iol.unh.edu; s=unh-iol; t=1759380485; x=1759985285; darn=dpdk.org; h=references:in-reply-to:cc:to:from:subject:message-id:date:from:to :cc:subject:date:message-id:reply-to; bh=51Vb2i/FUb531DFsIi05U5qL4zVnl8vDRqQDejJeAA8=; b=Gi+WIp3s7cwYTC1NP6uvq53IYvs8ohHk231m878E7yIBQ0TNUFbpNf65RMx3tqKC7o sU7MHoH6txV+2qr5Vr0PSrwWSDlZnRlQS7cgZ+4ZWTVdagAi9OBNI9Bs86y6ch0rpp4y 9R0b8GR2Cz8o29qJDXr+I3HAF59bQa+lnRjvM= X-Google-DKIM-Signature: v=1; a=rsa-sha256; c=relaxed/relaxed; d=1e100.net; s=20230601; t=1759380485; x=1759985285; h=references:in-reply-to:cc:to:from:subject:message-id:date :x-gm-message-state:from:to:cc:subject:date:message-id:reply-to; bh=51Vb2i/FUb531DFsIi05U5qL4zVnl8vDRqQDejJeAA8=; b=CIuO9H1puJ8ONXeyr6THu0xjV/OhfIhfL2DR9eEmSwOJ/faxz5pZ3QmFy7HnAoGYN2 YS1b0MwsvT+1bG64cy9XUN4uZKqni5N1SUDzKkkcvUECKZlsQxJR7Rysa2Li1BaQdpMf YX/vfC6GkRZXGoa8i1HaehkLOkCQs+aO4opJxaMLq+JBBDcKvkRu3lFZofD2vQtBVsrW vnle5rpl8zTGuWd/IgR7ByxAvTVkCXII3BPQo5/uKcqC77I1gOVpepdZsw7VuYBZVr9f czhJT9ICnG81JYuq6A02KgYchivz+NwT4803exwt2MYyr+zp6fDDxmTQw7vDB+bbqST0 0BKQ== X-Gm-Message-State: AOJu0YwzmzgQvjKoC+mSOrMxwnn1rOzB/uD1fQTM6z6iA8o2cYJuPFEG rtr9fk9wszPeShwnO1bawIJ4ES77SWWkqQ6Ee79WLQGAdxtsNjIWvp97Vh3Lp8RtOlLVe/XBOXo 0y8JoiF8fhztdjqYj3Gx5DsyR2mJQsAE6nrnRCHWIkM+0M3NN+sEO5COt+pNG X-Gm-Gg: ASbGncs0N+w6sgN9wVINolag82Wv5QpGrAdVHehlTP3G5sUgRXSbCg5L/Iy3QHQ2+e7 yyssR4BpBuXPG9GnaGhAt3asFZRXRpoa/duBK3agr2EG5+kIkfa5hqhnSZs9DG2EfpdNvKhTBRK Vst+R5EVUczmvjFsvO5/vFUxEptpU4sNeW/wSEtKZmYZXDM70Vyj5pmXFOBTQZpdbb4FUjKgopn f04IGUfgb/bSdmjtV5Uj/gMtZxbLzTmoPF2cL8YzaVAtjHLfKo+mq5DHHQtQGCKdua5fj4bgEFn JsWloUkpEHBmCoVNTakmQmkXRVR2wQX/YHsCoUhkN4JuvaozSR7sJcU= X-Google-Smtp-Source: AGHT+IEE5/YoAwOWU6NRu1NAFWa/pwBCsPLPHjVs4MpUc2Nes6ZjXIyMdHyq+0D2nUNOfwkr9t7sq10C6g3C X-Received: by 2002:a17:90b:4d84:b0:330:4a1d:223c with SMTP id 98e67ed59e1d1-339a6e955e2mr7072538a91.15.1759380484665; Wed, 01 Oct 2025 21:48:04 -0700 (PDT) Received: from postal.iol.unh.edu (postal.iol.unh.edu. [2606:4100:3880:1234::84]) by smtp-relay.gmail.com with ESMTPS id 98e67ed59e1d1-339b4f06cdcsm115516a91.4.2025.10.01.21.48.04 (version=TLS1_2 cipher=ECDHE-ECDSA-AES128-GCM-SHA256 bits=128/128); Wed, 01 Oct 2025 21:48:04 -0700 (PDT) X-Relaying-Domain: iol.unh.edu Date: Wed, 01 Oct 2025 21:48:04 -0700 (PDT) Message-ID: <68de0404.170a0220.239678.7503SMTPIN_ADDED_MISSING@mx.google.com> Received: from [172.21.0.4] (unknown [172.18.0.240]) by postal.iol.unh.edu (Postfix) with ESMTP id C59EB6051830; Thu, 2 Oct 2025 00:48:03 -0400 (EDT) Subject: |SUCCESS| pw157026-157027 [PATCH] [v3,2/2] build: add backward compa From: dpdklab@iol.unh.edu To: Test Report Cc: dpdk-test-reports@iol.unh.edu In-Reply-To: <20250929100528.18365-3-ktraynor@redhat.com> References: <20250929100528.18365-3-ktraynor@redhat.com> Content-Type: text/plain X-BeenThere: test-report@dpdk.org X-Mailman-Version: 2.1.29 Precedence: list List-Id: automatic DPDK test reports List-Unsubscribe: , List-Archive: List-Post: List-Help: List-Subscribe: , Errors-To: test-report-bounces@dpdk.org Test-Label: iol-compile-arm64-testing Test-Status: SUCCESS http://dpdk.org/patch/157027 _Testing PASS_ Submitter: Kevin Traynor Date: Monday, September 29 2025 10:05:28 DPDK git baseline: Repo:dpdk Branch: master CommitID:1d627ea13aeec2bcccf27246e6be2508370d171e 157026-157027 --> testing pass Upstream job id: Generic-DPDK-Compile-Meson#430338 Test environment and result as below: +------------------------------+--------------------+ | Environment | dpdk_meson_compile | +==============================+====================+ | Ubuntu 20.04 | PASS | +------------------------------+--------------------+ | Fedora Linux 42 | PASS | +------------------------------+--------------------+ | Red Hat Enterprise Linux 9.5 | PASS | +------------------------------+--------------------+ | Debian GNU/Linux 12 | PASS | +------------------------------+--------------------+ | Ubuntu 22.04 | PASS | +------------------------------+--------------------+ | Ubuntu 24.04 | PASS | +------------------------------+--------------------+ | CentOS Stream 9 | PASS | +------------------------------+--------------------+ | CentOS Stream 10 | PASS | +------------------------------+--------------------+ Ubuntu 20.04 Kernel: 5.15 Compiler: aarch64-linux-gnu-gcc gcc (Ubuntu 9.4.0-1ubuntu1~20.04.2) 9.4.0 Fedora Linux 42 Kernel: 5.4 Compiler: gcc gcc (GCC) 15.2.1 20250808 (Red Hat 15.2.1-1) Red Hat Enterprise Linux 9.5 Kernel: 5.4 Compiler: gcc gcc (GCC) 11.5.0 20240719 (Red Hat 11.5.0-2) Debian GNU/Linux 12 Kernel: 5.4 Compiler: gcc gcc (Debian 12.2.0-14+deb12u1) 12.2.0 Ubuntu 22.04 Kernel: 5.4 Compiler: gcc gcc (Ubuntu 11.4.0-1ubuntu1~22.04) 11.4.0 Ubuntu 24.04 Kernel: 5.4 Compiler: gcc gcc (Ubuntu 13.3.0-6ubuntu2~24.04) 13.3.0 CentOS Stream 9 Kernel: 5.4 Compiler: gcc gcc (GCC) 11.5.0 20240719 (Red Hat 11.5.0-11) CentOS Stream 10 Kernel: 5.4 Compiler: gcc gcc (GCC) 14.2.1 20250110 (Red Hat 14.2.1-8) To view detailed results, visit: https://lab.dpdk.org/results/dashboard/patchsets/34167/ UNH-IOL DPDK Community Lab To manage your email subscriptions, visit: https://lab.dpdk.org/results/dashboard/preferences/subscriptions/