From mboxrd@z Thu Jan 1 00:00:00 1970 Return-Path: Received: from mails.dpdk.org (mails.dpdk.org [217.70.189.124]) by inbox.dpdk.org (Postfix) with ESMTP id D339848889 for ; Thu, 2 Oct 2025 07:55:40 +0200 (CEST) Received: from mails.dpdk.org (localhost [127.0.0.1]) by mails.dpdk.org (Postfix) with ESMTP id AD3224068A; Thu, 2 Oct 2025 07:55:40 +0200 (CEST) Received: from mail-pf1-f227.google.com (mail-pf1-f227.google.com [209.85.210.227]) by mails.dpdk.org (Postfix) with ESMTP id A4F9E4068A for ; Thu, 2 Oct 2025 07:55:39 +0200 (CEST) Received: by mail-pf1-f227.google.com with SMTP id d2e1a72fcca58-781010ff051so549393b3a.0 for ; Wed, 01 Oct 2025 22:55:39 -0700 (PDT) DKIM-Signature: v=1; a=rsa-sha256; c=relaxed/relaxed; d=iol.unh.edu; s=unh-iol; t=1759384539; x=1759989339; darn=dpdk.org; h=cc:to:from:subject:message-id:date:from:to:cc:subject:date :message-id:reply-to; bh=i3j0O2XjezvtlsFaUtQFlXjr5CSrBGmKNv0QWacYF9c=; b=AkXVQzfhs00BJM7S6z8wmI7soxcdk0mkUFRxgfvKDuTTgKj4uuN/9KufoOPiSioRe1 H2Sj/DEYqncMksMXGzzi/tkG3v94nNt353NyGbAR6t+wcvZUTFSALdDyxvevCiCWvITZ RFNCDYUN1TVptiSJbccBRetIpNyMi0coDdbpk= X-Google-DKIM-Signature: v=1; a=rsa-sha256; c=relaxed/relaxed; d=1e100.net; s=20230601; t=1759384539; x=1759989339; h=cc:to:from:subject:message-id:date:x-gm-message-state:from:to:cc :subject:date:message-id:reply-to; bh=i3j0O2XjezvtlsFaUtQFlXjr5CSrBGmKNv0QWacYF9c=; b=wcFtGEOlQ9ymskLcwglrr36nw/tWwOSLVwjSfjx7SzHlhRO9Bek7rTYni/q66jWKmd C6+nxJs2BsiK2X9vFBYd2006BOzy7tXe/mdFiu/e0l073peJL+kmH+03sE1+8wrQ9mCW Ubri14zhdwCxt8hH2t3Heqi/PXqqr5lmOQnrjveXpOMy+OHb++La4ewlUYhGCn5PfDxg gvnQUBwVGw15d7xa5yR8OeGki4uPB/s40YBSvaw/0MoxIXg59Qlleul+miAN3Lq3Btaz fxP0khqvsxrYGSoNDHOevxFUQmkSJ+RS7lpC4B8NF/EypPkVmDvcLcDp1WYMtqgnCm9e gyLw== X-Gm-Message-State: AOJu0YwxEKbYq2kQ+myj2ABd//u6fIpCQPXKsPzK3Gu/EmY9Jn3GcOuQ 2tsyrzRfzA8S0kia9R2O8SPPmfRFr8LmvojMqkqqBhQKbp99VadUKqbj8z661DuA8ER5dIn55Nm Tw20m/enjP5hL29ScmjOtO4sxNtctOi4aBkaR X-Gm-Gg: ASbGncu5FP26DaUwQIaK/KNDaj8NwtgDpSdlr0gKaOta2TFROj2P6ex3J8Gf3u6JVDH EiOwT2sEbPp83fcHeO6W25R+vJ8txeYAy+HGsyRtp9VZ9/v/ttxiETYaLxm1myPQzoz2oJFV7Ag jRTqe/rltGc52t23H6U3GhFs/gysbpjr7lt8amEaeOPfkUC8S7Nl2qq6xrSvyj7B1I2xp9OyTTS wS/Haj1FYSk3+EmoftaUUnuiAV33uCcYYBhCFOsnOEsgKzLz3dimnBevujGSvWjJgZEZKMEDxb+ kTGYLjNgLsRd/NXWCEBVBFe96uYERYWQGY7yAFB6MpybJrRzpZbqkJbJeg8OaIW7uIijbD5WUIj MDQ== X-Google-Smtp-Source: AGHT+IFgLdUz8fB6AmJ7GHEpZIyU2a22v8/KFfVS3rN70Oswf6xGIqyHt1ueYMKID5iQ2ZjmEhRfgEf2Ibzg X-Received: by 2002:a05:6a21:339b:b0:30a:84cf:6f61 with SMTP id adf61e73a8af0-321da7ed706mr8864349637.20.1759384538713; Wed, 01 Oct 2025 22:55:38 -0700 (PDT) Received: from postal.iol.unh.edu (postal.iol.unh.edu. [132.177.123.84]) by smtp-relay.gmail.com with ESMTPS id d2e1a72fcca58-78b01fa6c58sm122220b3a.6.2025.10.01.22.55.38 (version=TLS1_2 cipher=ECDHE-ECDSA-AES128-GCM-SHA256 bits=128/128); Wed, 01 Oct 2025 22:55:38 -0700 (PDT) X-Relaying-Domain: iol.unh.edu Date: Wed, 01 Oct 2025 22:55:38 -0700 (PDT) Message-ID: <68de13da.050a0220.320ce3.7bddSMTPIN_ADDED_MISSING@mx.google.com> Received: from [172.21.0.2] (unknown [172.18.0.240]) by postal.iol.unh.edu (Postfix) with ESMTP id 86C086051830; Thu, 2 Oct 2025 01:55:37 -0400 (EDT) Subject: |SUCCESS| [GIT MASTER] b287e404643aeab5bb5db084c142789df187844e From: dpdklab@iol.unh.edu To: Test Report Cc: dpdk-test-reports@iol.unh.edu, Xueming Li , Christian Ehrhardt , Kevin Traynor , Luca Boccassi Content-Type: text/plain X-BeenThere: test-report@dpdk.org X-Mailman-Version: 2.1.29 Precedence: list List-Id: automatic DPDK test reports List-Unsubscribe: , List-Archive: List-Post: List-Help: List-Subscribe: , Errors-To: test-report-bounces@dpdk.org _Testing PASS_ Branch: tags/v24.11 b287e404643aeab5bb5db084c142789df187844e --> testing pass Upstream job id: Generic-Unit-Test-DPDK#377845 Test environment and result as below: +-------------------------------+----------------+ | Environment | dpdk_unit_test | +===============================+================+ | CentOS Stream 9 | PASS | +-------------------------------+----------------+ | CentOS Stream 10 | PASS | +-------------------------------+----------------+ | Debian GNU/Linux 12 | PASS | +-------------------------------+----------------+ | Fedora Linux 40 | PASS | +-------------------------------+----------------+ | Fedora Linux 41 | PASS | +-------------------------------+----------------+ | Fedora Linux 42 | PASS | +-------------------------------+----------------+ | Red Hat Enterprise Linux 8.10 | PASS | +-------------------------------+----------------+ | Red Hat Enterprise Linux 9.5 | PASS | +-------------------------------+----------------+ | Ubuntu 20.04 | PASS | +-------------------------------+----------------+ | Ubuntu 22.04 | PASS | +-------------------------------+----------------+ | Ubuntu 24.04 | PASS | +-------------------------------+----------------+ | Windows Server 2022 | PASS | +-------------------------------+----------------+ CentOS Stream 9 Kernel: 5.15 Compiler: gcc gcc (GCC) 11.5.0 20240719 (Red Hat 11.5.0-11) CentOS Stream 10 Kernel: 5.15 Compiler: gcc gcc (GCC) 14.2.1 20250110 (Red Hat 14.2.1-8) Debian GNU/Linux 12 Kernel: 5.15 Compiler: gcc gcc (Debian 12.2.0-14+deb12u1) 12.2.0 Fedora Linux 40 Kernel: 5.15 Compiler: gcc gcc (GCC) 14.2.1 20240912 (Red Hat 14.2.1-3) Fedora Linux 41 Kernel: 5.15 Compiler: gcc gcc (GCC) 14.3.1 20250523 (Red Hat 14.3.1-1) Fedora Linux 42 Kernel: 5.15 Compiler: gcc gcc (GCC) 15.2.1 20250808 (Red Hat 15.2.1-1) Red Hat Enterprise Linux 8.10 Kernel: 5.15 Compiler: gcc gcc (GCC) 8.5.0 20210514 (Red Hat 8.5.0-22) Red Hat Enterprise Linux 9.5 Kernel: 5.15 Compiler: gcc gcc (GCC) 11.5.0 20240719 (Red Hat 11.5.0-2) Ubuntu 20.04 Kernel: 5.15 Compiler: gcc gcc (Ubuntu 9.4.0-1ubuntu1~20.04.2) 9.4.0 Ubuntu 22.04 Kernel: 5.15 Compiler: gcc gcc (Ubuntu 11.4.0-1ubuntu1~22.04) 11.4.0 Ubuntu 24.04 Kernel: 5.15 Compiler: gcc gcc (Ubuntu 13.3.0-6ubuntu2~24.04) 13.3.0 Windows Server 2022 Kernel: 10.0.20348.2031 Compiler: clang 15.0.7, gcc 14.1.0 (MinGW), and MSVC VS 19.39.33521 To view detailed results, visit: https://lab.dpdk.org/results/dashboard/tarballs/35083/ UNH-IOL DPDK Community Lab To manage your email subscriptions, visit: https://lab.dpdk.org/results/dashboard/preferences/subscriptions/