From mboxrd@z Thu Jan 1 00:00:00 1970 Return-Path: Received: from mails.dpdk.org (mails.dpdk.org [217.70.189.124]) by inbox.dpdk.org (Postfix) with ESMTP id 9463A4888D for ; Thu, 2 Oct 2025 08:38:21 +0200 (CEST) Received: from mails.dpdk.org (localhost [127.0.0.1]) by mails.dpdk.org (Postfix) with ESMTP id 63C934068A; Thu, 2 Oct 2025 08:38:21 +0200 (CEST) Received: from mail-yw1-f226.google.com (mail-yw1-f226.google.com [209.85.128.226]) by mails.dpdk.org (Postfix) with ESMTP id 246F34068A for ; Thu, 2 Oct 2025 08:38:20 +0200 (CEST) Received: by mail-yw1-f226.google.com with SMTP id 00721157ae682-71d60110772so7843657b3.0 for ; Wed, 01 Oct 2025 23:38:20 -0700 (PDT) DKIM-Signature: v=1; a=rsa-sha256; c=relaxed/relaxed; d=iol.unh.edu; s=unh-iol; t=1759387099; x=1759991899; darn=dpdk.org; h=references:in-reply-to:cc:to:from:subject:message-id:date:from:to :cc:subject:date:message-id:reply-to; bh=4XiDcT6E+FKDBZqfFxFIRtGqZkKwARLycaeore7/+gw=; b=boZgrCdaHmQDk5DsIfSZgag+CrXSldXxgBJvI5KPxjaDzxTtBPkN7s+zVg2GDyQG14 uiEVEc1CzCeX4gSwXrOnmow1e/3h0LlgoepS4VJrYcx32nltDIeWdUN3BIPKtKzhYjU6 Bp9/D/1KlCFNOsv64zrycrg9ws74vfkvhAd4c= X-Google-DKIM-Signature: v=1; a=rsa-sha256; c=relaxed/relaxed; d=1e100.net; s=20230601; t=1759387099; x=1759991899; h=references:in-reply-to:cc:to:from:subject:message-id:date :x-gm-message-state:from:to:cc:subject:date:message-id:reply-to; bh=4XiDcT6E+FKDBZqfFxFIRtGqZkKwARLycaeore7/+gw=; b=nMpFZVjpLhNRxeNH1Z75RlG7oVAViUu4Wj+4bhgWpa+GFaGSuOTp8T+kqH1x/83YLn bbjgC2l5rlW0lT0XP2klJjpJru4dZQFNacxWjDTw2u/3i/5LafIGUAP/EP27gY/GCuy3 2aOimQYetV28umY0e8Tp+u1Md6ZPYs+cSKN83bywNsgiL4RUuIRPhDP7+D0xdybQW6WQ LBDGGjl2nJJCon32A3cZwCr1stKENhgjwNpbqjYnwN0r0iz8JeGbyxXb0HvcIzTEoakx IdBMsZCgAodGsDpShlJWCxzXRuDbQRSX1dqTUxlfXmXbj2k2vWdiB6unBNYcyZ4rM0Qw r2NQ== X-Gm-Message-State: AOJu0Yw49EzivnBH4CGp8e/Q1QhHwrBRxHYBJFHwAmesChnuy73xuOmN CTvlJog1YlivxUV9e6Lgp/KEyWrpXInziyRYNubLwuTBmjUVq5rNTMjUmk0x8PlMdpoZ6oMeLmP p/9n8MioI0Fz4FKna0+wows6Z/de9VHdx9Mc8gULMnmL5NyKekN1tu0Oyq7RC X-Gm-Gg: ASbGncugGw3sVQShcreuKN5awNroR97efPALIBAbGFOV2+2bqYhR1l7Mg2ycQ4cZLEE ICL4GnMoyyUzuOUfdzPq6alQuLL+NNLI41uTGyG3I7MhllYiyi5OGZtMqOkRFoIpoGvl1QfSwvU UUgXs+42XfA+2jE+CftVG9nvonipYOMLArp8qbBo0YFCQ1ysvJIJ1tZj4orv/o/ONr1/+/ZdQme IOLBA2axChvOORNOQXpz3gk8UNnCHur65c7EOAKt3I00qvmqaV+smW2cfOXE+YBWk3JpuD0puJp 7c0s6jbymTx9jIOg3WaDMk7Kk1+TBFqrNxq3do7fD4ajdRcr8z6luAg= X-Google-Smtp-Source: AGHT+IFBukkbMaiUUWhD8uqjL7aDIaMHXFnpZDL3/jHLxXjFmdMjLgYf3pSVXRUTgWyJG21qvWldo7U1zRUz X-Received: by 2002:a05:690c:4c8b:b0:767:4209:b486 with SMTP id 00721157ae682-77f6f39e2a2mr72146457b3.30.1759387099250; Wed, 01 Oct 2025 23:38:19 -0700 (PDT) Received: from postal.iol.unh.edu (postal.iol.unh.edu. [2606:4100:3880:1234::84]) by smtp-relay.gmail.com with ESMTPS id 00721157ae682-77f81c0c39bsm816217b3.4.2025.10.01.23.38.19 (version=TLS1_2 cipher=ECDHE-ECDSA-AES128-GCM-SHA256 bits=128/128); Wed, 01 Oct 2025 23:38:19 -0700 (PDT) X-Relaying-Domain: iol.unh.edu Date: Wed, 01 Oct 2025 23:38:19 -0700 (PDT) Message-ID: <68de1ddb.050a0220.18523.52d8SMTPIN_ADDED_MISSING@mx.google.com> Received: from [172.21.0.3] (unknown [172.18.0.240]) by postal.iol.unh.edu (Postfix) with ESMTP id D50E66051830; Thu, 2 Oct 2025 02:38:18 -0400 (EDT) Subject: |SUCCESS| pw157156-157164 [PATCH] [v7,9/9] power: separate public an From: dpdklab@iol.unh.edu To: Test Report Cc: dpdk-test-reports@iol.unh.edu In-Reply-To: <20251001064512.2539269-10-david.marchand@redhat.com> References: <20251001064512.2539269-10-david.marchand@redhat.com> Content-Type: text/plain X-BeenThere: test-report@dpdk.org X-Mailman-Version: 2.1.29 Precedence: list List-Id: automatic DPDK test reports List-Unsubscribe: , List-Archive: List-Post: List-Help: List-Subscribe: , Errors-To: test-report-bounces@dpdk.org Test-Label: iol-unit-arm64-testing Test-Status: SUCCESS http://dpdk.org/patch/157164 _Testing PASS_ Submitter: David Marchand Date: Wednesday, October 01 2025 06:45:11 DPDK git baseline: Repo:dpdk Branch: master CommitID:f3878b615e69a12087a6c5d212723478cfc79c31 157156-157164 --> testing pass Upstream job id: Generic-Unit-Test-DPDK#377441 Test environment and result as below: +------------------------------+----------------+--------------+---------------------------+------------------------------+ | Environment | dpdk_unit_test | lpm_autotest | cryptodev_sw_zuc_autotest | cryptodev_sw_snow3g_autotest | +==============================+================+==============+===========================+==============================+ | Ubuntu 22.04 | PASS | SKIPPED | SKIPPED | SKIPPED | +------------------------------+----------------+--------------+---------------------------+------------------------------+ | CentOS Stream 9 | PASS | SKIPPED | SKIPPED | SKIPPED | +------------------------------+----------------+--------------+---------------------------+------------------------------+ | CentOS Stream 10 | PASS | SKIPPED | SKIPPED | SKIPPED | +------------------------------+----------------+--------------+---------------------------+------------------------------+ | Debian GNU/Linux 12 | PASS | SKIPPED | SKIPPED | SKIPPED | +------------------------------+----------------+--------------+---------------------------+------------------------------+ | Fedora Linux 40 | PASS | SKIPPED | SKIPPED | SKIPPED | +------------------------------+----------------+--------------+---------------------------+------------------------------+ | Fedora Linux 42 | PASS | SKIPPED | SKIPPED | SKIPPED | +------------------------------+----------------+--------------+---------------------------+------------------------------+ | Ubuntu 20.04 | PASS | PASS | SKIPPED | SKIPPED | +------------------------------+----------------+--------------+---------------------------+------------------------------+ | Red Hat Enterprise Linux 9.5 | PASS | SKIPPED | SKIPPED | SKIPPED | +------------------------------+----------------+--------------+---------------------------+------------------------------+ | Fedora Linux 41 | PASS | SKIPPED | SKIPPED | SKIPPED | +------------------------------+----------------+--------------+---------------------------+------------------------------+ | Ubuntu 24.04 | PASS | SKIPPED | SKIPPED | SKIPPED | +------------------------------+----------------+--------------+---------------------------+------------------------------+ | Debian 12 (arm) | SKIPPED | SKIPPED | PASS | PASS | +------------------------------+----------------+--------------+---------------------------+------------------------------+ Ubuntu 22.04 Kernel: 5.15 Compiler: gcc gcc (Ubuntu 11.4.0-1ubuntu1~22.04.2) 11.4.0 CentOS Stream 9 Kernel: 5.4 Compiler: gcc gcc (GCC) 11.5.0 20240719 (Red Hat 11.5.0-11) CentOS Stream 10 Kernel: 5.4 Compiler: gcc gcc (GCC) 14.2.1 20250110 (Red Hat 14.2.1-8) Debian GNU/Linux 12 Kernel: 5.4 Compiler: gcc gcc (Debian 12.2.0-14+deb12u1) 12.2.0 Fedora Linux 40 Kernel: 5.4 Compiler: gcc gcc (GCC) 14.2.1 20240912 (Red Hat 14.2.1-3) Fedora Linux 42 Kernel: 5.4 Compiler: gcc gcc (GCC) 15.2.1 20250808 (Red Hat 15.2.1-1) Ubuntu 20.04 Kernel: 5.4 Compiler: gcc gcc (Ubuntu 9.4.0-1ubuntu1~20.04.2) 9.4.0 Red Hat Enterprise Linux 9.5 Kernel: 5.4 Compiler: gcc gcc (GCC) 11.5.0 20240719 (Red Hat 11.5.0-2) Fedora Linux 41 Kernel: 5.4 Compiler: clang gcc (GCC) 14.3.1 20250523 (Red Hat 14.3.1-1) Ubuntu 24.04 Kernel: 5.4 Compiler: gcc gcc (Ubuntu 13.3.0-6ubuntu2~24.04) 13.3.0 Debian 12 (arm) Kernel: Depends on container host Compiler: gcc (Debian 12.2.0-14) 12.2.0 To view detailed results, visit: https://lab.dpdk.org/results/dashboard/patchsets/34188/ UNH-IOL DPDK Community Lab To manage your email subscriptions, visit: https://lab.dpdk.org/results/dashboard/preferences/subscriptions/