From mboxrd@z Thu Jan 1 00:00:00 1970 Return-Path: Received: from mails.dpdk.org (mails.dpdk.org [217.70.189.124]) by inbox.dpdk.org (Postfix) with ESMTP id 6060F4888D for ; Thu, 2 Oct 2025 09:59:09 +0200 (CEST) Received: from mails.dpdk.org (localhost [127.0.0.1]) by mails.dpdk.org (Postfix) with ESMTP id 3EFC140262; Thu, 2 Oct 2025 09:59:09 +0200 (CEST) Received: from mail-pl1-f228.google.com (mail-pl1-f228.google.com [209.85.214.228]) by mails.dpdk.org (Postfix) with ESMTP id 9873C40262 for ; Thu, 2 Oct 2025 09:59:08 +0200 (CEST) Received: by mail-pl1-f228.google.com with SMTP id d9443c01a7336-27eed7bdfeeso9400605ad.0 for ; Thu, 02 Oct 2025 00:59:08 -0700 (PDT) DKIM-Signature: v=1; a=rsa-sha256; c=relaxed/relaxed; d=iol.unh.edu; s=unh-iol; t=1759391947; x=1759996747; darn=dpdk.org; h=references:in-reply-to:cc:to:from:subject:message-id:date:from:to :cc:subject:date:message-id:reply-to; bh=pRHr9O7W/VtFgU8AVcp+YCsxJBGBeU7VJHLYkO4F6J4=; b=NsTk5/pC19OyJ5aFfAn1vgXMjmFI1xwwWmYy3dxeUIXKY27W3JGgF4m7RgNIoF5D6H 4Yb28wNroXscZUL40y3RtEZC0qf7jY70lFcwiFXiGIYxUiXQ4BxXLHjsWJGa0jsPTedl jqWPX0LVIIKUhpaunCWW2B9dYAcKndWzvqygg= X-Google-DKIM-Signature: v=1; a=rsa-sha256; c=relaxed/relaxed; d=1e100.net; s=20230601; t=1759391947; x=1759996747; h=references:in-reply-to:cc:to:from:subject:message-id:date :x-gm-message-state:from:to:cc:subject:date:message-id:reply-to; bh=pRHr9O7W/VtFgU8AVcp+YCsxJBGBeU7VJHLYkO4F6J4=; b=Yv/v91+6Ppd7tb+1LQ0+SK+/ef1y5conMruXuQgu12pXn50QgX+4HFR7QT4UVFdfE+ QMNQqOJsUTYx62uY0ffeYA6J5zFZMs82EbNzs32kAgidZRDIROvzyYYAdNewHiMM/Qm2 9Dy609hHtmsv4COY6tQKBmm67DnnROMAfhJK1jANMrNedBQYfumf5QfsBROPUqrlVEn+ zSS2n0YwCEwdjUJGqwtkABo7B1cekuEr8SETA3BOLhl3HazWBZzlKrLLGsGWs4L+dNrT npT7Aoo64l7aD5eQPyqkAmhIGEoHGA9X9Cl/W4XqPWdUl9mU94EfEbESKkthCjg/tq9A XS3A== X-Gm-Message-State: AOJu0YxNkSTBy6u0fqqQ56gbJVjQAAlm3ofn1RNd1E7oWfHwrulpruNT xA2B0mP5lhqdWrt432Aq89vLo02eOdNqYrGaXHhixqiyZbk6OcDGToHCN3kbiqK8UP2HZXX65H5 5mPXG7+PIFLh4HJP4q8M484VENCZF6pyMjAmPPg+3P1BZ X-Gm-Gg: ASbGncsBV15Kvy0+yVFu60uaRNjNiyrEQr3YlXf9xVpcr/bvOcy2Y3euM5qfQBdaDtN EwA3/D/c8k8j8ii8nGetraw2aiQxMNJrtJBR8SYfwXOKBqa7kQQtWBE5XgQ3oJg/mwCctj6Ppb3 UP0mxO6R4dIdrxGTi4wTunzKBeq0ulJYoXln+V1QQ7QlAIYkVXu9TVfR4bZKtQUP8bxOryPQixM bq4k8rgGApE/05ZaiZeiiVAPoxDQ6yAoUUgHbekCdrK+6wbMLh6g9xb87VaoRE8Z7cDnXyG7cTk 85TKj90rsYcLRwgOYAO4h+K+efKgNI3GBcC1m9yHnNMCCpPOQRQRJJYChKwHbEvIXl5+LDriNhF y6Q== X-Google-Smtp-Source: AGHT+IH9igMFr4vwPJx4HgCGRZOKkSyvo5iLWP3UZeSR4eUc6EPzpHtgPN90VbHidugX3m+IQQoa5byf4ibv X-Received: by 2002:a17:903:1b07:b0:27d:6cb6:f7c2 with SMTP id d9443c01a7336-28e8d057aa1mr28785055ad.17.1759391947552; Thu, 02 Oct 2025 00:59:07 -0700 (PDT) Received: from postal.iol.unh.edu (postal.iol.unh.edu. [132.177.123.84]) by smtp-relay.gmail.com with ESMTPS id d9443c01a7336-28e8d1087e7sm1223675ad.14.2025.10.02.00.59.07 (version=TLS1_2 cipher=ECDHE-ECDSA-AES128-GCM-SHA256 bits=128/128); Thu, 02 Oct 2025 00:59:07 -0700 (PDT) X-Relaying-Domain: iol.unh.edu Date: Thu, 02 Oct 2025 00:59:07 -0700 (PDT) Message-ID: <68de30cb.170a0220.362435.7759SMTPIN_ADDED_MISSING@mx.google.com> Received: from [172.21.0.2] (unknown [172.18.0.240]) by postal.iol.unh.edu (Postfix) with ESMTP id BA8AF6051830; Thu, 2 Oct 2025 03:59:06 -0400 (EDT) Subject: |SUCCESS| pw157156-157164 [PATCH] [v7,9/9] power: separate public an From: dpdklab@iol.unh.edu To: Test Report Cc: dpdk-test-reports@iol.unh.edu In-Reply-To: <20251001064512.2539269-10-david.marchand@redhat.com> References: <20251001064512.2539269-10-david.marchand@redhat.com> Content-Type: text/plain X-BeenThere: test-report@dpdk.org X-Mailman-Version: 2.1.29 Precedence: list List-Id: automatic DPDK test reports List-Unsubscribe: , List-Archive: List-Post: List-Help: List-Subscribe: , Errors-To: test-report-bounces@dpdk.org Test-Label: iol-compile-amd64-testing Test-Status: SUCCESS http://dpdk.org/patch/157164 _Testing PASS_ Submitter: David Marchand Date: Wednesday, October 01 2025 06:45:11 DPDK git baseline: Repo:dpdk Branch: master CommitID:f3878b615e69a12087a6c5d212723478cfc79c31 157156-157164 --> testing pass Upstream job id: Generic-DPDK-Compile-Meson#430396 Test environment and result as below: +---------------------+-------------------------+--------------------+-------------------+----------------------+-------------------+ | Environment | dpdk_llvm_clang_compile | dpdk_meson_compile | dpdk_msvc_compile | dpdk_mingw64_compile | dpdk_compile_spdk | +=====================+=========================+====================+===================+======================+===================+ | Windows Server 2022 | PASS | SKIPPED | PASS | PASS | SKIPPED | +---------------------+-------------------------+--------------------+-------------------+----------------------+-------------------+ | Ubuntu 20.04 | SKIPPED | PASS | SKIPPED | SKIPPED | SKIPPED | +---------------------+-------------------------+--------------------+-------------------+----------------------+-------------------+ | FreeBSD 14.2 | SKIPPED | PASS | SKIPPED | SKIPPED | SKIPPED | +---------------------+-------------------------+--------------------+-------------------+----------------------+-------------------+ | CentOS Stream 9 | SKIPPED | PASS | SKIPPED | SKIPPED | PASS | +---------------------+-------------------------+--------------------+-------------------+----------------------+-------------------+ Windows Server 2022 Kernel: 10.0.20348.2031 Compiler: clang 15.0.7, gcc 14.1.0 (MinGW), and MSVC VS 19.39.33521 Ubuntu 20.04 Kernel: 4.19 Compiler: gcc gcc (Ubuntu 9.4.0-1ubuntu1~20.04.2) 9.4.0 FreeBSD 14.2 Kernel: 14.2-RELEASE Compiler: clang 18.1.6 CentOS Stream 9 Kernel: 5.15 Compiler: gcc gcc (GCC) 11.5.0 20240719 (Red Hat 11.5.0-11) To view detailed results, visit: https://lab.dpdk.org/results/dashboard/patchsets/34188/ UNH-IOL DPDK Community Lab To manage your email subscriptions, visit: https://lab.dpdk.org/results/dashboard/preferences/subscriptions/