From: dpdklab@iol.unh.edu
To: Test Report <test-report@dpdk.org>
Cc: dpdk-test-reports@iol.unh.edu
Subject: |SUCCESS| pw157016-157025 [PATCH] [v3,10/10] crypto/cnxk: fix tls mb
Date: Thu, 02 Oct 2025 03:18:51 -0700 (PDT) [thread overview]
Message-ID: <68de518b.050a0220.20cd13.6332SMTPIN_ADDED_MISSING@mx.google.com> (raw)
In-Reply-To: <20250929094353.1027744-11-ktejasree@marvell.com>
Test-Label: iol-compile-arm64-testing
Test-Status: SUCCESS
http://dpdk.org/patch/157025
_Testing PASS_
Submitter: Tejasree Kondoj <ktejasree@marvell.com>
Date: Monday, September 29 2025 09:43:53
DPDK git baseline: Repo:dpdk
Branch: master
CommitID:1d627ea13aeec2bcccf27246e6be2508370d171e
157016-157025 --> testing pass
Upstream job id: Generic-DPDK-Compile-Meson#430351
Test environment and result as below:
+------------------------------+--------------------+
| Environment | dpdk_meson_compile |
+==============================+====================+
| Ubuntu 20.04 | PASS |
+------------------------------+--------------------+
| Debian GNU/Linux 12 | PASS |
+------------------------------+--------------------+
| Fedora Linux 42 | PASS |
+------------------------------+--------------------+
| Red Hat Enterprise Linux 9.5 | PASS |
+------------------------------+--------------------+
| Ubuntu 24.04 | PASS |
+------------------------------+--------------------+
| CentOS Stream 9 | PASS |
+------------------------------+--------------------+
| CentOS Stream 10 | PASS |
+------------------------------+--------------------+
| Ubuntu 22.04 | PASS |
+------------------------------+--------------------+
Ubuntu 20.04
Kernel: 5.4
Compiler: gcc gcc (Ubuntu 9.4.0-1ubuntu1~20.04.2) 9.4.0
Debian GNU/Linux 12
Kernel: 5.4
Compiler: gcc gcc (Debian 12.2.0-14+deb12u1) 12.2.0
Fedora Linux 42
Kernel: 5.4
Compiler: gcc gcc (GCC) 15.2.1 20250808 (Red Hat 15.2.1-1)
Red Hat Enterprise Linux 9.5
Kernel: 5.4
Compiler: gcc gcc (GCC) 11.5.0 20240719 (Red Hat 11.5.0-2)
Ubuntu 24.04
Kernel: 5.4
Compiler: gcc gcc (Ubuntu 13.3.0-6ubuntu2~24.04) 13.3.0
CentOS Stream 9
Kernel: 5.4
Compiler: gcc gcc (GCC) 11.5.0 20240719 (Red Hat 11.5.0-11)
CentOS Stream 10
Kernel: 5.4
Compiler: gcc gcc (GCC) 14.2.1 20250110 (Red Hat 14.2.1-8)
Ubuntu 22.04
Kernel: 5.4
Compiler: gcc gcc (Ubuntu 11.4.0-1ubuntu1~22.04) 11.4.0
To view detailed results, visit:
https://lab.dpdk.org/results/dashboard/patchsets/34166/
UNH-IOL DPDK Community Lab
To manage your email subscriptions, visit:
https://lab.dpdk.org/results/dashboard/preferences/subscriptions/
prev parent reply other threads:[~2025-10-02 10:18 UTC|newest]
Thread overview: 22+ messages / expand[flat|nested] mbox.gz Atom feed top
[not found] <20250929094353.1027744-11-ktejasree@marvell.com>
2025-09-29 9:11 ` |SUCCESS| pw157016-157025 [PATCH v3 10/10] crypto/cnxk: fix tls mbuf sanity failures qemudev
2025-09-29 9:16 ` qemudev
2025-09-29 9:43 ` |SUCCESS| pw157025 " checkpatch
2025-09-29 10:10 ` |PENDING| pw157016-157025 [PATCH] [v3,10/10] crypto/cnxk: fix tls mb dpdklab
2025-09-29 10:12 ` dpdklab
2025-09-29 10:13 ` |SUCCESS| " dpdklab
2025-09-29 10:17 ` dpdklab
2025-09-29 10:19 ` |PENDING| " dpdklab
2025-09-29 10:25 ` dpdklab
2025-09-29 10:30 ` |SUCCESS| " dpdklab
2025-09-29 10:32 ` dpdklab
2025-09-29 10:34 ` dpdklab
2025-09-29 10:44 ` |PENDING| " dpdklab
2025-09-29 10:47 ` |SUCCESS| " dpdklab
2025-09-29 11:03 ` dpdklab
2025-09-29 11:11 ` dpdklab
2025-09-29 11:14 ` |SUCCESS| pw157025 [PATCH v3 10/10] crypto/cnxk: fix tls mbuf sanity failures 0-day Robot
2025-09-29 11:14 ` |SUCCESS| pw157016-157025 [PATCH] [v3,10/10] crypto/cnxk: fix tls mb dpdklab
2025-09-29 11:14 ` |SUCCESS| pw157025 [PATCH v3 10/10] crypto/cnxk: fix tls mbuf sanity failures 0-day Robot
2025-09-29 11:16 ` |SUCCESS| pw157016-157025 [PATCH] [v3,10/10] crypto/cnxk: fix tls mb dpdklab
2025-09-29 11:34 ` dpdklab
2025-10-02 10:18 ` dpdklab [this message]
Reply instructions:
You may reply publicly to this message via plain-text email
using any one of the following methods:
* Save the following mbox file, import it into your mail client,
and reply-to-all from there: mbox
Avoid top-posting and favor interleaved quoting:
https://en.wikipedia.org/wiki/Posting_style#Interleaved_style
* Reply using the --to, --cc, and --in-reply-to
switches of git-send-email(1):
git send-email \
--in-reply-to=68de518b.050a0220.20cd13.6332SMTPIN_ADDED_MISSING@mx.google.com \
--to=dpdklab@iol.unh.edu \
--cc=dpdk-test-reports@iol.unh.edu \
--cc=test-report@dpdk.org \
/path/to/YOUR_REPLY
https://kernel.org/pub/software/scm/git/docs/git-send-email.html
* If your mail client supports setting the In-Reply-To header
via mailto: links, try the mailto: link
Be sure your reply has a Subject: header at the top and a blank line
before the message body.
This is a public inbox, see mirroring instructions
for how to clone and mirror all data and code used for this inbox;
as well as URLs for NNTP newsgroup(s).