From mboxrd@z Thu Jan 1 00:00:00 1970 Return-Path: Received: from mails.dpdk.org (mails.dpdk.org [217.70.189.124]) by inbox.dpdk.org (Postfix) with ESMTP id 542FA48890 for ; Thu, 2 Oct 2025 12:18:53 +0200 (CEST) Received: from mails.dpdk.org (localhost [127.0.0.1]) by mails.dpdk.org (Postfix) with ESMTP id 2D208402F2; Thu, 2 Oct 2025 12:18:53 +0200 (CEST) Received: from mail-yw1-f226.google.com (mail-yw1-f226.google.com [209.85.128.226]) by mails.dpdk.org (Postfix) with ESMTP id EED3E402F2 for ; Thu, 2 Oct 2025 12:18:51 +0200 (CEST) Received: by mail-yw1-f226.google.com with SMTP id 00721157ae682-72ce9790ab3so10366007b3.1 for ; Thu, 02 Oct 2025 03:18:51 -0700 (PDT) DKIM-Signature: v=1; a=rsa-sha256; c=relaxed/relaxed; d=iol.unh.edu; s=unh-iol; t=1759400331; x=1760005131; darn=dpdk.org; h=references:in-reply-to:cc:to:from:subject:message-id:date:from:to :cc:subject:date:message-id:reply-to; bh=dNMEgDeVjS7j/vR6vR1CfFmnlRwlu2pRWGcBkmIqSVk=; b=XolGXB2nv0I+SsJHboj/qfySJ+DGMcAAcRCjI//QEFntWVCW+pkCbNJcQu7W0FaPKZ lCT/mwXyywWIDGB7FhIL9HB/i6Il09gJAHpPTuYiFkRvSo2hS7bLr1aRiZGNt2cvcMio ggA7riwzc3AEoDKCcXR4W5Ch1BvdPgm0AWXMU= X-Google-DKIM-Signature: v=1; a=rsa-sha256; c=relaxed/relaxed; d=1e100.net; s=20230601; t=1759400331; x=1760005131; h=references:in-reply-to:cc:to:from:subject:message-id:date :x-gm-message-state:from:to:cc:subject:date:message-id:reply-to; bh=dNMEgDeVjS7j/vR6vR1CfFmnlRwlu2pRWGcBkmIqSVk=; b=a6RwNSPl9jme9oA0KwsHQCxUyNanD+plVKleOV4nhoXNYjpd8xFpkYJdke1qwPD57n kXspIhFGfAnUxceDOTlWPSDBMn/Vr0V20eXtx3JA6i5V7ZBSF/pSsbfaPwejDFx89a4a 2b8sR/bE2Gcw4PuOEQjizmpGQJb+PlfWsPLqq44QTXK1Hr5WgT26U7BHe1HrsPbbhtSN ygCy+pkOzzAXltrx7rlPCd/6skzMbNoJSIMLWGy6QMZqKlf4wtRa2LWSKWBFrbt0Xied dG3pj0AESJy0lM981okOkhYNZhiwYTaVQI9E1FN3Y3MjeXL5/FKYPrNWXmHIa398XqS5 dX0Q== X-Gm-Message-State: AOJu0YyCX5epAtOBe/y7gV4AcQNCFgW1f3tN6dqXI9pvcxcAV1LJVCxc 7PPbCPGu5HVEBx0vBnMMZVxbmOki1KX6WMxICws8TjmVX4ghXvWKZXWry14NJENaiyRJvgYE3kh l3i0ImBXzkgg1+BaOxanEtjufbT6hp5tqBpyf3YA6kZNSDQQXN1ljlJkKOR+C X-Gm-Gg: ASbGncvlwzvTEn2XXFTdyCtvBHCTl4bspr3uzgEBCMEFGoVdyhM9d86FM0OkARzBOrZ 6BzmWua2Jx8z/vVI1gAtEVEP9s4edbqzrXFH5pgQxkV3frAZouONGanJ+Zb5KHQ+keF0hRKRU10 liP6hnR8PJp0UxvLW7HTRefvqQufYFm2C9dmPLrd4kBQIwvG1hw1UZ8lb7kk5FvMG/v53TQooO2 Hsy1GH99JHuVyg7OFlvXhjFVxUJsxEXdaaNleGkxADkbYydKexcIal7C3eh5BO0+tKj2OmnDKY7 93UsgeqbnSGjKQyWhqrHN0z2VgIkCPfo0RLLXeRJB8RsDcrZXJ24xPU= X-Google-Smtp-Source: AGHT+IEM9qcPAHD3ZCBfLJGYkp9NlW56lLme7HTRAqnKkPwmLrL6SzZlquqHOmtgYfgjVp8P8qku2DTChycB X-Received: by 2002:a05:690c:23ca:b0:772:5ad9:3bf8 with SMTP id 00721157ae682-77f6f398a88mr89112247b3.51.1759400331165; Thu, 02 Oct 2025 03:18:51 -0700 (PDT) Received: from postal.iol.unh.edu (postal.iol.unh.edu. [2606:4100:3880:1234::84]) by smtp-relay.gmail.com with ESMTPS id 00721157ae682-77f81e4163esm1045877b3.36.2025.10.02.03.18.51 (version=TLS1_2 cipher=ECDHE-ECDSA-AES128-GCM-SHA256 bits=128/128); Thu, 02 Oct 2025 03:18:51 -0700 (PDT) X-Relaying-Domain: iol.unh.edu Date: Thu, 02 Oct 2025 03:18:51 -0700 (PDT) Message-ID: <68de518b.050a0220.20cd13.6332SMTPIN_ADDED_MISSING@mx.google.com> Received: from [172.21.0.4] (unknown [172.18.0.240]) by postal.iol.unh.edu (Postfix) with ESMTP id 893E56051830; Thu, 2 Oct 2025 06:18:50 -0400 (EDT) Subject: |SUCCESS| pw157016-157025 [PATCH] [v3,10/10] crypto/cnxk: fix tls mb From: dpdklab@iol.unh.edu To: Test Report Cc: dpdk-test-reports@iol.unh.edu In-Reply-To: <20250929094353.1027744-11-ktejasree@marvell.com> References: <20250929094353.1027744-11-ktejasree@marvell.com> Content-Type: text/plain X-BeenThere: test-report@dpdk.org X-Mailman-Version: 2.1.29 Precedence: list List-Id: automatic DPDK test reports List-Unsubscribe: , List-Archive: List-Post: List-Help: List-Subscribe: , Errors-To: test-report-bounces@dpdk.org Test-Label: iol-compile-arm64-testing Test-Status: SUCCESS http://dpdk.org/patch/157025 _Testing PASS_ Submitter: Tejasree Kondoj Date: Monday, September 29 2025 09:43:53 DPDK git baseline: Repo:dpdk Branch: master CommitID:1d627ea13aeec2bcccf27246e6be2508370d171e 157016-157025 --> testing pass Upstream job id: Generic-DPDK-Compile-Meson#430351 Test environment and result as below: +------------------------------+--------------------+ | Environment | dpdk_meson_compile | +==============================+====================+ | Ubuntu 20.04 | PASS | +------------------------------+--------------------+ | Debian GNU/Linux 12 | PASS | +------------------------------+--------------------+ | Fedora Linux 42 | PASS | +------------------------------+--------------------+ | Red Hat Enterprise Linux 9.5 | PASS | +------------------------------+--------------------+ | Ubuntu 24.04 | PASS | +------------------------------+--------------------+ | CentOS Stream 9 | PASS | +------------------------------+--------------------+ | CentOS Stream 10 | PASS | +------------------------------+--------------------+ | Ubuntu 22.04 | PASS | +------------------------------+--------------------+ Ubuntu 20.04 Kernel: 5.4 Compiler: gcc gcc (Ubuntu 9.4.0-1ubuntu1~20.04.2) 9.4.0 Debian GNU/Linux 12 Kernel: 5.4 Compiler: gcc gcc (Debian 12.2.0-14+deb12u1) 12.2.0 Fedora Linux 42 Kernel: 5.4 Compiler: gcc gcc (GCC) 15.2.1 20250808 (Red Hat 15.2.1-1) Red Hat Enterprise Linux 9.5 Kernel: 5.4 Compiler: gcc gcc (GCC) 11.5.0 20240719 (Red Hat 11.5.0-2) Ubuntu 24.04 Kernel: 5.4 Compiler: gcc gcc (Ubuntu 13.3.0-6ubuntu2~24.04) 13.3.0 CentOS Stream 9 Kernel: 5.4 Compiler: gcc gcc (GCC) 11.5.0 20240719 (Red Hat 11.5.0-11) CentOS Stream 10 Kernel: 5.4 Compiler: gcc gcc (GCC) 14.2.1 20250110 (Red Hat 14.2.1-8) Ubuntu 22.04 Kernel: 5.4 Compiler: gcc gcc (Ubuntu 11.4.0-1ubuntu1~22.04) 11.4.0 To view detailed results, visit: https://lab.dpdk.org/results/dashboard/patchsets/34166/ UNH-IOL DPDK Community Lab To manage your email subscriptions, visit: https://lab.dpdk.org/results/dashboard/preferences/subscriptions/