From mboxrd@z Thu Jan 1 00:00:00 1970 Return-Path: Received: from mails.dpdk.org (mails.dpdk.org [217.70.189.124]) by inbox.dpdk.org (Postfix) with ESMTP id 43B9B48890 for ; Thu, 2 Oct 2025 12:19:04 +0200 (CEST) Received: from mails.dpdk.org (localhost [127.0.0.1]) by mails.dpdk.org (Postfix) with ESMTP id 3DF0B402F2; Thu, 2 Oct 2025 12:19:04 +0200 (CEST) Received: from mail-yw1-f228.google.com (mail-yw1-f228.google.com [209.85.128.228]) by mails.dpdk.org (Postfix) with ESMTP id E32DB402F2 for ; Thu, 2 Oct 2025 12:19:02 +0200 (CEST) Received: by mail-yw1-f228.google.com with SMTP id 00721157ae682-72ce9790ab3so10367427b3.1 for ; Thu, 02 Oct 2025 03:19:02 -0700 (PDT) DKIM-Signature: v=1; a=rsa-sha256; c=relaxed/relaxed; d=iol.unh.edu; s=unh-iol; t=1759400342; x=1760005142; darn=dpdk.org; h=cc:to:from:subject:message-id:date:from:to:cc:subject:date :message-id:reply-to; bh=4+uYFap7zR2UXeX2H393vaprs6mjrLmlPNAEMVt3iJ0=; b=GOUXBttWeKjKI4p9pbpSKdM0hH4oVQzjUvE83BAhTc1/U3bgAB+TciQocec/GCRCy+ OwOE5F/fD/rML+AmawR09DI+SCgtXc/6c28VSiAYOckQclhe2vWJG/+OZ3YTaYaT1Zf4 C4YSkJv8eu3F984C5wVxtSs4Wi0zbCyqJU7mo= X-Google-DKIM-Signature: v=1; a=rsa-sha256; c=relaxed/relaxed; d=1e100.net; s=20230601; t=1759400342; x=1760005142; h=cc:to:from:subject:message-id:date:x-gm-message-state:from:to:cc :subject:date:message-id:reply-to; bh=4+uYFap7zR2UXeX2H393vaprs6mjrLmlPNAEMVt3iJ0=; b=Z1cs7ml8RK3T/b8/FJTbiOSrxBnu8uKCm6kaaTV4y5BFIkJ7H96DUeJokmZzWRCAu5 sgIbJm9dfHsmX5OKkXACijkmqgAW56KYdQHxyH2uAfb1/FBE+M3Ui98xd6POIeDgas5p Kb4mOsj0hhuXnFvUTnVCsJbI1GT/o1eqRRPpAkKxJnLXfv+lbJl/DJrLLB/4yyC0gpgB iGeX4ix+GluWqhcL1+x2T8tZYcDoGclP4UWWcze0CtNoNofxaEEVq/3F7zu3dPtqzfrc SnxaCy5b+pfmbj84sWgQ2BsCH+IedCgcXhkTSUWSLI/F73TQ9+43YqDSsnB9cVoEDaCi J40A== X-Gm-Message-State: AOJu0YyD/MqYtNIoRyvhBaSViCetdXYwQ0mNFiePirbUPNoaq7tvRRg8 II0h+TNojWNvAljwwdMyRvWoVi5MsAuA7HyznwzyIuyVfhQeO4JwXvpZ7i3g4NQMJ5WXRUJ4dML ChzsOujMprvoxIzxV61dxfVnQh+vkT9HN8af8mPV0r5l7FNcPymI/Wrn5zGaY X-Gm-Gg: ASbGncs3Fw0DDYRPDaMnsYM1qeS3eF78jN21iUw1kbSqgatDBKea3IEyvv6WT1c3f0s iROyOoUwT5a5cyA0BgTAKXNhDJNcpQ9cxL8q5rjaOFedecVDJ1v12v5olJL51Z249v1Tfr1Y7+6 798i3AfBagUYy5pgHFJScCTYagvTxCnMGybSIpJak4xbO27iNd/rfE1jcD1dwpEdXU1OIXllvLK ZIpRRERF4PatgK55ncbZukptDUPQZJU0lmhgN7FIJEpFSun3J0H0/s9Jm0XziMWchnc8IiUi50m BPHpyrda8eYLxqBTQpv54hfVb+J4fIAA+L/y5nhAbWCewrK8h8xSZMY= X-Google-Smtp-Source: AGHT+IGS36QtuqI4Chi70/+VLtdssf9nH1DUWP9e8K1Qm9DdTaonVbVu36FGo0hQRwvNCsSoQzMd796ezWcl X-Received: by 2002:a05:690e:430e:b0:635:4ecd:5fca with SMTP id 956f58d0204a3-63b6ff4fabbmr6440036d50.39.1759400342257; Thu, 02 Oct 2025 03:19:02 -0700 (PDT) Received: from postal.iol.unh.edu (postal.iol.unh.edu. [2606:4100:3880:1234::84]) by smtp-relay.gmail.com with ESMTPS id 956f58d0204a3-63b8469cdf2sm82751d50.17.2025.10.02.03.19.02 (version=TLS1_2 cipher=ECDHE-ECDSA-AES128-GCM-SHA256 bits=128/128); Thu, 02 Oct 2025 03:19:02 -0700 (PDT) X-Relaying-Domain: iol.unh.edu Date: Thu, 02 Oct 2025 03:19:02 -0700 (PDT) Message-ID: <68de5196.530a0220.26e6a8.4d25SMTPIN_ADDED_MISSING@mx.google.com> Received: from [172.21.0.2] (unknown [172.18.0.240]) by postal.iol.unh.edu (Postfix) with ESMTP id EB49D6051830; Thu, 2 Oct 2025 06:19:01 -0400 (EDT) Subject: |SUCCESS| [GIT MASTER] c04bbd131b2c14b3049bf86d3ef367b34e6fdf1e From: dpdklab@iol.unh.edu To: Test Report Cc: dpdk-test-reports@iol.unh.edu, Stephen Hemminger Content-Type: text/plain X-BeenThere: test-report@dpdk.org X-Mailman-Version: 2.1.29 Precedence: list List-Id: automatic DPDK test reports List-Unsubscribe: , List-Archive: List-Post: List-Help: List-Subscribe: , Errors-To: test-report-bounces@dpdk.org _Testing PASS_ Branch: dpdk-next-net c04bbd131b2c14b3049bf86d3ef367b34e6fdf1e --> testing pass Upstream job id: Generic-DPDK-Compile-Meson#430354 Test environment and result as below: +------------------------------+--------------------+ | Environment | dpdk_meson_compile | +==============================+====================+ | Ubuntu 20.04 | PASS | +------------------------------+--------------------+ | Red Hat Enterprise Linux 9.5 | PASS | +------------------------------+--------------------+ | Debian GNU/Linux 12 | PASS | +------------------------------+--------------------+ | Fedora Linux 42 | PASS | +------------------------------+--------------------+ | Ubuntu 22.04 | PASS | +------------------------------+--------------------+ | CentOS Stream 9 | PASS | +------------------------------+--------------------+ | CentOS Stream 10 | PASS | +------------------------------+--------------------+ | Ubuntu 24.04 | PASS | +------------------------------+--------------------+ Ubuntu 20.04 Kernel: 5.15 Compiler: aarch64-linux-gnu-gcc gcc (Ubuntu 9.4.0-1ubuntu1~20.04.2) 9.4.0 Red Hat Enterprise Linux 9.5 Kernel: 5.4 Compiler: gcc gcc (GCC) 11.5.0 20240719 (Red Hat 11.5.0-2) Debian GNU/Linux 12 Kernel: 5.4 Compiler: gcc gcc (Debian 12.2.0-14+deb12u1) 12.2.0 Fedora Linux 42 Kernel: 5.4 Compiler: gcc gcc (GCC) 15.2.1 20250808 (Red Hat 15.2.1-1) Ubuntu 22.04 Kernel: 5.4 Compiler: gcc gcc (Ubuntu 11.4.0-1ubuntu1~22.04) 11.4.0 CentOS Stream 9 Kernel: 5.4 Compiler: gcc gcc (GCC) 11.5.0 20240719 (Red Hat 11.5.0-11) CentOS Stream 10 Kernel: 5.4 Compiler: gcc gcc (GCC) 14.2.1 20250110 (Red Hat 14.2.1-8) Ubuntu 24.04 Kernel: 5.4 Compiler: gcc gcc (Ubuntu 13.3.0-6ubuntu2~24.04) 13.3.0 To view detailed results, visit: https://lab.dpdk.org/results/dashboard/tarballs/35041/ UNH-IOL DPDK Community Lab To manage your email subscriptions, visit: https://lab.dpdk.org/results/dashboard/preferences/subscriptions/