From mboxrd@z Thu Jan 1 00:00:00 1970 Return-Path: Received: from mails.dpdk.org (mails.dpdk.org [217.70.189.124]) by inbox.dpdk.org (Postfix) with ESMTP id 5554648890 for ; Thu, 2 Oct 2025 12:19:12 +0200 (CEST) Received: from mails.dpdk.org (localhost [127.0.0.1]) by mails.dpdk.org (Postfix) with ESMTP id 4B9AA402F2; Thu, 2 Oct 2025 12:19:12 +0200 (CEST) Received: from mail-pj1-f97.google.com (mail-pj1-f97.google.com [209.85.216.97]) by mails.dpdk.org (Postfix) with ESMTP id 0C736402F2 for ; Thu, 2 Oct 2025 12:19:11 +0200 (CEST) Received: by mail-pj1-f97.google.com with SMTP id 98e67ed59e1d1-33292adb180so931227a91.3 for ; Thu, 02 Oct 2025 03:19:10 -0700 (PDT) DKIM-Signature: v=1; a=rsa-sha256; c=relaxed/relaxed; d=iol.unh.edu; s=unh-iol; t=1759400350; x=1760005150; darn=dpdk.org; h=cc:to:from:subject:message-id:date:from:to:cc:subject:date :message-id:reply-to; bh=AyTtu0xeLXBAfjZPXvz/+hkF0GP0XYF0FWnDck4me+E=; b=MPyYroMKJSoritQQOQouZd15JWF+WnWKqwnqoO41lw24yCZavtcU4CiEdPELTx2arm E339azJUwiJlX6D8Qjx9jTJXQ9lg4AQna58rtnJEcR/uSpKb7ywp0efD9h93VFNOeCAT mS/nqaFAXlj7g1LzbzPtOe+2s9Hg7ziiWIBoA= X-Google-DKIM-Signature: v=1; a=rsa-sha256; c=relaxed/relaxed; d=1e100.net; s=20230601; t=1759400350; x=1760005150; h=cc:to:from:subject:message-id:date:x-gm-message-state:from:to:cc :subject:date:message-id:reply-to; bh=AyTtu0xeLXBAfjZPXvz/+hkF0GP0XYF0FWnDck4me+E=; b=TmbZcfmh4rDsoYpBwttcsRVXqyvx3sO4e37VK5QtrrozJxH5pRX2iCpFuUfy5Flwn0 fXskoQwZIqy/3FfYDvJHpDYJ7Jrexevstx5ROC0gy1BfBTTl1zDshKEy8K1Ix9F3MTV9 +mq3xVYmMbuf8hUFubICr0w6pohssbPAC4gfX4DQocsiv7sWTCPdiULHPNC+Aysp3KIH K9dddftZNbqAVjtBQMvpV44fJuKpwq2RheQqNGKRN1ic3sJ5oeeURHJEpdXH7zUbcvMf Pr6mQMD2SA0Oa6Q7NS9vRKTpiKvrfWyzeWGVmG/xByuYn0ffEpCwbQWODRZLSkazfYvP Iz9w== X-Gm-Message-State: AOJu0Yw+FOyziZ2EPB97MOQgLX4FFiOfbDERoSdhkZ2T1xyTUEFiWV8T g1BzLPy9ezqrl01UEw2LYElwZSv/tK4sLTOK5ZqphNfq13o+g4svB87w6oE1QdxTIguBaTt/Jgm OicBWddc1DiUHaenRlJMfoDd9fO8eNKgCZYFj87ROr0KLyZY//ralnxQCl2wT X-Gm-Gg: ASbGncvNp9+xM01pTnsLt4neC2geeOsIPMtv3RuuytXZJmTfzk0jEVkC5Y16xYtiNdl ch6imtbvup77nriopWJEVvtmwwOj0U7L44nIvgBnjSGrBQn4vSzvYboR+2pSmOsSLOD2MBBA/6K qblie5Dk6b4A+thmXL3p+xW7NBrYjkwwZz7STfOhVYJGf4di3peeqMMx00y+mTm7kqvIM6+r7nk 3dFap649DTMCVITNm8+45HHDRxLB86CQkc9IMvx4oTVxB0sT2LOn5jwEFuZcjpCeL6g9VfV7yJb 5Ci2BYeNTF41ORh6XTdKQFIsIor3zcarEvFHVYHFCowteF8XERlvU+U= X-Google-Smtp-Source: AGHT+IHsMAck6lmkUaCYULbex1G3Q3Ty4E2XfnKdQdXzCktyLAege0PL8LbP/K9ADzmtViPTv7pjwySqOnRQ X-Received: by 2002:a17:90b:1a86:b0:32e:749d:fcb6 with SMTP id 98e67ed59e1d1-339a6eac42emr9539893a91.12.1759400350173; Thu, 02 Oct 2025 03:19:10 -0700 (PDT) Received: from postal.iol.unh.edu (postal.iol.unh.edu. [2606:4100:3880:1234::84]) by smtp-relay.gmail.com with ESMTPS id 41be03b00d2f7-b6099b6ff07sm88049a12.10.2025.10.02.03.19.10 (version=TLS1_2 cipher=ECDHE-ECDSA-AES128-GCM-SHA256 bits=128/128); Thu, 02 Oct 2025 03:19:10 -0700 (PDT) X-Relaying-Domain: iol.unh.edu Date: Thu, 02 Oct 2025 03:19:10 -0700 (PDT) Message-ID: <68de519e.050a0220.3bf08e.5600SMTPIN_ADDED_MISSING@mx.google.com> Received: from [172.21.0.2] (unknown [172.18.0.240]) by postal.iol.unh.edu (Postfix) with ESMTP id 756D46051830; Thu, 2 Oct 2025 06:19:09 -0400 (EDT) Subject: |SUCCESS| [GIT MASTER] c04bbd131b2c14b3049bf86d3ef367b34e6fdf1e From: dpdklab@iol.unh.edu To: Test Report Cc: dpdk-test-reports@iol.unh.edu, Stephen Hemminger Content-Type: text/plain X-BeenThere: test-report@dpdk.org X-Mailman-Version: 2.1.29 Precedence: list List-Id: automatic DPDK test reports List-Unsubscribe: , List-Archive: List-Post: List-Help: List-Subscribe: , Errors-To: test-report-bounces@dpdk.org _Testing PASS_ Branch: dpdk-next-net c04bbd131b2c14b3049bf86d3ef367b34e6fdf1e --> testing pass Upstream job id: Generic-DPDK-Compile-Meson#430353 Test environment and result as below: +------------------------------+--------------------+ | Environment | dpdk_meson_compile | +==============================+====================+ | Ubuntu 20.04 | PASS | +------------------------------+--------------------+ | Red Hat Enterprise Linux 9.5 | PASS | +------------------------------+--------------------+ | Debian GNU/Linux 12 | PASS | +------------------------------+--------------------+ | Fedora Linux 42 | PASS | +------------------------------+--------------------+ | Ubuntu 22.04 | PASS | +------------------------------+--------------------+ | CentOS Stream 9 | PASS | +------------------------------+--------------------+ | CentOS Stream 10 | PASS | +------------------------------+--------------------+ | Ubuntu 24.04 | PASS | +------------------------------+--------------------+ Ubuntu 20.04 Kernel: 5.15 Compiler: aarch64-linux-gnu-gcc gcc (Ubuntu 9.4.0-1ubuntu1~20.04.2) 9.4.0 Red Hat Enterprise Linux 9.5 Kernel: 5.4 Compiler: gcc gcc (GCC) 11.5.0 20240719 (Red Hat 11.5.0-2) Debian GNU/Linux 12 Kernel: 5.4 Compiler: gcc gcc (Debian 12.2.0-14+deb12u1) 12.2.0 Fedora Linux 42 Kernel: 5.4 Compiler: gcc gcc (GCC) 15.2.1 20250808 (Red Hat 15.2.1-1) Ubuntu 22.04 Kernel: 5.4 Compiler: gcc gcc (Ubuntu 11.4.0-1ubuntu1~22.04) 11.4.0 CentOS Stream 9 Kernel: 5.4 Compiler: gcc gcc (GCC) 11.5.0 20240719 (Red Hat 11.5.0-11) CentOS Stream 10 Kernel: 5.4 Compiler: gcc gcc (GCC) 14.2.1 20250110 (Red Hat 14.2.1-8) Ubuntu 24.04 Kernel: 5.4 Compiler: gcc gcc (Ubuntu 13.3.0-6ubuntu2~24.04) 13.3.0 To view detailed results, visit: https://lab.dpdk.org/results/dashboard/tarballs/35041/ UNH-IOL DPDK Community Lab To manage your email subscriptions, visit: https://lab.dpdk.org/results/dashboard/preferences/subscriptions/